BEGIN:VCALENDAR
VERSION:2.0
PRODID:-//Garden Creek School - ECPv6.15.20//NONSGML v1.0//EN
CALSCALE:GREGORIAN
METHOD:PUBLISH
X-WR-CALNAME:Garden Creek School
X-ORIGINAL-URL:https://gardencreek.nbed.ca
X-WR-CALDESC:Events for Garden Creek School
REFRESH-INTERVAL;VALUE=DURATION:PT1H
X-Robots-Tag:noindex
X-PUBLISHED-TTL:PT1H
BEGIN:VTIMEZONE
TZID:America/Moncton
BEGIN:DAYLIGHT
TZOFFSETFROM:-0400
TZOFFSETTO:-0300
TZNAME:ADT
DTSTART:20250309T060000
END:DAYLIGHT
BEGIN:STANDARD
TZOFFSETFROM:-0300
TZOFFSETTO:-0400
TZNAME:AST
DTSTART:20251102T050000
END:STANDARD
BEGIN:DAYLIGHT
TZOFFSETFROM:-0400
TZOFFSETTO:-0300
TZNAME:ADT
DTSTART:20260308T060000
END:DAYLIGHT
BEGIN:STANDARD
TZOFFSETFROM:-0300
TZOFFSETTO:-0400
TZNAME:AST
DTSTART:20261101T050000
END:STANDARD
BEGIN:DAYLIGHT
TZOFFSETFROM:-0400
TZOFFSETTO:-0300
TZNAME:ADT
DTSTART:20270314T060000
END:DAYLIGHT
BEGIN:STANDARD
TZOFFSETFROM:-0300
TZOFFSETTO:-0400
TZNAME:AST
DTSTART:20271107T050000
END:STANDARD
END:VTIMEZONE
BEGIN:VEVENT
DTSTART;TZID=America/Moncton:20260423T080000
DTEND;TZID=America/Moncton:20260423T170000
DTSTAMP:20260423T033708
CREATED:20240529T132922Z
LAST-MODIFIED:20240529T132925Z
UID:10001644-1776931200-1776963600@gardencreek.nbed.ca
SUMMARY:Library Books to be returned
DESCRIPTION:
URL:https://gardencreek.nbed.ca/calendar/library-books-to-be-returned/2026-04-23/
END:VEVENT
BEGIN:VEVENT
DTSTART;TZID=America/Moncton:20260424T080000
DTEND;TZID=America/Moncton:20260424T170000
DTSTAMP:20260423T033708
CREATED:20240529T132922Z
LAST-MODIFIED:20240529T132925Z
UID:10001645-1777017600-1777050000@gardencreek.nbed.ca
SUMMARY:Library Books to be returned
DESCRIPTION:
URL:https://gardencreek.nbed.ca/calendar/library-books-to-be-returned/2026-04-24/
END:VEVENT
BEGIN:VEVENT
DTSTART;TZID=America/Moncton:20260425T080000
DTEND;TZID=America/Moncton:20260425T170000
DTSTAMP:20260423T033708
CREATED:20240529T132922Z
LAST-MODIFIED:20240529T132925Z
UID:10001646-1777104000-1777136400@gardencreek.nbed.ca
SUMMARY:Library Books to be returned
DESCRIPTION:
URL:https://gardencreek.nbed.ca/calendar/library-books-to-be-returned/2026-04-25/
END:VEVENT
BEGIN:VEVENT
DTSTART;TZID=America/Moncton:20260426T080000
DTEND;TZID=America/Moncton:20260426T170000
DTSTAMP:20260423T033708
CREATED:20240529T132922Z
LAST-MODIFIED:20240529T132925Z
UID:10001647-1777190400-1777222800@gardencreek.nbed.ca
SUMMARY:Library Books to be returned
DESCRIPTION:
URL:https://gardencreek.nbed.ca/calendar/library-books-to-be-returned/2026-04-26/
END:VEVENT
BEGIN:VEVENT
DTSTART;TZID=America/Moncton:20260427T080000
DTEND;TZID=America/Moncton:20260427T170000
DTSTAMP:20260423T033708
CREATED:20240529T132922Z
LAST-MODIFIED:20240529T132925Z
UID:10001648-1777276800-1777309200@gardencreek.nbed.ca
SUMMARY:Library Books to be returned
DESCRIPTION:
URL:https://gardencreek.nbed.ca/calendar/library-books-to-be-returned/2026-04-27/
END:VEVENT
BEGIN:VEVENT
DTSTART;TZID=America/Moncton:20260428T080000
DTEND;TZID=America/Moncton:20260428T170000
DTSTAMP:20260423T033708
CREATED:20240529T132922Z
LAST-MODIFIED:20240529T132925Z
UID:10001649-1777363200-1777395600@gardencreek.nbed.ca
SUMMARY:Library Books to be returned
DESCRIPTION:
URL:https://gardencreek.nbed.ca/calendar/library-books-to-be-returned/2026-04-28/
END:VEVENT
BEGIN:VEVENT
DTSTART;TZID=America/Moncton:20260429T080000
DTEND;TZID=America/Moncton:20260429T170000
DTSTAMP:20260423T033708
CREATED:20240529T132922Z
LAST-MODIFIED:20240529T132925Z
UID:10001650-1777449600-1777482000@gardencreek.nbed.ca
SUMMARY:Library Books to be returned
DESCRIPTION:
URL:https://gardencreek.nbed.ca/calendar/library-books-to-be-returned/2026-04-29/
END:VEVENT
BEGIN:VEVENT
DTSTART;TZID=America/Moncton:20260430T080000
DTEND;TZID=America/Moncton:20260430T170000
DTSTAMP:20260423T033708
CREATED:20240529T132922Z
LAST-MODIFIED:20240529T132925Z
UID:10001651-1777536000-1777568400@gardencreek.nbed.ca
SUMMARY:Library Books to be returned
DESCRIPTION:
URL:https://gardencreek.nbed.ca/calendar/library-books-to-be-returned/2026-04-30/
END:VEVENT
BEGIN:VEVENT
DTSTART;TZID=America/Moncton:20260501T080000
DTEND;TZID=America/Moncton:20260501T170000
DTSTAMP:20260423T033708
CREATED:20240529T132922Z
LAST-MODIFIED:20240529T132925Z
UID:10001652-1777622400-1777654800@gardencreek.nbed.ca
SUMMARY:Library Books to be returned
DESCRIPTION:
URL:https://gardencreek.nbed.ca/calendar/library-books-to-be-returned/2026-05-01/
END:VEVENT
BEGIN:VEVENT
DTSTART;TZID=America/Moncton:20260502T080000
DTEND;TZID=America/Moncton:20260502T170000
DTSTAMP:20260423T033708
CREATED:20240529T132922Z
LAST-MODIFIED:20240529T132925Z
UID:10001653-1777708800-1777741200@gardencreek.nbed.ca
SUMMARY:Library Books to be returned
DESCRIPTION:
URL:https://gardencreek.nbed.ca/calendar/library-books-to-be-returned/2026-05-02/
END:VEVENT
BEGIN:VEVENT
DTSTART;TZID=America/Moncton:20260503T080000
DTEND;TZID=America/Moncton:20260503T170000
DTSTAMP:20260423T033708
CREATED:20240529T132922Z
LAST-MODIFIED:20240529T132925Z
UID:10001654-1777795200-1777827600@gardencreek.nbed.ca
SUMMARY:Library Books to be returned
DESCRIPTION:
URL:https://gardencreek.nbed.ca/calendar/library-books-to-be-returned/2026-05-03/
END:VEVENT
BEGIN:VEVENT
DTSTART;TZID=America/Moncton:20260504T080000
DTEND;TZID=America/Moncton:20260504T170000
DTSTAMP:20260423T033708
CREATED:20240529T132922Z
LAST-MODIFIED:20240529T132925Z
UID:10001655-1777881600-1777914000@gardencreek.nbed.ca
SUMMARY:Library Books to be returned
DESCRIPTION:
URL:https://gardencreek.nbed.ca/calendar/library-books-to-be-returned/2026-05-04/
END:VEVENT
BEGIN:VEVENT
DTSTART;TZID=America/Moncton:20260505T080000
DTEND;TZID=America/Moncton:20260505T170000
DTSTAMP:20260423T033708
CREATED:20240529T132922Z
LAST-MODIFIED:20240529T132925Z
UID:10001656-1777968000-1778000400@gardencreek.nbed.ca
SUMMARY:Library Books to be returned
DESCRIPTION:
URL:https://gardencreek.nbed.ca/calendar/library-books-to-be-returned/2026-05-05/
END:VEVENT
BEGIN:VEVENT
DTSTART;TZID=America/Moncton:20260506T080000
DTEND;TZID=America/Moncton:20260506T170000
DTSTAMP:20260423T033708
CREATED:20240529T132922Z
LAST-MODIFIED:20240529T132925Z
UID:10001657-1778054400-1778086800@gardencreek.nbed.ca
SUMMARY:Library Books to be returned
DESCRIPTION:
URL:https://gardencreek.nbed.ca/calendar/library-books-to-be-returned/2026-05-06/
END:VEVENT
BEGIN:VEVENT
DTSTART;TZID=America/Moncton:20260507T080000
DTEND;TZID=America/Moncton:20260507T170000
DTSTAMP:20260423T033708
CREATED:20240529T132922Z
LAST-MODIFIED:20240529T132925Z
UID:10001658-1778140800-1778173200@gardencreek.nbed.ca
SUMMARY:Library Books to be returned
DESCRIPTION:
URL:https://gardencreek.nbed.ca/calendar/library-books-to-be-returned/2026-05-07/
END:VEVENT
BEGIN:VEVENT
DTSTART;TZID=America/Moncton:20260508T080000
DTEND;TZID=America/Moncton:20260508T170000
DTSTAMP:20260423T033708
CREATED:20240529T132922Z
LAST-MODIFIED:20240529T132925Z
UID:10001659-1778227200-1778259600@gardencreek.nbed.ca
SUMMARY:Library Books to be returned
DESCRIPTION:
URL:https://gardencreek.nbed.ca/calendar/library-books-to-be-returned/2026-05-08/
END:VEVENT
BEGIN:VEVENT
DTSTART;TZID=America/Moncton:20260509T080000
DTEND;TZID=America/Moncton:20260509T170000
DTSTAMP:20260423T033708
CREATED:20240529T132922Z
LAST-MODIFIED:20240529T132925Z
UID:10001660-1778313600-1778346000@gardencreek.nbed.ca
SUMMARY:Library Books to be returned
DESCRIPTION:
URL:https://gardencreek.nbed.ca/calendar/library-books-to-be-returned/2026-05-09/
END:VEVENT
BEGIN:VEVENT
DTSTART;TZID=America/Moncton:20260510T080000
DTEND;TZID=America/Moncton:20260510T170000
DTSTAMP:20260423T033708
CREATED:20240529T132922Z
LAST-MODIFIED:20240529T132925Z
UID:10001661-1778400000-1778432400@gardencreek.nbed.ca
SUMMARY:Library Books to be returned
DESCRIPTION:
URL:https://gardencreek.nbed.ca/calendar/library-books-to-be-returned/2026-05-10/
END:VEVENT
BEGIN:VEVENT
DTSTART;TZID=America/Moncton:20260511T080000
DTEND;TZID=America/Moncton:20260511T170000
DTSTAMP:20260423T033708
CREATED:20240529T132922Z
LAST-MODIFIED:20240529T132925Z
UID:10001662-1778486400-1778518800@gardencreek.nbed.ca
SUMMARY:Library Books to be returned
DESCRIPTION:
URL:https://gardencreek.nbed.ca/calendar/library-books-to-be-returned/2026-05-11/
END:VEVENT
BEGIN:VEVENT
DTSTART;TZID=America/Moncton:20260512T080000
DTEND;TZID=America/Moncton:20260512T170000
DTSTAMP:20260423T033708
CREATED:20240529T132922Z
LAST-MODIFIED:20240529T132925Z
UID:10001663-1778572800-1778605200@gardencreek.nbed.ca
SUMMARY:Library Books to be returned
DESCRIPTION:
URL:https://gardencreek.nbed.ca/calendar/library-books-to-be-returned/2026-05-12/
END:VEVENT
BEGIN:VEVENT
DTSTART;TZID=America/Moncton:20260513T080000
DTEND;TZID=America/Moncton:20260513T170000
DTSTAMP:20260423T033708
CREATED:20240529T132922Z
LAST-MODIFIED:20240529T132925Z
UID:10001664-1778659200-1778691600@gardencreek.nbed.ca
SUMMARY:Library Books to be returned
DESCRIPTION:
URL:https://gardencreek.nbed.ca/calendar/library-books-to-be-returned/2026-05-13/
END:VEVENT
BEGIN:VEVENT
DTSTART;TZID=America/Moncton:20260514T080000
DTEND;TZID=America/Moncton:20260514T170000
DTSTAMP:20260423T033708
CREATED:20240529T132922Z
LAST-MODIFIED:20240529T132925Z
UID:10001665-1778745600-1778778000@gardencreek.nbed.ca
SUMMARY:Library Books to be returned
DESCRIPTION:
URL:https://gardencreek.nbed.ca/calendar/library-books-to-be-returned/2026-05-14/
END:VEVENT
BEGIN:VEVENT
DTSTART;TZID=America/Moncton:20260515T080000
DTEND;TZID=America/Moncton:20260515T170000
DTSTAMP:20260423T033708
CREATED:20240529T132922Z
LAST-MODIFIED:20240529T132925Z
UID:10001666-1778832000-1778864400@gardencreek.nbed.ca
SUMMARY:Library Books to be returned
DESCRIPTION:
URL:https://gardencreek.nbed.ca/calendar/library-books-to-be-returned/2026-05-15/
END:VEVENT
BEGIN:VEVENT
DTSTART;TZID=America/Moncton:20260516T080000
DTEND;TZID=America/Moncton:20260516T170000
DTSTAMP:20260423T033708
CREATED:20240529T132922Z
LAST-MODIFIED:20240529T132925Z
UID:10001667-1778918400-1778950800@gardencreek.nbed.ca
SUMMARY:Library Books to be returned
DESCRIPTION:
URL:https://gardencreek.nbed.ca/calendar/library-books-to-be-returned/2026-05-16/
END:VEVENT
BEGIN:VEVENT
DTSTART;TZID=America/Moncton:20260517T080000
DTEND;TZID=America/Moncton:20260517T170000
DTSTAMP:20260423T033708
CREATED:20240529T132922Z
LAST-MODIFIED:20240529T132925Z
UID:10001668-1779004800-1779037200@gardencreek.nbed.ca
SUMMARY:Library Books to be returned
DESCRIPTION:
URL:https://gardencreek.nbed.ca/calendar/library-books-to-be-returned/2026-05-17/
END:VEVENT
BEGIN:VEVENT
DTSTART;TZID=America/Moncton:20260518T080000
DTEND;TZID=America/Moncton:20260518T170000
DTSTAMP:20260423T033708
CREATED:20240529T132922Z
LAST-MODIFIED:20240529T132925Z
UID:10001669-1779091200-1779123600@gardencreek.nbed.ca
SUMMARY:Library Books to be returned
DESCRIPTION:
URL:https://gardencreek.nbed.ca/calendar/library-books-to-be-returned/2026-05-18/
END:VEVENT
BEGIN:VEVENT
DTSTART;TZID=America/Moncton:20260519T080000
DTEND;TZID=America/Moncton:20260519T170000
DTSTAMP:20260423T033708
CREATED:20240529T132922Z
LAST-MODIFIED:20240529T132925Z
UID:10001670-1779177600-1779210000@gardencreek.nbed.ca
SUMMARY:Library Books to be returned
DESCRIPTION:
URL:https://gardencreek.nbed.ca/calendar/library-books-to-be-returned/2026-05-19/
END:VEVENT
BEGIN:VEVENT
DTSTART;TZID=America/Moncton:20260520T080000
DTEND;TZID=America/Moncton:20260520T170000
DTSTAMP:20260423T033708
CREATED:20240529T132922Z
LAST-MODIFIED:20240529T132925Z
UID:10001671-1779264000-1779296400@gardencreek.nbed.ca
SUMMARY:Library Books to be returned
DESCRIPTION:
URL:https://gardencreek.nbed.ca/calendar/library-books-to-be-returned/2026-05-20/
END:VEVENT
BEGIN:VEVENT
DTSTART;TZID=America/Moncton:20260521T080000
DTEND;TZID=America/Moncton:20260521T170000
DTSTAMP:20260423T033708
CREATED:20240529T132922Z
LAST-MODIFIED:20240529T132925Z
UID:10001672-1779350400-1779382800@gardencreek.nbed.ca
SUMMARY:Library Books to be returned
DESCRIPTION:
URL:https://gardencreek.nbed.ca/calendar/library-books-to-be-returned/2026-05-21/
END:VEVENT
BEGIN:VEVENT
DTSTART;TZID=America/Moncton:20260522T080000
DTEND;TZID=America/Moncton:20260522T170000
DTSTAMP:20260423T033708
CREATED:20240529T132922Z
LAST-MODIFIED:20240529T132925Z
UID:10001673-1779436800-1779469200@gardencreek.nbed.ca
SUMMARY:Library Books to be returned
DESCRIPTION:
URL:https://gardencreek.nbed.ca/calendar/library-books-to-be-returned/2026-05-22/
END:VEVENT
END:VCALENDAR