BEGIN:VCALENDAR
VERSION:2.0
PRODID:-//Garden Creek School - ECPv6.15.20//NONSGML v1.0//EN
CALSCALE:GREGORIAN
METHOD:PUBLISH
X-ORIGINAL-URL:https://gardencreek.nbed.ca
X-WR-CALDESC:Events for Garden Creek School
REFRESH-INTERVAL;VALUE=DURATION:PT1H
X-Robots-Tag:noindex
X-PUBLISHED-TTL:PT1H
BEGIN:VTIMEZONE
TZID:America/Moncton
BEGIN:DAYLIGHT
TZOFFSETFROM:-0400
TZOFFSETTO:-0300
TZNAME:ADT
DTSTART:20250309T060000
END:DAYLIGHT
BEGIN:STANDARD
TZOFFSETFROM:-0300
TZOFFSETTO:-0400
TZNAME:AST
DTSTART:20251102T050000
END:STANDARD
BEGIN:DAYLIGHT
TZOFFSETFROM:-0400
TZOFFSETTO:-0300
TZNAME:ADT
DTSTART:20260308T060000
END:DAYLIGHT
BEGIN:STANDARD
TZOFFSETFROM:-0300
TZOFFSETTO:-0400
TZNAME:AST
DTSTART:20261101T050000
END:STANDARD
BEGIN:DAYLIGHT
TZOFFSETFROM:-0400
TZOFFSETTO:-0300
TZNAME:ADT
DTSTART:20270314T060000
END:DAYLIGHT
BEGIN:STANDARD
TZOFFSETFROM:-0300
TZOFFSETTO:-0400
TZNAME:AST
DTSTART:20271107T050000
END:STANDARD
END:VTIMEZONE
BEGIN:VEVENT
DTSTART;TZID=America/Moncton:20260701T080000
DTEND;TZID=America/Moncton:20260701T170000
DTSTAMP:20260423T082543
CREATED:20240529T132922Z
LAST-MODIFIED:20240529T132925Z
UID:10001713-1782892800-1782925200@gardencreek.nbed.ca
SUMMARY:Library Books to be returned
DESCRIPTION:
URL:https://gardencreek.nbed.ca/calendar/library-books-to-be-returned/2026-07-01/
END:VEVENT
BEGIN:VEVENT
DTSTART;TZID=America/Moncton:20260702T080000
DTEND;TZID=America/Moncton:20260702T170000
DTSTAMP:20260423T082543
CREATED:20240529T132922Z
LAST-MODIFIED:20240529T132925Z
UID:10001714-1782979200-1783011600@gardencreek.nbed.ca
SUMMARY:Library Books to be returned
DESCRIPTION:
URL:https://gardencreek.nbed.ca/calendar/library-books-to-be-returned/2026-07-02/
END:VEVENT
BEGIN:VEVENT
DTSTART;TZID=America/Moncton:20260703T080000
DTEND;TZID=America/Moncton:20260703T170000
DTSTAMP:20260423T082543
CREATED:20240529T132922Z
LAST-MODIFIED:20240529T132925Z
UID:10001715-1783065600-1783098000@gardencreek.nbed.ca
SUMMARY:Library Books to be returned
DESCRIPTION:
URL:https://gardencreek.nbed.ca/calendar/library-books-to-be-returned/2026-07-03/
END:VEVENT
BEGIN:VEVENT
DTSTART;TZID=America/Moncton:20260704T080000
DTEND;TZID=America/Moncton:20260704T170000
DTSTAMP:20260423T082543
CREATED:20240529T132922Z
LAST-MODIFIED:20240529T132925Z
UID:10001716-1783152000-1783184400@gardencreek.nbed.ca
SUMMARY:Library Books to be returned
DESCRIPTION:
URL:https://gardencreek.nbed.ca/calendar/library-books-to-be-returned/2026-07-04/
END:VEVENT
BEGIN:VEVENT
DTSTART;TZID=America/Moncton:20260705T080000
DTEND;TZID=America/Moncton:20260705T170000
DTSTAMP:20260423T082543
CREATED:20240529T132922Z
LAST-MODIFIED:20240529T132925Z
UID:10001717-1783238400-1783270800@gardencreek.nbed.ca
SUMMARY:Library Books to be returned
DESCRIPTION:
URL:https://gardencreek.nbed.ca/calendar/library-books-to-be-returned/2026-07-05/
END:VEVENT
BEGIN:VEVENT
DTSTART;TZID=America/Moncton:20260706T080000
DTEND;TZID=America/Moncton:20260706T170000
DTSTAMP:20260423T082543
CREATED:20240529T132922Z
LAST-MODIFIED:20240529T132925Z
UID:10001718-1783324800-1783357200@gardencreek.nbed.ca
SUMMARY:Library Books to be returned
DESCRIPTION:
URL:https://gardencreek.nbed.ca/calendar/library-books-to-be-returned/2026-07-06/
END:VEVENT
BEGIN:VEVENT
DTSTART;TZID=America/Moncton:20260707T080000
DTEND;TZID=America/Moncton:20260707T170000
DTSTAMP:20260423T082543
CREATED:20240529T132922Z
LAST-MODIFIED:20240529T132925Z
UID:10001719-1783411200-1783443600@gardencreek.nbed.ca
SUMMARY:Library Books to be returned
DESCRIPTION:
URL:https://gardencreek.nbed.ca/calendar/library-books-to-be-returned/2026-07-07/
END:VEVENT
BEGIN:VEVENT
DTSTART;TZID=America/Moncton:20260708T080000
DTEND;TZID=America/Moncton:20260708T170000
DTSTAMP:20260423T082544
CREATED:20240529T132922Z
LAST-MODIFIED:20240529T132925Z
UID:10001720-1783497600-1783530000@gardencreek.nbed.ca
SUMMARY:Library Books to be returned
DESCRIPTION:
URL:https://gardencreek.nbed.ca/calendar/library-books-to-be-returned/2026-07-08/
END:VEVENT
BEGIN:VEVENT
DTSTART;TZID=America/Moncton:20260709T080000
DTEND;TZID=America/Moncton:20260709T170000
DTSTAMP:20260423T082544
CREATED:20240529T132922Z
LAST-MODIFIED:20240529T132925Z
UID:10001721-1783584000-1783616400@gardencreek.nbed.ca
SUMMARY:Library Books to be returned
DESCRIPTION:
URL:https://gardencreek.nbed.ca/calendar/library-books-to-be-returned/2026-07-09/
END:VEVENT
BEGIN:VEVENT
DTSTART;TZID=America/Moncton:20260710T080000
DTEND;TZID=America/Moncton:20260710T170000
DTSTAMP:20260423T082544
CREATED:20240529T132922Z
LAST-MODIFIED:20240529T132925Z
UID:10001722-1783670400-1783702800@gardencreek.nbed.ca
SUMMARY:Library Books to be returned
DESCRIPTION:
URL:https://gardencreek.nbed.ca/calendar/library-books-to-be-returned/2026-07-10/
END:VEVENT
BEGIN:VEVENT
DTSTART;TZID=America/Moncton:20260711T080000
DTEND;TZID=America/Moncton:20260711T170000
DTSTAMP:20260423T082544
CREATED:20240529T132922Z
LAST-MODIFIED:20240529T132925Z
UID:10001723-1783756800-1783789200@gardencreek.nbed.ca
SUMMARY:Library Books to be returned
DESCRIPTION:
URL:https://gardencreek.nbed.ca/calendar/library-books-to-be-returned/2026-07-11/
END:VEVENT
BEGIN:VEVENT
DTSTART;TZID=America/Moncton:20260712T080000
DTEND;TZID=America/Moncton:20260712T170000
DTSTAMP:20260423T082544
CREATED:20240529T132922Z
LAST-MODIFIED:20240529T132925Z
UID:10001724-1783843200-1783875600@gardencreek.nbed.ca
SUMMARY:Library Books to be returned
DESCRIPTION:
URL:https://gardencreek.nbed.ca/calendar/library-books-to-be-returned/2026-07-12/
END:VEVENT
BEGIN:VEVENT
DTSTART;TZID=America/Moncton:20260713T080000
DTEND;TZID=America/Moncton:20260713T170000
DTSTAMP:20260423T082544
CREATED:20240529T132922Z
LAST-MODIFIED:20240529T132925Z
UID:10001725-1783929600-1783962000@gardencreek.nbed.ca
SUMMARY:Library Books to be returned
DESCRIPTION:
URL:https://gardencreek.nbed.ca/calendar/library-books-to-be-returned/2026-07-13/
END:VEVENT
BEGIN:VEVENT
DTSTART;TZID=America/Moncton:20260714T080000
DTEND;TZID=America/Moncton:20260714T170000
DTSTAMP:20260423T082544
CREATED:20240529T132922Z
LAST-MODIFIED:20240529T132925Z
UID:10001726-1784016000-1784048400@gardencreek.nbed.ca
SUMMARY:Library Books to be returned
DESCRIPTION:
URL:https://gardencreek.nbed.ca/calendar/library-books-to-be-returned/2026-07-14/
END:VEVENT
BEGIN:VEVENT
DTSTART;TZID=America/Moncton:20260715T080000
DTEND;TZID=America/Moncton:20260715T170000
DTSTAMP:20260423T082544
CREATED:20240529T132922Z
LAST-MODIFIED:20240529T132925Z
UID:10001727-1784102400-1784134800@gardencreek.nbed.ca
SUMMARY:Library Books to be returned
DESCRIPTION:
URL:https://gardencreek.nbed.ca/calendar/library-books-to-be-returned/2026-07-15/
END:VEVENT
BEGIN:VEVENT
DTSTART;TZID=America/Moncton:20260716T080000
DTEND;TZID=America/Moncton:20260716T170000
DTSTAMP:20260423T082544
CREATED:20240529T132922Z
LAST-MODIFIED:20240529T132925Z
UID:10001728-1784188800-1784221200@gardencreek.nbed.ca
SUMMARY:Library Books to be returned
DESCRIPTION:
URL:https://gardencreek.nbed.ca/calendar/library-books-to-be-returned/2026-07-16/
END:VEVENT
BEGIN:VEVENT
DTSTART;TZID=America/Moncton:20260717T080000
DTEND;TZID=America/Moncton:20260717T170000
DTSTAMP:20260423T082544
CREATED:20240529T132922Z
LAST-MODIFIED:20240529T132925Z
UID:10001729-1784275200-1784307600@gardencreek.nbed.ca
SUMMARY:Library Books to be returned
DESCRIPTION:
URL:https://gardencreek.nbed.ca/calendar/library-books-to-be-returned/2026-07-17/
END:VEVENT
BEGIN:VEVENT
DTSTART;TZID=America/Moncton:20260718T080000
DTEND;TZID=America/Moncton:20260718T170000
DTSTAMP:20260423T082544
CREATED:20240529T132922Z
LAST-MODIFIED:20240529T132925Z
UID:10001730-1784361600-1784394000@gardencreek.nbed.ca
SUMMARY:Library Books to be returned
DESCRIPTION:
URL:https://gardencreek.nbed.ca/calendar/library-books-to-be-returned/2026-07-18/
END:VEVENT
BEGIN:VEVENT
DTSTART;TZID=America/Moncton:20260719T080000
DTEND;TZID=America/Moncton:20260719T170000
DTSTAMP:20260423T082544
CREATED:20240529T132922Z
LAST-MODIFIED:20240529T132925Z
UID:10001731-1784448000-1784480400@gardencreek.nbed.ca
SUMMARY:Library Books to be returned
DESCRIPTION:
URL:https://gardencreek.nbed.ca/calendar/library-books-to-be-returned/2026-07-19/
END:VEVENT
BEGIN:VEVENT
DTSTART;TZID=America/Moncton:20260720T080000
DTEND;TZID=America/Moncton:20260720T170000
DTSTAMP:20260423T082544
CREATED:20240529T132922Z
LAST-MODIFIED:20240529T132925Z
UID:10001732-1784534400-1784566800@gardencreek.nbed.ca
SUMMARY:Library Books to be returned
DESCRIPTION:
URL:https://gardencreek.nbed.ca/calendar/library-books-to-be-returned/2026-07-20/
END:VEVENT
BEGIN:VEVENT
DTSTART;TZID=America/Moncton:20260721T080000
DTEND;TZID=America/Moncton:20260721T170000
DTSTAMP:20260423T082544
CREATED:20240529T132922Z
LAST-MODIFIED:20240529T132925Z
UID:10001733-1784620800-1784653200@gardencreek.nbed.ca
SUMMARY:Library Books to be returned
DESCRIPTION:
URL:https://gardencreek.nbed.ca/calendar/library-books-to-be-returned/2026-07-21/
END:VEVENT
BEGIN:VEVENT
DTSTART;TZID=America/Moncton:20260722T080000
DTEND;TZID=America/Moncton:20260722T170000
DTSTAMP:20260423T082544
CREATED:20240529T132922Z
LAST-MODIFIED:20240529T132925Z
UID:10001734-1784707200-1784739600@gardencreek.nbed.ca
SUMMARY:Library Books to be returned
DESCRIPTION:
URL:https://gardencreek.nbed.ca/calendar/library-books-to-be-returned/2026-07-22/
END:VEVENT
BEGIN:VEVENT
DTSTART;TZID=America/Moncton:20260723T080000
DTEND;TZID=America/Moncton:20260723T170000
DTSTAMP:20260423T082544
CREATED:20240529T132922Z
LAST-MODIFIED:20240529T132925Z
UID:10001735-1784793600-1784826000@gardencreek.nbed.ca
SUMMARY:Library Books to be returned
DESCRIPTION:
URL:https://gardencreek.nbed.ca/calendar/library-books-to-be-returned/2026-07-23/
END:VEVENT
BEGIN:VEVENT
DTSTART;TZID=America/Moncton:20260724T080000
DTEND;TZID=America/Moncton:20260724T170000
DTSTAMP:20260423T082544
CREATED:20240529T132922Z
LAST-MODIFIED:20240529T132925Z
UID:10001736-1784880000-1784912400@gardencreek.nbed.ca
SUMMARY:Library Books to be returned
DESCRIPTION:
URL:https://gardencreek.nbed.ca/calendar/library-books-to-be-returned/2026-07-24/
END:VEVENT
BEGIN:VEVENT
DTSTART;TZID=America/Moncton:20260725T080000
DTEND;TZID=America/Moncton:20260725T170000
DTSTAMP:20260423T082544
CREATED:20240529T132922Z
LAST-MODIFIED:20240529T132925Z
UID:10001737-1784966400-1784998800@gardencreek.nbed.ca
SUMMARY:Library Books to be returned
DESCRIPTION:
URL:https://gardencreek.nbed.ca/calendar/library-books-to-be-returned/2026-07-25/
END:VEVENT
BEGIN:VEVENT
DTSTART;TZID=America/Moncton:20260726T080000
DTEND;TZID=America/Moncton:20260726T170000
DTSTAMP:20260423T082544
CREATED:20240529T132922Z
LAST-MODIFIED:20240529T132925Z
UID:10001738-1785052800-1785085200@gardencreek.nbed.ca
SUMMARY:Library Books to be returned
DESCRIPTION:
URL:https://gardencreek.nbed.ca/calendar/library-books-to-be-returned/2026-07-26/
END:VEVENT
BEGIN:VEVENT
DTSTART;TZID=America/Moncton:20260727T080000
DTEND;TZID=America/Moncton:20260727T170000
DTSTAMP:20260423T082544
CREATED:20240529T132922Z
LAST-MODIFIED:20240529T132925Z
UID:10001739-1785139200-1785171600@gardencreek.nbed.ca
SUMMARY:Library Books to be returned
DESCRIPTION:
URL:https://gardencreek.nbed.ca/calendar/library-books-to-be-returned/2026-07-27/
END:VEVENT
BEGIN:VEVENT
DTSTART;TZID=America/Moncton:20260728T080000
DTEND;TZID=America/Moncton:20260728T170000
DTSTAMP:20260423T082544
CREATED:20240529T132922Z
LAST-MODIFIED:20240529T132925Z
UID:10001740-1785225600-1785258000@gardencreek.nbed.ca
SUMMARY:Library Books to be returned
DESCRIPTION:
URL:https://gardencreek.nbed.ca/calendar/library-books-to-be-returned/2026-07-28/
END:VEVENT
BEGIN:VEVENT
DTSTART;TZID=America/Moncton:20260729T080000
DTEND;TZID=America/Moncton:20260729T170000
DTSTAMP:20260423T082544
CREATED:20240529T132922Z
LAST-MODIFIED:20240529T132925Z
UID:10001741-1785312000-1785344400@gardencreek.nbed.ca
SUMMARY:Library Books to be returned
DESCRIPTION:
URL:https://gardencreek.nbed.ca/calendar/library-books-to-be-returned/2026-07-29/
END:VEVENT
BEGIN:VEVENT
DTSTART;TZID=America/Moncton:20260730T080000
DTEND;TZID=America/Moncton:20260730T170000
DTSTAMP:20260423T082544
CREATED:20240529T132922Z
LAST-MODIFIED:20240529T132925Z
UID:10001742-1785398400-1785430800@gardencreek.nbed.ca
SUMMARY:Library Books to be returned
DESCRIPTION:
URL:https://gardencreek.nbed.ca/calendar/library-books-to-be-returned/2026-07-30/
END:VEVENT
END:VCALENDAR