BEGIN:VCALENDAR
VERSION:2.0
PRODID:-//Garden Creek School - ECPv6.15.20//NONSGML v1.0//EN
CALSCALE:GREGORIAN
METHOD:PUBLISH
X-WR-CALNAME:Garden Creek School
X-ORIGINAL-URL:https://gardencreek.nbed.ca
X-WR-CALDESC:Events for Garden Creek School
REFRESH-INTERVAL;VALUE=DURATION:PT1H
X-Robots-Tag:noindex
X-PUBLISHED-TTL:PT1H
BEGIN:VTIMEZONE
TZID:America/Moncton
BEGIN:DAYLIGHT
TZOFFSETFROM:-0400
TZOFFSETTO:-0300
TZNAME:ADT
DTSTART:20240310T060000
END:DAYLIGHT
BEGIN:STANDARD
TZOFFSETFROM:-0300
TZOFFSETTO:-0400
TZNAME:AST
DTSTART:20241103T050000
END:STANDARD
BEGIN:DAYLIGHT
TZOFFSETFROM:-0400
TZOFFSETTO:-0300
TZNAME:ADT
DTSTART:20250309T060000
END:DAYLIGHT
BEGIN:STANDARD
TZOFFSETFROM:-0300
TZOFFSETTO:-0400
TZNAME:AST
DTSTART:20251102T050000
END:STANDARD
BEGIN:DAYLIGHT
TZOFFSETFROM:-0400
TZOFFSETTO:-0300
TZNAME:ADT
DTSTART:20260308T060000
END:DAYLIGHT
BEGIN:STANDARD
TZOFFSETFROM:-0300
TZOFFSETTO:-0400
TZNAME:AST
DTSTART:20261101T050000
END:STANDARD
END:VTIMEZONE
BEGIN:VEVENT
DTSTART;TZID=America/Moncton:20250728T080000
DTEND;TZID=America/Moncton:20250728T170000
DTSTAMP:20260424T083205
CREATED:20240529T132922Z
LAST-MODIFIED:20240529T132925Z
UID:10001375-1753689600-1753722000@gardencreek.nbed.ca
SUMMARY:Library Books to be returned
DESCRIPTION:
URL:https://gardencreek.nbed.ca/calendar/library-books-to-be-returned/2025-07-28/
END:VEVENT
BEGIN:VEVENT
DTSTART;TZID=America/Moncton:20250727T080000
DTEND;TZID=America/Moncton:20250727T170000
DTSTAMP:20260424T083205
CREATED:20240529T132922Z
LAST-MODIFIED:20240529T132925Z
UID:10001374-1753603200-1753635600@gardencreek.nbed.ca
SUMMARY:Library Books to be returned
DESCRIPTION:
URL:https://gardencreek.nbed.ca/calendar/library-books-to-be-returned/2025-07-27/
END:VEVENT
BEGIN:VEVENT
DTSTART;TZID=America/Moncton:20250726T080000
DTEND;TZID=America/Moncton:20250726T170000
DTSTAMP:20260424T083205
CREATED:20240529T132922Z
LAST-MODIFIED:20240529T132925Z
UID:10001373-1753516800-1753549200@gardencreek.nbed.ca
SUMMARY:Library Books to be returned
DESCRIPTION:
URL:https://gardencreek.nbed.ca/calendar/library-books-to-be-returned/2025-07-26/
END:VEVENT
BEGIN:VEVENT
DTSTART;TZID=America/Moncton:20250725T080000
DTEND;TZID=America/Moncton:20250725T170000
DTSTAMP:20260424T083205
CREATED:20240529T132922Z
LAST-MODIFIED:20240529T132925Z
UID:10001372-1753430400-1753462800@gardencreek.nbed.ca
SUMMARY:Library Books to be returned
DESCRIPTION:
URL:https://gardencreek.nbed.ca/calendar/library-books-to-be-returned/2025-07-25/
END:VEVENT
BEGIN:VEVENT
DTSTART;TZID=America/Moncton:20250724T080000
DTEND;TZID=America/Moncton:20250724T170000
DTSTAMP:20260424T083205
CREATED:20240529T132922Z
LAST-MODIFIED:20240529T132925Z
UID:10001371-1753344000-1753376400@gardencreek.nbed.ca
SUMMARY:Library Books to be returned
DESCRIPTION:
URL:https://gardencreek.nbed.ca/calendar/library-books-to-be-returned/2025-07-24/
END:VEVENT
BEGIN:VEVENT
DTSTART;TZID=America/Moncton:20250723T080000
DTEND;TZID=America/Moncton:20250723T170000
DTSTAMP:20260424T083205
CREATED:20240529T132922Z
LAST-MODIFIED:20240529T132925Z
UID:10001370-1753257600-1753290000@gardencreek.nbed.ca
SUMMARY:Library Books to be returned
DESCRIPTION:
URL:https://gardencreek.nbed.ca/calendar/library-books-to-be-returned/2025-07-23/
END:VEVENT
BEGIN:VEVENT
DTSTART;TZID=America/Moncton:20250722T080000
DTEND;TZID=America/Moncton:20250722T170000
DTSTAMP:20260424T083205
CREATED:20240529T132922Z
LAST-MODIFIED:20240529T132925Z
UID:10001369-1753171200-1753203600@gardencreek.nbed.ca
SUMMARY:Library Books to be returned
DESCRIPTION:
URL:https://gardencreek.nbed.ca/calendar/library-books-to-be-returned/2025-07-22/
END:VEVENT
BEGIN:VEVENT
DTSTART;TZID=America/Moncton:20250721T080000
DTEND;TZID=America/Moncton:20250721T170000
DTSTAMP:20260424T083205
CREATED:20240529T132922Z
LAST-MODIFIED:20240529T132925Z
UID:10001368-1753084800-1753117200@gardencreek.nbed.ca
SUMMARY:Library Books to be returned
DESCRIPTION:
URL:https://gardencreek.nbed.ca/calendar/library-books-to-be-returned/2025-07-21/
END:VEVENT
BEGIN:VEVENT
DTSTART;TZID=America/Moncton:20250720T080000
DTEND;TZID=America/Moncton:20250720T170000
DTSTAMP:20260424T083205
CREATED:20240529T132922Z
LAST-MODIFIED:20240529T132925Z
UID:10001367-1752998400-1753030800@gardencreek.nbed.ca
SUMMARY:Library Books to be returned
DESCRIPTION:
URL:https://gardencreek.nbed.ca/calendar/library-books-to-be-returned/2025-07-20/
END:VEVENT
BEGIN:VEVENT
DTSTART;TZID=America/Moncton:20250719T080000
DTEND;TZID=America/Moncton:20250719T170000
DTSTAMP:20260424T083205
CREATED:20240529T132922Z
LAST-MODIFIED:20240529T132925Z
UID:10001366-1752912000-1752944400@gardencreek.nbed.ca
SUMMARY:Library Books to be returned
DESCRIPTION:
URL:https://gardencreek.nbed.ca/calendar/library-books-to-be-returned/2025-07-19/
END:VEVENT
BEGIN:VEVENT
DTSTART;TZID=America/Moncton:20250718T080000
DTEND;TZID=America/Moncton:20250718T170000
DTSTAMP:20260424T083205
CREATED:20240529T132922Z
LAST-MODIFIED:20240529T132925Z
UID:10001365-1752825600-1752858000@gardencreek.nbed.ca
SUMMARY:Library Books to be returned
DESCRIPTION:
URL:https://gardencreek.nbed.ca/calendar/library-books-to-be-returned/2025-07-18/
END:VEVENT
BEGIN:VEVENT
DTSTART;TZID=America/Moncton:20250717T080000
DTEND;TZID=America/Moncton:20250717T170000
DTSTAMP:20260424T083205
CREATED:20240529T132922Z
LAST-MODIFIED:20240529T132925Z
UID:10001364-1752739200-1752771600@gardencreek.nbed.ca
SUMMARY:Library Books to be returned
DESCRIPTION:
URL:https://gardencreek.nbed.ca/calendar/library-books-to-be-returned/2025-07-17/
END:VEVENT
BEGIN:VEVENT
DTSTART;TZID=America/Moncton:20250716T080000
DTEND;TZID=America/Moncton:20250716T170000
DTSTAMP:20260424T083205
CREATED:20240529T132922Z
LAST-MODIFIED:20240529T132925Z
UID:10001363-1752652800-1752685200@gardencreek.nbed.ca
SUMMARY:Library Books to be returned
DESCRIPTION:
URL:https://gardencreek.nbed.ca/calendar/library-books-to-be-returned/2025-07-16/
END:VEVENT
BEGIN:VEVENT
DTSTART;TZID=America/Moncton:20250715T080000
DTEND;TZID=America/Moncton:20250715T170000
DTSTAMP:20260424T083205
CREATED:20240529T132922Z
LAST-MODIFIED:20240529T132925Z
UID:10001362-1752566400-1752598800@gardencreek.nbed.ca
SUMMARY:Library Books to be returned
DESCRIPTION:
URL:https://gardencreek.nbed.ca/calendar/library-books-to-be-returned/2025-07-15/
END:VEVENT
BEGIN:VEVENT
DTSTART;TZID=America/Moncton:20250714T080000
DTEND;TZID=America/Moncton:20250714T170000
DTSTAMP:20260424T083205
CREATED:20240529T132922Z
LAST-MODIFIED:20240529T132925Z
UID:10001361-1752480000-1752512400@gardencreek.nbed.ca
SUMMARY:Library Books to be returned
DESCRIPTION:
URL:https://gardencreek.nbed.ca/calendar/library-books-to-be-returned/2025-07-14/
END:VEVENT
BEGIN:VEVENT
DTSTART;TZID=America/Moncton:20250713T080000
DTEND;TZID=America/Moncton:20250713T170000
DTSTAMP:20260424T083205
CREATED:20240529T132922Z
LAST-MODIFIED:20240529T132925Z
UID:10001360-1752393600-1752426000@gardencreek.nbed.ca
SUMMARY:Library Books to be returned
DESCRIPTION:
URL:https://gardencreek.nbed.ca/calendar/library-books-to-be-returned/2025-07-13/
END:VEVENT
BEGIN:VEVENT
DTSTART;TZID=America/Moncton:20250712T080000
DTEND;TZID=America/Moncton:20250712T170000
DTSTAMP:20260424T083205
CREATED:20240529T132922Z
LAST-MODIFIED:20240529T132925Z
UID:10001359-1752307200-1752339600@gardencreek.nbed.ca
SUMMARY:Library Books to be returned
DESCRIPTION:
URL:https://gardencreek.nbed.ca/calendar/library-books-to-be-returned/2025-07-12/
END:VEVENT
BEGIN:VEVENT
DTSTART;TZID=America/Moncton:20250711T080000
DTEND;TZID=America/Moncton:20250711T170000
DTSTAMP:20260424T083205
CREATED:20240529T132922Z
LAST-MODIFIED:20240529T132925Z
UID:10001358-1752220800-1752253200@gardencreek.nbed.ca
SUMMARY:Library Books to be returned
DESCRIPTION:
URL:https://gardencreek.nbed.ca/calendar/library-books-to-be-returned/2025-07-11/
END:VEVENT
BEGIN:VEVENT
DTSTART;TZID=America/Moncton:20250710T080000
DTEND;TZID=America/Moncton:20250710T170000
DTSTAMP:20260424T083205
CREATED:20240529T132922Z
LAST-MODIFIED:20240529T132925Z
UID:10001357-1752134400-1752166800@gardencreek.nbed.ca
SUMMARY:Library Books to be returned
DESCRIPTION:
URL:https://gardencreek.nbed.ca/calendar/library-books-to-be-returned/2025-07-10/
END:VEVENT
BEGIN:VEVENT
DTSTART;TZID=America/Moncton:20250709T080000
DTEND;TZID=America/Moncton:20250709T170000
DTSTAMP:20260424T083205
CREATED:20240529T132922Z
LAST-MODIFIED:20240529T132925Z
UID:10001356-1752048000-1752080400@gardencreek.nbed.ca
SUMMARY:Library Books to be returned
DESCRIPTION:
URL:https://gardencreek.nbed.ca/calendar/library-books-to-be-returned/2025-07-09/
END:VEVENT
BEGIN:VEVENT
DTSTART;TZID=America/Moncton:20250708T080000
DTEND;TZID=America/Moncton:20250708T170000
DTSTAMP:20260424T083205
CREATED:20240529T132922Z
LAST-MODIFIED:20240529T132925Z
UID:10001355-1751961600-1751994000@gardencreek.nbed.ca
SUMMARY:Library Books to be returned
DESCRIPTION:
URL:https://gardencreek.nbed.ca/calendar/library-books-to-be-returned/2025-07-08/
END:VEVENT
BEGIN:VEVENT
DTSTART;TZID=America/Moncton:20250707T080000
DTEND;TZID=America/Moncton:20250707T170000
DTSTAMP:20260424T083205
CREATED:20240529T132922Z
LAST-MODIFIED:20240529T132925Z
UID:10001354-1751875200-1751907600@gardencreek.nbed.ca
SUMMARY:Library Books to be returned
DESCRIPTION:
URL:https://gardencreek.nbed.ca/calendar/library-books-to-be-returned/2025-07-07/
END:VEVENT
BEGIN:VEVENT
DTSTART;TZID=America/Moncton:20250706T080000
DTEND;TZID=America/Moncton:20250706T170000
DTSTAMP:20260424T083205
CREATED:20240529T132922Z
LAST-MODIFIED:20240529T132925Z
UID:10001353-1751788800-1751821200@gardencreek.nbed.ca
SUMMARY:Library Books to be returned
DESCRIPTION:
URL:https://gardencreek.nbed.ca/calendar/library-books-to-be-returned/2025-07-06/
END:VEVENT
BEGIN:VEVENT
DTSTART;TZID=America/Moncton:20250705T080000
DTEND;TZID=America/Moncton:20250705T170000
DTSTAMP:20260424T083205
CREATED:20240529T132922Z
LAST-MODIFIED:20240529T132925Z
UID:10001352-1751702400-1751734800@gardencreek.nbed.ca
SUMMARY:Library Books to be returned
DESCRIPTION:
URL:https://gardencreek.nbed.ca/calendar/library-books-to-be-returned/2025-07-05/
END:VEVENT
BEGIN:VEVENT
DTSTART;TZID=America/Moncton:20250704T080000
DTEND;TZID=America/Moncton:20250704T170000
DTSTAMP:20260424T083206
CREATED:20240529T132922Z
LAST-MODIFIED:20240529T132925Z
UID:10001351-1751616000-1751648400@gardencreek.nbed.ca
SUMMARY:Library Books to be returned
DESCRIPTION:
URL:https://gardencreek.nbed.ca/calendar/library-books-to-be-returned/2025-07-04/
END:VEVENT
BEGIN:VEVENT
DTSTART;TZID=America/Moncton:20250703T080000
DTEND;TZID=America/Moncton:20250703T170000
DTSTAMP:20260424T083206
CREATED:20240529T132922Z
LAST-MODIFIED:20240529T132925Z
UID:10001350-1751529600-1751562000@gardencreek.nbed.ca
SUMMARY:Library Books to be returned
DESCRIPTION:
URL:https://gardencreek.nbed.ca/calendar/library-books-to-be-returned/2025-07-03/
END:VEVENT
BEGIN:VEVENT
DTSTART;TZID=America/Moncton:20250702T080000
DTEND;TZID=America/Moncton:20250702T170000
DTSTAMP:20260424T083206
CREATED:20240529T132922Z
LAST-MODIFIED:20240529T132925Z
UID:10001349-1751443200-1751475600@gardencreek.nbed.ca
SUMMARY:Library Books to be returned
DESCRIPTION:
URL:https://gardencreek.nbed.ca/calendar/library-books-to-be-returned/2025-07-02/
END:VEVENT
BEGIN:VEVENT
DTSTART;TZID=America/Moncton:20250701T080000
DTEND;TZID=America/Moncton:20250701T170000
DTSTAMP:20260424T083206
CREATED:20240529T132922Z
LAST-MODIFIED:20240529T132925Z
UID:10001348-1751356800-1751389200@gardencreek.nbed.ca
SUMMARY:Library Books to be returned
DESCRIPTION:
URL:https://gardencreek.nbed.ca/calendar/library-books-to-be-returned/2025-07-01/
END:VEVENT
BEGIN:VEVENT
DTSTART;TZID=America/Moncton:20250630T080000
DTEND;TZID=America/Moncton:20250630T170000
DTSTAMP:20260424T083206
CREATED:20240529T132922Z
LAST-MODIFIED:20240529T132925Z
UID:10001347-1751270400-1751302800@gardencreek.nbed.ca
SUMMARY:Library Books to be returned
DESCRIPTION:
URL:https://gardencreek.nbed.ca/calendar/library-books-to-be-returned/2025-06-30/
END:VEVENT
BEGIN:VEVENT
DTSTART;TZID=America/Moncton:20250629T080000
DTEND;TZID=America/Moncton:20250629T170000
DTSTAMP:20260424T083206
CREATED:20240529T132922Z
LAST-MODIFIED:20240529T132925Z
UID:10001346-1751184000-1751216400@gardencreek.nbed.ca
SUMMARY:Library Books to be returned
DESCRIPTION:
URL:https://gardencreek.nbed.ca/calendar/library-books-to-be-returned/2025-06-29/
END:VEVENT
END:VCALENDAR