BEGIN:VCALENDAR
VERSION:2.0
PRODID:-//Garden Creek School - ECPv6.15.20//NONSGML v1.0//EN
CALSCALE:GREGORIAN
METHOD:PUBLISH
X-ORIGINAL-URL:https://gardencreek.nbed.ca
X-WR-CALDESC:Events for Garden Creek School
REFRESH-INTERVAL;VALUE=DURATION:PT1H
X-Robots-Tag:noindex
X-PUBLISHED-TTL:PT1H
BEGIN:VTIMEZONE
TZID:America/Moncton
BEGIN:DAYLIGHT
TZOFFSETFROM:-0400
TZOFFSETTO:-0300
TZNAME:ADT
DTSTART:20250309T060000
END:DAYLIGHT
BEGIN:STANDARD
TZOFFSETFROM:-0300
TZOFFSETTO:-0400
TZNAME:AST
DTSTART:20251102T050000
END:STANDARD
BEGIN:DAYLIGHT
TZOFFSETFROM:-0400
TZOFFSETTO:-0300
TZNAME:ADT
DTSTART:20260308T060000
END:DAYLIGHT
BEGIN:STANDARD
TZOFFSETFROM:-0300
TZOFFSETTO:-0400
TZNAME:AST
DTSTART:20261101T050000
END:STANDARD
BEGIN:DAYLIGHT
TZOFFSETFROM:-0400
TZOFFSETTO:-0300
TZNAME:ADT
DTSTART:20270314T060000
END:DAYLIGHT
BEGIN:STANDARD
TZOFFSETFROM:-0300
TZOFFSETTO:-0400
TZNAME:AST
DTSTART:20271107T050000
END:STANDARD
END:VTIMEZONE
BEGIN:VEVENT
DTSTART;TZID=America/Moncton:20261116T080000
DTEND;TZID=America/Moncton:20261116T170000
DTSTAMP:20260424T053557
CREATED:20240529T132922Z
LAST-MODIFIED:20240529T132925Z
UID:10001851-1794816000-1794848400@gardencreek.nbed.ca
SUMMARY:Library Books to be returned
DESCRIPTION:
URL:https://gardencreek.nbed.ca/calendar/library-books-to-be-returned/2026-11-16/
END:VEVENT
BEGIN:VEVENT
DTSTART;TZID=America/Moncton:20261117T080000
DTEND;TZID=America/Moncton:20261117T170000
DTSTAMP:20260424T053557
CREATED:20240529T132922Z
LAST-MODIFIED:20240529T132925Z
UID:10001852-1794902400-1794934800@gardencreek.nbed.ca
SUMMARY:Library Books to be returned
DESCRIPTION:
URL:https://gardencreek.nbed.ca/calendar/library-books-to-be-returned/2026-11-17/
END:VEVENT
BEGIN:VEVENT
DTSTART;TZID=America/Moncton:20261118T080000
DTEND;TZID=America/Moncton:20261118T170000
DTSTAMP:20260424T053557
CREATED:20240529T132922Z
LAST-MODIFIED:20240529T132925Z
UID:10001853-1794988800-1795021200@gardencreek.nbed.ca
SUMMARY:Library Books to be returned
DESCRIPTION:
URL:https://gardencreek.nbed.ca/calendar/library-books-to-be-returned/2026-11-18/
END:VEVENT
BEGIN:VEVENT
DTSTART;TZID=America/Moncton:20261119T080000
DTEND;TZID=America/Moncton:20261119T170000
DTSTAMP:20260424T053557
CREATED:20240529T132922Z
LAST-MODIFIED:20240529T132925Z
UID:10001854-1795075200-1795107600@gardencreek.nbed.ca
SUMMARY:Library Books to be returned
DESCRIPTION:
URL:https://gardencreek.nbed.ca/calendar/library-books-to-be-returned/2026-11-19/
END:VEVENT
BEGIN:VEVENT
DTSTART;TZID=America/Moncton:20261120T080000
DTEND;TZID=America/Moncton:20261120T170000
DTSTAMP:20260424T053557
CREATED:20240529T132922Z
LAST-MODIFIED:20240529T132925Z
UID:10001855-1795161600-1795194000@gardencreek.nbed.ca
SUMMARY:Library Books to be returned
DESCRIPTION:
URL:https://gardencreek.nbed.ca/calendar/library-books-to-be-returned/2026-11-20/
END:VEVENT
BEGIN:VEVENT
DTSTART;TZID=America/Moncton:20261121T080000
DTEND;TZID=America/Moncton:20261121T170000
DTSTAMP:20260424T053557
CREATED:20240529T132922Z
LAST-MODIFIED:20240529T132925Z
UID:10001856-1795248000-1795280400@gardencreek.nbed.ca
SUMMARY:Library Books to be returned
DESCRIPTION:
URL:https://gardencreek.nbed.ca/calendar/library-books-to-be-returned/2026-11-21/
END:VEVENT
BEGIN:VEVENT
DTSTART;TZID=America/Moncton:20261122T080000
DTEND;TZID=America/Moncton:20261122T170000
DTSTAMP:20260424T053557
CREATED:20240529T132922Z
LAST-MODIFIED:20240529T132925Z
UID:10001857-1795334400-1795366800@gardencreek.nbed.ca
SUMMARY:Library Books to be returned
DESCRIPTION:
URL:https://gardencreek.nbed.ca/calendar/library-books-to-be-returned/2026-11-22/
END:VEVENT
BEGIN:VEVENT
DTSTART;TZID=America/Moncton:20261123T080000
DTEND;TZID=America/Moncton:20261123T170000
DTSTAMP:20260424T053557
CREATED:20240529T132922Z
LAST-MODIFIED:20240529T132925Z
UID:10001858-1795420800-1795453200@gardencreek.nbed.ca
SUMMARY:Library Books to be returned
DESCRIPTION:
URL:https://gardencreek.nbed.ca/calendar/library-books-to-be-returned/2026-11-23/
END:VEVENT
BEGIN:VEVENT
DTSTART;TZID=America/Moncton:20261124T080000
DTEND;TZID=America/Moncton:20261124T170000
DTSTAMP:20260424T053557
CREATED:20240529T132922Z
LAST-MODIFIED:20240529T132925Z
UID:10001859-1795507200-1795539600@gardencreek.nbed.ca
SUMMARY:Library Books to be returned
DESCRIPTION:
URL:https://gardencreek.nbed.ca/calendar/library-books-to-be-returned/2026-11-24/
END:VEVENT
BEGIN:VEVENT
DTSTART;TZID=America/Moncton:20261125T080000
DTEND;TZID=America/Moncton:20261125T170000
DTSTAMP:20260424T053557
CREATED:20240529T132922Z
LAST-MODIFIED:20240529T132925Z
UID:10001860-1795593600-1795626000@gardencreek.nbed.ca
SUMMARY:Library Books to be returned
DESCRIPTION:
URL:https://gardencreek.nbed.ca/calendar/library-books-to-be-returned/2026-11-25/
END:VEVENT
BEGIN:VEVENT
DTSTART;TZID=America/Moncton:20261126T080000
DTEND;TZID=America/Moncton:20261126T170000
DTSTAMP:20260424T053557
CREATED:20240529T132922Z
LAST-MODIFIED:20240529T132925Z
UID:10001861-1795680000-1795712400@gardencreek.nbed.ca
SUMMARY:Library Books to be returned
DESCRIPTION:
URL:https://gardencreek.nbed.ca/calendar/library-books-to-be-returned/2026-11-26/
END:VEVENT
BEGIN:VEVENT
DTSTART;TZID=America/Moncton:20261127T080000
DTEND;TZID=America/Moncton:20261127T170000
DTSTAMP:20260424T053557
CREATED:20240529T132922Z
LAST-MODIFIED:20240529T132925Z
UID:10001862-1795766400-1795798800@gardencreek.nbed.ca
SUMMARY:Library Books to be returned
DESCRIPTION:
URL:https://gardencreek.nbed.ca/calendar/library-books-to-be-returned/2026-11-27/
END:VEVENT
BEGIN:VEVENT
DTSTART;TZID=America/Moncton:20261128T080000
DTEND;TZID=America/Moncton:20261128T170000
DTSTAMP:20260424T053557
CREATED:20240529T132922Z
LAST-MODIFIED:20240529T132925Z
UID:10001863-1795852800-1795885200@gardencreek.nbed.ca
SUMMARY:Library Books to be returned
DESCRIPTION:
URL:https://gardencreek.nbed.ca/calendar/library-books-to-be-returned/2026-11-28/
END:VEVENT
BEGIN:VEVENT
DTSTART;TZID=America/Moncton:20261129T080000
DTEND;TZID=America/Moncton:20261129T170000
DTSTAMP:20260424T053557
CREATED:20240529T132922Z
LAST-MODIFIED:20240529T132925Z
UID:10001864-1795939200-1795971600@gardencreek.nbed.ca
SUMMARY:Library Books to be returned
DESCRIPTION:
URL:https://gardencreek.nbed.ca/calendar/library-books-to-be-returned/2026-11-29/
END:VEVENT
BEGIN:VEVENT
DTSTART;TZID=America/Moncton:20261130T080000
DTEND;TZID=America/Moncton:20261130T170000
DTSTAMP:20260424T053557
CREATED:20240529T132922Z
LAST-MODIFIED:20240529T132925Z
UID:10001865-1796025600-1796058000@gardencreek.nbed.ca
SUMMARY:Library Books to be returned
DESCRIPTION:
URL:https://gardencreek.nbed.ca/calendar/library-books-to-be-returned/2026-11-30/
END:VEVENT
BEGIN:VEVENT
DTSTART;TZID=America/Moncton:20261201T080000
DTEND;TZID=America/Moncton:20261201T170000
DTSTAMP:20260424T053557
CREATED:20240529T132922Z
LAST-MODIFIED:20240529T132925Z
UID:10001866-1796112000-1796144400@gardencreek.nbed.ca
SUMMARY:Library Books to be returned
DESCRIPTION:
URL:https://gardencreek.nbed.ca/calendar/library-books-to-be-returned/2026-12-01/
END:VEVENT
BEGIN:VEVENT
DTSTART;TZID=America/Moncton:20261202T080000
DTEND;TZID=America/Moncton:20261202T170000
DTSTAMP:20260424T053557
CREATED:20240529T132922Z
LAST-MODIFIED:20240529T132925Z
UID:10001867-1796198400-1796230800@gardencreek.nbed.ca
SUMMARY:Library Books to be returned
DESCRIPTION:
URL:https://gardencreek.nbed.ca/calendar/library-books-to-be-returned/2026-12-02/
END:VEVENT
BEGIN:VEVENT
DTSTART;TZID=America/Moncton:20261203T080000
DTEND;TZID=America/Moncton:20261203T170000
DTSTAMP:20260424T053557
CREATED:20240529T132922Z
LAST-MODIFIED:20240529T132925Z
UID:10001868-1796284800-1796317200@gardencreek.nbed.ca
SUMMARY:Library Books to be returned
DESCRIPTION:
URL:https://gardencreek.nbed.ca/calendar/library-books-to-be-returned/2026-12-03/
END:VEVENT
BEGIN:VEVENT
DTSTART;TZID=America/Moncton:20261204T080000
DTEND;TZID=America/Moncton:20261204T170000
DTSTAMP:20260424T053557
CREATED:20240529T132922Z
LAST-MODIFIED:20240529T132925Z
UID:10001869-1796371200-1796403600@gardencreek.nbed.ca
SUMMARY:Library Books to be returned
DESCRIPTION:
URL:https://gardencreek.nbed.ca/calendar/library-books-to-be-returned/2026-12-04/
END:VEVENT
BEGIN:VEVENT
DTSTART;TZID=America/Moncton:20261205T080000
DTEND;TZID=America/Moncton:20261205T170000
DTSTAMP:20260424T053557
CREATED:20240529T132922Z
LAST-MODIFIED:20240529T132925Z
UID:10001870-1796457600-1796490000@gardencreek.nbed.ca
SUMMARY:Library Books to be returned
DESCRIPTION:
URL:https://gardencreek.nbed.ca/calendar/library-books-to-be-returned/2026-12-05/
END:VEVENT
BEGIN:VEVENT
DTSTART;TZID=America/Moncton:20261206T080000
DTEND;TZID=America/Moncton:20261206T170000
DTSTAMP:20260424T053557
CREATED:20240529T132922Z
LAST-MODIFIED:20240529T132925Z
UID:10001871-1796544000-1796576400@gardencreek.nbed.ca
SUMMARY:Library Books to be returned
DESCRIPTION:
URL:https://gardencreek.nbed.ca/calendar/library-books-to-be-returned/2026-12-06/
END:VEVENT
BEGIN:VEVENT
DTSTART;TZID=America/Moncton:20261207T080000
DTEND;TZID=America/Moncton:20261207T170000
DTSTAMP:20260424T053557
CREATED:20240529T132922Z
LAST-MODIFIED:20240529T132925Z
UID:10001872-1796630400-1796662800@gardencreek.nbed.ca
SUMMARY:Library Books to be returned
DESCRIPTION:
URL:https://gardencreek.nbed.ca/calendar/library-books-to-be-returned/2026-12-07/
END:VEVENT
BEGIN:VEVENT
DTSTART;TZID=America/Moncton:20261208T080000
DTEND;TZID=America/Moncton:20261208T170000
DTSTAMP:20260424T053557
CREATED:20240529T132922Z
LAST-MODIFIED:20240529T132925Z
UID:10001873-1796716800-1796749200@gardencreek.nbed.ca
SUMMARY:Library Books to be returned
DESCRIPTION:
URL:https://gardencreek.nbed.ca/calendar/library-books-to-be-returned/2026-12-08/
END:VEVENT
BEGIN:VEVENT
DTSTART;TZID=America/Moncton:20261209T080000
DTEND;TZID=America/Moncton:20261209T170000
DTSTAMP:20260424T053557
CREATED:20240529T132922Z
LAST-MODIFIED:20240529T132925Z
UID:10001874-1796803200-1796835600@gardencreek.nbed.ca
SUMMARY:Library Books to be returned
DESCRIPTION:
URL:https://gardencreek.nbed.ca/calendar/library-books-to-be-returned/2026-12-09/
END:VEVENT
BEGIN:VEVENT
DTSTART;TZID=America/Moncton:20261210T080000
DTEND;TZID=America/Moncton:20261210T170000
DTSTAMP:20260424T053557
CREATED:20240529T132922Z
LAST-MODIFIED:20240529T132925Z
UID:10001875-1796889600-1796922000@gardencreek.nbed.ca
SUMMARY:Library Books to be returned
DESCRIPTION:
URL:https://gardencreek.nbed.ca/calendar/library-books-to-be-returned/2026-12-10/
END:VEVENT
BEGIN:VEVENT
DTSTART;TZID=America/Moncton:20261211T080000
DTEND;TZID=America/Moncton:20261211T170000
DTSTAMP:20260424T053557
CREATED:20240529T132922Z
LAST-MODIFIED:20240529T132925Z
UID:10001876-1796976000-1797008400@gardencreek.nbed.ca
SUMMARY:Library Books to be returned
DESCRIPTION:
URL:https://gardencreek.nbed.ca/calendar/library-books-to-be-returned/2026-12-11/
END:VEVENT
BEGIN:VEVENT
DTSTART;TZID=America/Moncton:20261212T080000
DTEND;TZID=America/Moncton:20261212T170000
DTSTAMP:20260424T053557
CREATED:20240529T132922Z
LAST-MODIFIED:20240529T132925Z
UID:10001877-1797062400-1797094800@gardencreek.nbed.ca
SUMMARY:Library Books to be returned
DESCRIPTION:
URL:https://gardencreek.nbed.ca/calendar/library-books-to-be-returned/2026-12-12/
END:VEVENT
BEGIN:VEVENT
DTSTART;TZID=America/Moncton:20261213T080000
DTEND;TZID=America/Moncton:20261213T170000
DTSTAMP:20260424T053557
CREATED:20240529T132922Z
LAST-MODIFIED:20240529T132925Z
UID:10001878-1797148800-1797181200@gardencreek.nbed.ca
SUMMARY:Library Books to be returned
DESCRIPTION:
URL:https://gardencreek.nbed.ca/calendar/library-books-to-be-returned/2026-12-13/
END:VEVENT
BEGIN:VEVENT
DTSTART;TZID=America/Moncton:20261214T080000
DTEND;TZID=America/Moncton:20261214T170000
DTSTAMP:20260424T053557
CREATED:20240529T132922Z
LAST-MODIFIED:20240529T132925Z
UID:10001879-1797235200-1797267600@gardencreek.nbed.ca
SUMMARY:Library Books to be returned
DESCRIPTION:
URL:https://gardencreek.nbed.ca/calendar/library-books-to-be-returned/2026-12-14/
END:VEVENT
BEGIN:VEVENT
DTSTART;TZID=America/Moncton:20261215T080000
DTEND;TZID=America/Moncton:20261215T170000
DTSTAMP:20260424T053557
CREATED:20240529T132922Z
LAST-MODIFIED:20240529T132925Z
UID:10001880-1797321600-1797354000@gardencreek.nbed.ca
SUMMARY:Library Books to be returned
DESCRIPTION:
URL:https://gardencreek.nbed.ca/calendar/library-books-to-be-returned/2026-12-15/
END:VEVENT
END:VCALENDAR