BEGIN:VCALENDAR
VERSION:2.0
PRODID:-//Garden Creek School - ECPv6.15.20//NONSGML v1.0//EN
CALSCALE:GREGORIAN
METHOD:PUBLISH
X-WR-CALNAME:Garden Creek School
X-ORIGINAL-URL:https://gardencreek.nbed.ca
X-WR-CALDESC:Events for Garden Creek School
REFRESH-INTERVAL;VALUE=DURATION:PT1H
X-Robots-Tag:noindex
X-PUBLISHED-TTL:PT1H
BEGIN:VTIMEZONE
TZID:America/Moncton
BEGIN:DAYLIGHT
TZOFFSETFROM:-0400
TZOFFSETTO:-0300
TZNAME:ADT
DTSTART:20240310T060000
END:DAYLIGHT
BEGIN:STANDARD
TZOFFSETFROM:-0300
TZOFFSETTO:-0400
TZNAME:AST
DTSTART:20241103T050000
END:STANDARD
BEGIN:DAYLIGHT
TZOFFSETFROM:-0400
TZOFFSETTO:-0300
TZNAME:ADT
DTSTART:20250309T060000
END:DAYLIGHT
BEGIN:STANDARD
TZOFFSETFROM:-0300
TZOFFSETTO:-0400
TZNAME:AST
DTSTART:20251102T050000
END:STANDARD
BEGIN:DAYLIGHT
TZOFFSETFROM:-0400
TZOFFSETTO:-0300
TZNAME:ADT
DTSTART:20260308T060000
END:DAYLIGHT
BEGIN:STANDARD
TZOFFSETFROM:-0300
TZOFFSETTO:-0400
TZNAME:AST
DTSTART:20261101T050000
END:STANDARD
END:VTIMEZONE
BEGIN:VEVENT
DTSTART;TZID=America/Moncton:20250820T080000
DTEND;TZID=America/Moncton:20250820T170000
DTSTAMP:20260424T104218
CREATED:20240529T132922Z
LAST-MODIFIED:20240529T132925Z
UID:10001398-1755676800-1755709200@gardencreek.nbed.ca
SUMMARY:Library Books to be returned
DESCRIPTION:
URL:https://gardencreek.nbed.ca/calendar/library-books-to-be-returned/2025-08-20/
END:VEVENT
BEGIN:VEVENT
DTSTART;TZID=America/Moncton:20250819T080000
DTEND;TZID=America/Moncton:20250819T170000
DTSTAMP:20260424T104218
CREATED:20240529T132922Z
LAST-MODIFIED:20240529T132925Z
UID:10001397-1755590400-1755622800@gardencreek.nbed.ca
SUMMARY:Library Books to be returned
DESCRIPTION:
URL:https://gardencreek.nbed.ca/calendar/library-books-to-be-returned/2025-08-19/
END:VEVENT
BEGIN:VEVENT
DTSTART;TZID=America/Moncton:20250818T080000
DTEND;TZID=America/Moncton:20250818T170000
DTSTAMP:20260424T104218
CREATED:20240529T132922Z
LAST-MODIFIED:20240529T132925Z
UID:10001396-1755504000-1755536400@gardencreek.nbed.ca
SUMMARY:Library Books to be returned
DESCRIPTION:
URL:https://gardencreek.nbed.ca/calendar/library-books-to-be-returned/2025-08-18/
END:VEVENT
BEGIN:VEVENT
DTSTART;TZID=America/Moncton:20250817T080000
DTEND;TZID=America/Moncton:20250817T170000
DTSTAMP:20260424T104218
CREATED:20240529T132922Z
LAST-MODIFIED:20240529T132925Z
UID:10001395-1755417600-1755450000@gardencreek.nbed.ca
SUMMARY:Library Books to be returned
DESCRIPTION:
URL:https://gardencreek.nbed.ca/calendar/library-books-to-be-returned/2025-08-17/
END:VEVENT
BEGIN:VEVENT
DTSTART;TZID=America/Moncton:20250816T080000
DTEND;TZID=America/Moncton:20250816T170000
DTSTAMP:20260424T104218
CREATED:20240529T132922Z
LAST-MODIFIED:20240529T132925Z
UID:10001394-1755331200-1755363600@gardencreek.nbed.ca
SUMMARY:Library Books to be returned
DESCRIPTION:
URL:https://gardencreek.nbed.ca/calendar/library-books-to-be-returned/2025-08-16/
END:VEVENT
BEGIN:VEVENT
DTSTART;TZID=America/Moncton:20250815T080000
DTEND;TZID=America/Moncton:20250815T170000
DTSTAMP:20260424T104218
CREATED:20240529T132922Z
LAST-MODIFIED:20240529T132925Z
UID:10001393-1755244800-1755277200@gardencreek.nbed.ca
SUMMARY:Library Books to be returned
DESCRIPTION:
URL:https://gardencreek.nbed.ca/calendar/library-books-to-be-returned/2025-08-15/
END:VEVENT
BEGIN:VEVENT
DTSTART;TZID=America/Moncton:20250814T080000
DTEND;TZID=America/Moncton:20250814T170000
DTSTAMP:20260424T104218
CREATED:20240529T132922Z
LAST-MODIFIED:20240529T132925Z
UID:10001392-1755158400-1755190800@gardencreek.nbed.ca
SUMMARY:Library Books to be returned
DESCRIPTION:
URL:https://gardencreek.nbed.ca/calendar/library-books-to-be-returned/2025-08-14/
END:VEVENT
BEGIN:VEVENT
DTSTART;TZID=America/Moncton:20250813T080000
DTEND;TZID=America/Moncton:20250813T170000
DTSTAMP:20260424T104218
CREATED:20240529T132922Z
LAST-MODIFIED:20240529T132925Z
UID:10001391-1755072000-1755104400@gardencreek.nbed.ca
SUMMARY:Library Books to be returned
DESCRIPTION:
URL:https://gardencreek.nbed.ca/calendar/library-books-to-be-returned/2025-08-13/
END:VEVENT
BEGIN:VEVENT
DTSTART;TZID=America/Moncton:20250812T080000
DTEND;TZID=America/Moncton:20250812T170000
DTSTAMP:20260424T104218
CREATED:20240529T132922Z
LAST-MODIFIED:20240529T132925Z
UID:10001390-1754985600-1755018000@gardencreek.nbed.ca
SUMMARY:Library Books to be returned
DESCRIPTION:
URL:https://gardencreek.nbed.ca/calendar/library-books-to-be-returned/2025-08-12/
END:VEVENT
BEGIN:VEVENT
DTSTART;TZID=America/Moncton:20250811T080000
DTEND;TZID=America/Moncton:20250811T170000
DTSTAMP:20260424T104218
CREATED:20240529T132922Z
LAST-MODIFIED:20240529T132925Z
UID:10001389-1754899200-1754931600@gardencreek.nbed.ca
SUMMARY:Library Books to be returned
DESCRIPTION:
URL:https://gardencreek.nbed.ca/calendar/library-books-to-be-returned/2025-08-11/
END:VEVENT
BEGIN:VEVENT
DTSTART;TZID=America/Moncton:20250810T080000
DTEND;TZID=America/Moncton:20250810T170000
DTSTAMP:20260424T104219
CREATED:20240529T132922Z
LAST-MODIFIED:20240529T132925Z
UID:10001388-1754812800-1754845200@gardencreek.nbed.ca
SUMMARY:Library Books to be returned
DESCRIPTION:
URL:https://gardencreek.nbed.ca/calendar/library-books-to-be-returned/2025-08-10/
END:VEVENT
BEGIN:VEVENT
DTSTART;TZID=America/Moncton:20250809T080000
DTEND;TZID=America/Moncton:20250809T170000
DTSTAMP:20260424T104219
CREATED:20240529T132922Z
LAST-MODIFIED:20240529T132925Z
UID:10001387-1754726400-1754758800@gardencreek.nbed.ca
SUMMARY:Library Books to be returned
DESCRIPTION:
URL:https://gardencreek.nbed.ca/calendar/library-books-to-be-returned/2025-08-09/
END:VEVENT
BEGIN:VEVENT
DTSTART;TZID=America/Moncton:20250808T080000
DTEND;TZID=America/Moncton:20250808T170000
DTSTAMP:20260424T104219
CREATED:20240529T132922Z
LAST-MODIFIED:20240529T132925Z
UID:10001386-1754640000-1754672400@gardencreek.nbed.ca
SUMMARY:Library Books to be returned
DESCRIPTION:
URL:https://gardencreek.nbed.ca/calendar/library-books-to-be-returned/2025-08-08/
END:VEVENT
BEGIN:VEVENT
DTSTART;TZID=America/Moncton:20250807T080000
DTEND;TZID=America/Moncton:20250807T170000
DTSTAMP:20260424T104219
CREATED:20240529T132922Z
LAST-MODIFIED:20240529T132925Z
UID:10001385-1754553600-1754586000@gardencreek.nbed.ca
SUMMARY:Library Books to be returned
DESCRIPTION:
URL:https://gardencreek.nbed.ca/calendar/library-books-to-be-returned/2025-08-07/
END:VEVENT
BEGIN:VEVENT
DTSTART;TZID=America/Moncton:20250806T080000
DTEND;TZID=America/Moncton:20250806T170000
DTSTAMP:20260424T104219
CREATED:20240529T132922Z
LAST-MODIFIED:20240529T132925Z
UID:10001384-1754467200-1754499600@gardencreek.nbed.ca
SUMMARY:Library Books to be returned
DESCRIPTION:
URL:https://gardencreek.nbed.ca/calendar/library-books-to-be-returned/2025-08-06/
END:VEVENT
BEGIN:VEVENT
DTSTART;TZID=America/Moncton:20250805T080000
DTEND;TZID=America/Moncton:20250805T170000
DTSTAMP:20260424T104219
CREATED:20240529T132922Z
LAST-MODIFIED:20240529T132925Z
UID:10001383-1754380800-1754413200@gardencreek.nbed.ca
SUMMARY:Library Books to be returned
DESCRIPTION:
URL:https://gardencreek.nbed.ca/calendar/library-books-to-be-returned/2025-08-05/
END:VEVENT
BEGIN:VEVENT
DTSTART;TZID=America/Moncton:20250804T080000
DTEND;TZID=America/Moncton:20250804T170000
DTSTAMP:20260424T104219
CREATED:20240529T132922Z
LAST-MODIFIED:20240529T132925Z
UID:10001382-1754294400-1754326800@gardencreek.nbed.ca
SUMMARY:Library Books to be returned
DESCRIPTION:
URL:https://gardencreek.nbed.ca/calendar/library-books-to-be-returned/2025-08-04/
END:VEVENT
BEGIN:VEVENT
DTSTART;TZID=America/Moncton:20250803T080000
DTEND;TZID=America/Moncton:20250803T170000
DTSTAMP:20260424T104219
CREATED:20240529T132922Z
LAST-MODIFIED:20240529T132925Z
UID:10001381-1754208000-1754240400@gardencreek.nbed.ca
SUMMARY:Library Books to be returned
DESCRIPTION:
URL:https://gardencreek.nbed.ca/calendar/library-books-to-be-returned/2025-08-03/
END:VEVENT
BEGIN:VEVENT
DTSTART;TZID=America/Moncton:20250802T080000
DTEND;TZID=America/Moncton:20250802T170000
DTSTAMP:20260424T104219
CREATED:20240529T132922Z
LAST-MODIFIED:20240529T132925Z
UID:10001380-1754121600-1754154000@gardencreek.nbed.ca
SUMMARY:Library Books to be returned
DESCRIPTION:
URL:https://gardencreek.nbed.ca/calendar/library-books-to-be-returned/2025-08-02/
END:VEVENT
BEGIN:VEVENT
DTSTART;TZID=America/Moncton:20250801T080000
DTEND;TZID=America/Moncton:20250801T170000
DTSTAMP:20260424T104219
CREATED:20240529T132922Z
LAST-MODIFIED:20240529T132925Z
UID:10001379-1754035200-1754067600@gardencreek.nbed.ca
SUMMARY:Library Books to be returned
DESCRIPTION:
URL:https://gardencreek.nbed.ca/calendar/library-books-to-be-returned/2025-08-01/
END:VEVENT
BEGIN:VEVENT
DTSTART;TZID=America/Moncton:20250731T080000
DTEND;TZID=America/Moncton:20250731T170000
DTSTAMP:20260424T104219
CREATED:20240529T132922Z
LAST-MODIFIED:20240529T132925Z
UID:10001378-1753948800-1753981200@gardencreek.nbed.ca
SUMMARY:Library Books to be returned
DESCRIPTION:
URL:https://gardencreek.nbed.ca/calendar/library-books-to-be-returned/2025-07-31/
END:VEVENT
BEGIN:VEVENT
DTSTART;TZID=America/Moncton:20250730T080000
DTEND;TZID=America/Moncton:20250730T170000
DTSTAMP:20260424T104219
CREATED:20240529T132922Z
LAST-MODIFIED:20240529T132925Z
UID:10001377-1753862400-1753894800@gardencreek.nbed.ca
SUMMARY:Library Books to be returned
DESCRIPTION:
URL:https://gardencreek.nbed.ca/calendar/library-books-to-be-returned/2025-07-30/
END:VEVENT
BEGIN:VEVENT
DTSTART;TZID=America/Moncton:20250729T080000
DTEND;TZID=America/Moncton:20250729T170000
DTSTAMP:20260424T104219
CREATED:20240529T132922Z
LAST-MODIFIED:20240529T132925Z
UID:10001376-1753776000-1753808400@gardencreek.nbed.ca
SUMMARY:Library Books to be returned
DESCRIPTION:
URL:https://gardencreek.nbed.ca/calendar/library-books-to-be-returned/2025-07-29/
END:VEVENT
BEGIN:VEVENT
DTSTART;TZID=America/Moncton:20250728T080000
DTEND;TZID=America/Moncton:20250728T170000
DTSTAMP:20260424T104219
CREATED:20240529T132922Z
LAST-MODIFIED:20240529T132925Z
UID:10001375-1753689600-1753722000@gardencreek.nbed.ca
SUMMARY:Library Books to be returned
DESCRIPTION:
URL:https://gardencreek.nbed.ca/calendar/library-books-to-be-returned/2025-07-28/
END:VEVENT
BEGIN:VEVENT
DTSTART;TZID=America/Moncton:20250727T080000
DTEND;TZID=America/Moncton:20250727T170000
DTSTAMP:20260424T104219
CREATED:20240529T132922Z
LAST-MODIFIED:20240529T132925Z
UID:10001374-1753603200-1753635600@gardencreek.nbed.ca
SUMMARY:Library Books to be returned
DESCRIPTION:
URL:https://gardencreek.nbed.ca/calendar/library-books-to-be-returned/2025-07-27/
END:VEVENT
BEGIN:VEVENT
DTSTART;TZID=America/Moncton:20250726T080000
DTEND;TZID=America/Moncton:20250726T170000
DTSTAMP:20260424T104219
CREATED:20240529T132922Z
LAST-MODIFIED:20240529T132925Z
UID:10001373-1753516800-1753549200@gardencreek.nbed.ca
SUMMARY:Library Books to be returned
DESCRIPTION:
URL:https://gardencreek.nbed.ca/calendar/library-books-to-be-returned/2025-07-26/
END:VEVENT
BEGIN:VEVENT
DTSTART;TZID=America/Moncton:20250725T080000
DTEND;TZID=America/Moncton:20250725T170000
DTSTAMP:20260424T104219
CREATED:20240529T132922Z
LAST-MODIFIED:20240529T132925Z
UID:10001372-1753430400-1753462800@gardencreek.nbed.ca
SUMMARY:Library Books to be returned
DESCRIPTION:
URL:https://gardencreek.nbed.ca/calendar/library-books-to-be-returned/2025-07-25/
END:VEVENT
BEGIN:VEVENT
DTSTART;TZID=America/Moncton:20250724T080000
DTEND;TZID=America/Moncton:20250724T170000
DTSTAMP:20260424T104219
CREATED:20240529T132922Z
LAST-MODIFIED:20240529T132925Z
UID:10001371-1753344000-1753376400@gardencreek.nbed.ca
SUMMARY:Library Books to be returned
DESCRIPTION:
URL:https://gardencreek.nbed.ca/calendar/library-books-to-be-returned/2025-07-24/
END:VEVENT
BEGIN:VEVENT
DTSTART;TZID=America/Moncton:20250723T080000
DTEND;TZID=America/Moncton:20250723T170000
DTSTAMP:20260424T104219
CREATED:20240529T132922Z
LAST-MODIFIED:20240529T132925Z
UID:10001370-1753257600-1753290000@gardencreek.nbed.ca
SUMMARY:Library Books to be returned
DESCRIPTION:
URL:https://gardencreek.nbed.ca/calendar/library-books-to-be-returned/2025-07-23/
END:VEVENT
BEGIN:VEVENT
DTSTART;TZID=America/Moncton:20250722T080000
DTEND;TZID=America/Moncton:20250722T170000
DTSTAMP:20260424T104219
CREATED:20240529T132922Z
LAST-MODIFIED:20240529T132925Z
UID:10001369-1753171200-1753203600@gardencreek.nbed.ca
SUMMARY:Library Books to be returned
DESCRIPTION:
URL:https://gardencreek.nbed.ca/calendar/library-books-to-be-returned/2025-07-22/
END:VEVENT
END:VCALENDAR