BEGIN:VCALENDAR
VERSION:2.0
PRODID:-//Garden Creek School - ECPv6.15.20//NONSGML v1.0//EN
CALSCALE:GREGORIAN
METHOD:PUBLISH
X-WR-CALNAME:Garden Creek School
X-ORIGINAL-URL:https://gardencreek.nbed.ca
X-WR-CALDESC:Events for Garden Creek School
REFRESH-INTERVAL;VALUE=DURATION:PT1H
X-Robots-Tag:noindex
X-PUBLISHED-TTL:PT1H
BEGIN:VTIMEZONE
TZID:America/Moncton
BEGIN:DAYLIGHT
TZOFFSETFROM:-0400
TZOFFSETTO:-0300
TZNAME:ADT
DTSTART:20240310T060000
END:DAYLIGHT
BEGIN:STANDARD
TZOFFSETFROM:-0300
TZOFFSETTO:-0400
TZNAME:AST
DTSTART:20241103T050000
END:STANDARD
BEGIN:DAYLIGHT
TZOFFSETFROM:-0400
TZOFFSETTO:-0300
TZNAME:ADT
DTSTART:20250309T060000
END:DAYLIGHT
BEGIN:STANDARD
TZOFFSETFROM:-0300
TZOFFSETTO:-0400
TZNAME:AST
DTSTART:20251102T050000
END:STANDARD
BEGIN:DAYLIGHT
TZOFFSETFROM:-0400
TZOFFSETTO:-0300
TZNAME:ADT
DTSTART:20260308T060000
END:DAYLIGHT
BEGIN:STANDARD
TZOFFSETFROM:-0300
TZOFFSETTO:-0400
TZNAME:AST
DTSTART:20261101T050000
END:STANDARD
END:VTIMEZONE
BEGIN:VEVENT
DTSTART;TZID=America/Moncton:20251001T080000
DTEND;TZID=America/Moncton:20251001T170000
DTSTAMP:20260424T075210
CREATED:20240529T132922Z
LAST-MODIFIED:20240529T132925Z
UID:10001440-1759305600-1759338000@gardencreek.nbed.ca
SUMMARY:Library Books to be returned
DESCRIPTION:
URL:https://gardencreek.nbed.ca/calendar/library-books-to-be-returned/2025-10-01/
END:VEVENT
BEGIN:VEVENT
DTSTART;TZID=America/Moncton:20250930T080000
DTEND;TZID=America/Moncton:20250930T170000
DTSTAMP:20260424T075211
CREATED:20240529T132922Z
LAST-MODIFIED:20240529T132925Z
UID:10001439-1759219200-1759251600@gardencreek.nbed.ca
SUMMARY:Library Books to be returned
DESCRIPTION:
URL:https://gardencreek.nbed.ca/calendar/library-books-to-be-returned/2025-09-30/
END:VEVENT
BEGIN:VEVENT
DTSTART;TZID=America/Moncton:20250929T080000
DTEND;TZID=America/Moncton:20250929T170000
DTSTAMP:20260424T075211
CREATED:20240529T132922Z
LAST-MODIFIED:20240529T132925Z
UID:10001438-1759132800-1759165200@gardencreek.nbed.ca
SUMMARY:Library Books to be returned
DESCRIPTION:
URL:https://gardencreek.nbed.ca/calendar/library-books-to-be-returned/2025-09-29/
END:VEVENT
BEGIN:VEVENT
DTSTART;TZID=America/Moncton:20250928T080000
DTEND;TZID=America/Moncton:20250928T170000
DTSTAMP:20260424T075211
CREATED:20240529T132922Z
LAST-MODIFIED:20240529T132925Z
UID:10001437-1759046400-1759078800@gardencreek.nbed.ca
SUMMARY:Library Books to be returned
DESCRIPTION:
URL:https://gardencreek.nbed.ca/calendar/library-books-to-be-returned/2025-09-28/
END:VEVENT
BEGIN:VEVENT
DTSTART;TZID=America/Moncton:20250927T080000
DTEND;TZID=America/Moncton:20250927T170000
DTSTAMP:20260424T075211
CREATED:20240529T132922Z
LAST-MODIFIED:20240529T132925Z
UID:10001436-1758960000-1758992400@gardencreek.nbed.ca
SUMMARY:Library Books to be returned
DESCRIPTION:
URL:https://gardencreek.nbed.ca/calendar/library-books-to-be-returned/2025-09-27/
END:VEVENT
BEGIN:VEVENT
DTSTART;TZID=America/Moncton:20250926T080000
DTEND;TZID=America/Moncton:20250926T170000
DTSTAMP:20260424T075211
CREATED:20240529T132922Z
LAST-MODIFIED:20240529T132925Z
UID:10001435-1758873600-1758906000@gardencreek.nbed.ca
SUMMARY:Library Books to be returned
DESCRIPTION:
URL:https://gardencreek.nbed.ca/calendar/library-books-to-be-returned/2025-09-26/
END:VEVENT
BEGIN:VEVENT
DTSTART;TZID=America/Moncton:20250925T080000
DTEND;TZID=America/Moncton:20250925T170000
DTSTAMP:20260424T075211
CREATED:20240529T132922Z
LAST-MODIFIED:20240529T132925Z
UID:10001434-1758787200-1758819600@gardencreek.nbed.ca
SUMMARY:Library Books to be returned
DESCRIPTION:
URL:https://gardencreek.nbed.ca/calendar/library-books-to-be-returned/2025-09-25/
END:VEVENT
BEGIN:VEVENT
DTSTART;TZID=America/Moncton:20250924T080000
DTEND;TZID=America/Moncton:20250924T170000
DTSTAMP:20260424T075211
CREATED:20240529T132922Z
LAST-MODIFIED:20240529T132925Z
UID:10001433-1758700800-1758733200@gardencreek.nbed.ca
SUMMARY:Library Books to be returned
DESCRIPTION:
URL:https://gardencreek.nbed.ca/calendar/library-books-to-be-returned/2025-09-24/
END:VEVENT
BEGIN:VEVENT
DTSTART;TZID=America/Moncton:20250923T080000
DTEND;TZID=America/Moncton:20250923T170000
DTSTAMP:20260424T075211
CREATED:20240529T132922Z
LAST-MODIFIED:20240529T132925Z
UID:10001432-1758614400-1758646800@gardencreek.nbed.ca
SUMMARY:Library Books to be returned
DESCRIPTION:
URL:https://gardencreek.nbed.ca/calendar/library-books-to-be-returned/2025-09-23/
END:VEVENT
BEGIN:VEVENT
DTSTART;TZID=America/Moncton:20250922T080000
DTEND;TZID=America/Moncton:20250922T170000
DTSTAMP:20260424T075211
CREATED:20240529T132922Z
LAST-MODIFIED:20240529T132925Z
UID:10001431-1758528000-1758560400@gardencreek.nbed.ca
SUMMARY:Library Books to be returned
DESCRIPTION:
URL:https://gardencreek.nbed.ca/calendar/library-books-to-be-returned/2025-09-22/
END:VEVENT
BEGIN:VEVENT
DTSTART;TZID=America/Moncton:20250921T080000
DTEND;TZID=America/Moncton:20250921T170000
DTSTAMP:20260424T075211
CREATED:20240529T132922Z
LAST-MODIFIED:20240529T132925Z
UID:10001430-1758441600-1758474000@gardencreek.nbed.ca
SUMMARY:Library Books to be returned
DESCRIPTION:
URL:https://gardencreek.nbed.ca/calendar/library-books-to-be-returned/2025-09-21/
END:VEVENT
BEGIN:VEVENT
DTSTART;TZID=America/Moncton:20250920T080000
DTEND;TZID=America/Moncton:20250920T170000
DTSTAMP:20260424T075211
CREATED:20240529T132922Z
LAST-MODIFIED:20240529T132925Z
UID:10001429-1758355200-1758387600@gardencreek.nbed.ca
SUMMARY:Library Books to be returned
DESCRIPTION:
URL:https://gardencreek.nbed.ca/calendar/library-books-to-be-returned/2025-09-20/
END:VEVENT
BEGIN:VEVENT
DTSTART;TZID=America/Moncton:20250919T080000
DTEND;TZID=America/Moncton:20250919T170000
DTSTAMP:20260424T075211
CREATED:20240529T132922Z
LAST-MODIFIED:20240529T132925Z
UID:10001428-1758268800-1758301200@gardencreek.nbed.ca
SUMMARY:Library Books to be returned
DESCRIPTION:
URL:https://gardencreek.nbed.ca/calendar/library-books-to-be-returned/2025-09-19/
END:VEVENT
BEGIN:VEVENT
DTSTART;TZID=America/Moncton:20250918T080000
DTEND;TZID=America/Moncton:20250918T170000
DTSTAMP:20260424T075211
CREATED:20240529T132922Z
LAST-MODIFIED:20240529T132925Z
UID:10001427-1758182400-1758214800@gardencreek.nbed.ca
SUMMARY:Library Books to be returned
DESCRIPTION:
URL:https://gardencreek.nbed.ca/calendar/library-books-to-be-returned/2025-09-18/
END:VEVENT
BEGIN:VEVENT
DTSTART;TZID=America/Moncton:20250917T080000
DTEND;TZID=America/Moncton:20250917T170000
DTSTAMP:20260424T075211
CREATED:20240529T132922Z
LAST-MODIFIED:20240529T132925Z
UID:10001426-1758096000-1758128400@gardencreek.nbed.ca
SUMMARY:Library Books to be returned
DESCRIPTION:
URL:https://gardencreek.nbed.ca/calendar/library-books-to-be-returned/2025-09-17/
END:VEVENT
BEGIN:VEVENT
DTSTART;TZID=America/Moncton:20250916T080000
DTEND;TZID=America/Moncton:20250916T170000
DTSTAMP:20260424T075211
CREATED:20240529T132922Z
LAST-MODIFIED:20240529T132925Z
UID:10001425-1758009600-1758042000@gardencreek.nbed.ca
SUMMARY:Library Books to be returned
DESCRIPTION:
URL:https://gardencreek.nbed.ca/calendar/library-books-to-be-returned/2025-09-16/
END:VEVENT
BEGIN:VEVENT
DTSTART;TZID=America/Moncton:20250915T080000
DTEND;TZID=America/Moncton:20250915T170000
DTSTAMP:20260424T075211
CREATED:20240529T132922Z
LAST-MODIFIED:20240529T132925Z
UID:10001424-1757923200-1757955600@gardencreek.nbed.ca
SUMMARY:Library Books to be returned
DESCRIPTION:
URL:https://gardencreek.nbed.ca/calendar/library-books-to-be-returned/2025-09-15/
END:VEVENT
BEGIN:VEVENT
DTSTART;TZID=America/Moncton:20250914T080000
DTEND;TZID=America/Moncton:20250914T170000
DTSTAMP:20260424T075211
CREATED:20240529T132922Z
LAST-MODIFIED:20240529T132925Z
UID:10001423-1757836800-1757869200@gardencreek.nbed.ca
SUMMARY:Library Books to be returned
DESCRIPTION:
URL:https://gardencreek.nbed.ca/calendar/library-books-to-be-returned/2025-09-14/
END:VEVENT
BEGIN:VEVENT
DTSTART;TZID=America/Moncton:20250913T080000
DTEND;TZID=America/Moncton:20250913T170000
DTSTAMP:20260424T075211
CREATED:20240529T132922Z
LAST-MODIFIED:20240529T132925Z
UID:10001422-1757750400-1757782800@gardencreek.nbed.ca
SUMMARY:Library Books to be returned
DESCRIPTION:
URL:https://gardencreek.nbed.ca/calendar/library-books-to-be-returned/2025-09-13/
END:VEVENT
BEGIN:VEVENT
DTSTART;TZID=America/Moncton:20250912T080000
DTEND;TZID=America/Moncton:20250912T170000
DTSTAMP:20260424T075211
CREATED:20240529T132922Z
LAST-MODIFIED:20240529T132925Z
UID:10001421-1757664000-1757696400@gardencreek.nbed.ca
SUMMARY:Library Books to be returned
DESCRIPTION:
URL:https://gardencreek.nbed.ca/calendar/library-books-to-be-returned/2025-09-12/
END:VEVENT
BEGIN:VEVENT
DTSTART;TZID=America/Moncton:20250911T080000
DTEND;TZID=America/Moncton:20250911T170000
DTSTAMP:20260424T075211
CREATED:20240529T132922Z
LAST-MODIFIED:20240529T132925Z
UID:10001420-1757577600-1757610000@gardencreek.nbed.ca
SUMMARY:Library Books to be returned
DESCRIPTION:
URL:https://gardencreek.nbed.ca/calendar/library-books-to-be-returned/2025-09-11/
END:VEVENT
BEGIN:VEVENT
DTSTART;TZID=America/Moncton:20250910T080000
DTEND;TZID=America/Moncton:20250910T170000
DTSTAMP:20260424T075211
CREATED:20240529T132922Z
LAST-MODIFIED:20240529T132925Z
UID:10001419-1757491200-1757523600@gardencreek.nbed.ca
SUMMARY:Library Books to be returned
DESCRIPTION:
URL:https://gardencreek.nbed.ca/calendar/library-books-to-be-returned/2025-09-10/
END:VEVENT
BEGIN:VEVENT
DTSTART;TZID=America/Moncton:20250909T080000
DTEND;TZID=America/Moncton:20250909T170000
DTSTAMP:20260424T075211
CREATED:20240529T132922Z
LAST-MODIFIED:20240529T132925Z
UID:10001418-1757404800-1757437200@gardencreek.nbed.ca
SUMMARY:Library Books to be returned
DESCRIPTION:
URL:https://gardencreek.nbed.ca/calendar/library-books-to-be-returned/2025-09-09/
END:VEVENT
BEGIN:VEVENT
DTSTART;TZID=America/Moncton:20250908T080000
DTEND;TZID=America/Moncton:20250908T170000
DTSTAMP:20260424T075211
CREATED:20240529T132922Z
LAST-MODIFIED:20240529T132925Z
UID:10001417-1757318400-1757350800@gardencreek.nbed.ca
SUMMARY:Library Books to be returned
DESCRIPTION:
URL:https://gardencreek.nbed.ca/calendar/library-books-to-be-returned/2025-09-08/
END:VEVENT
BEGIN:VEVENT
DTSTART;TZID=America/Moncton:20250907T080000
DTEND;TZID=America/Moncton:20250907T170000
DTSTAMP:20260424T075211
CREATED:20240529T132922Z
LAST-MODIFIED:20240529T132925Z
UID:10001416-1757232000-1757264400@gardencreek.nbed.ca
SUMMARY:Library Books to be returned
DESCRIPTION:
URL:https://gardencreek.nbed.ca/calendar/library-books-to-be-returned/2025-09-07/
END:VEVENT
BEGIN:VEVENT
DTSTART;TZID=America/Moncton:20250906T080000
DTEND;TZID=America/Moncton:20250906T170000
DTSTAMP:20260424T075211
CREATED:20240529T132922Z
LAST-MODIFIED:20240529T132925Z
UID:10001415-1757145600-1757178000@gardencreek.nbed.ca
SUMMARY:Library Books to be returned
DESCRIPTION:
URL:https://gardencreek.nbed.ca/calendar/library-books-to-be-returned/2025-09-06/
END:VEVENT
BEGIN:VEVENT
DTSTART;TZID=America/Moncton:20250905T080000
DTEND;TZID=America/Moncton:20250905T170000
DTSTAMP:20260424T075211
CREATED:20240529T132922Z
LAST-MODIFIED:20240529T132925Z
UID:10001414-1757059200-1757091600@gardencreek.nbed.ca
SUMMARY:Library Books to be returned
DESCRIPTION:
URL:https://gardencreek.nbed.ca/calendar/library-books-to-be-returned/2025-09-05/
END:VEVENT
BEGIN:VEVENT
DTSTART;TZID=America/Moncton:20250904T080000
DTEND;TZID=America/Moncton:20250904T170000
DTSTAMP:20260424T075211
CREATED:20240529T132922Z
LAST-MODIFIED:20240529T132925Z
UID:10001413-1756972800-1757005200@gardencreek.nbed.ca
SUMMARY:Library Books to be returned
DESCRIPTION:
URL:https://gardencreek.nbed.ca/calendar/library-books-to-be-returned/2025-09-04/
END:VEVENT
BEGIN:VEVENT
DTSTART;TZID=America/Moncton:20250903T080000
DTEND;TZID=America/Moncton:20250903T170000
DTSTAMP:20260424T075211
CREATED:20240529T132922Z
LAST-MODIFIED:20240529T132925Z
UID:10001412-1756886400-1756918800@gardencreek.nbed.ca
SUMMARY:Library Books to be returned
DESCRIPTION:
URL:https://gardencreek.nbed.ca/calendar/library-books-to-be-returned/2025-09-03/
END:VEVENT
BEGIN:VEVENT
DTSTART;TZID=America/Moncton:20250902T080000
DTEND;TZID=America/Moncton:20250902T170000
DTSTAMP:20260424T075211
CREATED:20240529T132922Z
LAST-MODIFIED:20240529T132925Z
UID:10001411-1756800000-1756832400@gardencreek.nbed.ca
SUMMARY:Library Books to be returned
DESCRIPTION:
URL:https://gardencreek.nbed.ca/calendar/library-books-to-be-returned/2025-09-02/
END:VEVENT
END:VCALENDAR