BEGIN:VCALENDAR
VERSION:2.0
PRODID:-//Garden Creek School - ECPv6.15.20//NONSGML v1.0//EN
CALSCALE:GREGORIAN
METHOD:PUBLISH
X-ORIGINAL-URL:https://gardencreek.nbed.ca
X-WR-CALDESC:Events for Garden Creek School
REFRESH-INTERVAL;VALUE=DURATION:PT1H
X-Robots-Tag:noindex
X-PUBLISHED-TTL:PT1H
BEGIN:VTIMEZONE
TZID:America/Moncton
BEGIN:DAYLIGHT
TZOFFSETFROM:-0400
TZOFFSETTO:-0300
TZNAME:ADT
DTSTART:20260308T060000
END:DAYLIGHT
BEGIN:STANDARD
TZOFFSETFROM:-0300
TZOFFSETTO:-0400
TZNAME:AST
DTSTART:20261101T050000
END:STANDARD
BEGIN:DAYLIGHT
TZOFFSETFROM:-0400
TZOFFSETTO:-0300
TZNAME:ADT
DTSTART:20270314T060000
END:DAYLIGHT
BEGIN:STANDARD
TZOFFSETFROM:-0300
TZOFFSETTO:-0400
TZNAME:AST
DTSTART:20271107T050000
END:STANDARD
BEGIN:DAYLIGHT
TZOFFSETFROM:-0400
TZOFFSETTO:-0300
TZNAME:ADT
DTSTART:20280312T060000
END:DAYLIGHT
BEGIN:STANDARD
TZOFFSETFROM:-0300
TZOFFSETTO:-0400
TZNAME:AST
DTSTART:20281105T050000
END:STANDARD
END:VTIMEZONE
BEGIN:VEVENT
DTSTART;TZID=America/Moncton:20270121T080000
DTEND;TZID=America/Moncton:20270121T170000
DTSTAMP:20260424T111013
CREATED:20240529T132922Z
LAST-MODIFIED:20240529T132925Z
UID:10001917-1800518400-1800550800@gardencreek.nbed.ca
SUMMARY:Library Books to be returned
DESCRIPTION:
URL:https://gardencreek.nbed.ca/calendar/library-books-to-be-returned/2027-01-21/
END:VEVENT
BEGIN:VEVENT
DTSTART;TZID=America/Moncton:20270122T080000
DTEND;TZID=America/Moncton:20270122T170000
DTSTAMP:20260424T111013
CREATED:20240529T132922Z
LAST-MODIFIED:20240529T132925Z
UID:10001918-1800604800-1800637200@gardencreek.nbed.ca
SUMMARY:Library Books to be returned
DESCRIPTION:
URL:https://gardencreek.nbed.ca/calendar/library-books-to-be-returned/2027-01-22/
END:VEVENT
BEGIN:VEVENT
DTSTART;TZID=America/Moncton:20270123T080000
DTEND;TZID=America/Moncton:20270123T170000
DTSTAMP:20260424T111013
CREATED:20240529T132922Z
LAST-MODIFIED:20240529T132925Z
UID:10001919-1800691200-1800723600@gardencreek.nbed.ca
SUMMARY:Library Books to be returned
DESCRIPTION:
URL:https://gardencreek.nbed.ca/calendar/library-books-to-be-returned/2027-01-23/
END:VEVENT
BEGIN:VEVENT
DTSTART;TZID=America/Moncton:20270124T080000
DTEND;TZID=America/Moncton:20270124T170000
DTSTAMP:20260424T111013
CREATED:20240529T132922Z
LAST-MODIFIED:20240529T132925Z
UID:10001920-1800777600-1800810000@gardencreek.nbed.ca
SUMMARY:Library Books to be returned
DESCRIPTION:
URL:https://gardencreek.nbed.ca/calendar/library-books-to-be-returned/2027-01-24/
END:VEVENT
BEGIN:VEVENT
DTSTART;TZID=America/Moncton:20270125T080000
DTEND;TZID=America/Moncton:20270125T170000
DTSTAMP:20260424T111013
CREATED:20240529T132922Z
LAST-MODIFIED:20240529T132925Z
UID:10001921-1800864000-1800896400@gardencreek.nbed.ca
SUMMARY:Library Books to be returned
DESCRIPTION:
URL:https://gardencreek.nbed.ca/calendar/library-books-to-be-returned/2027-01-25/
END:VEVENT
BEGIN:VEVENT
DTSTART;TZID=America/Moncton:20270126T080000
DTEND;TZID=America/Moncton:20270126T170000
DTSTAMP:20260424T111013
CREATED:20240529T132922Z
LAST-MODIFIED:20240529T132925Z
UID:10001922-1800950400-1800982800@gardencreek.nbed.ca
SUMMARY:Library Books to be returned
DESCRIPTION:
URL:https://gardencreek.nbed.ca/calendar/library-books-to-be-returned/2027-01-26/
END:VEVENT
BEGIN:VEVENT
DTSTART;TZID=America/Moncton:20270127T080000
DTEND;TZID=America/Moncton:20270127T170000
DTSTAMP:20260424T111013
CREATED:20240529T132922Z
LAST-MODIFIED:20240529T132925Z
UID:10001923-1801036800-1801069200@gardencreek.nbed.ca
SUMMARY:Library Books to be returned
DESCRIPTION:
URL:https://gardencreek.nbed.ca/calendar/library-books-to-be-returned/2027-01-27/
END:VEVENT
BEGIN:VEVENT
DTSTART;TZID=America/Moncton:20270128T080000
DTEND;TZID=America/Moncton:20270128T170000
DTSTAMP:20260424T111013
CREATED:20240529T132922Z
LAST-MODIFIED:20240529T132925Z
UID:10001924-1801123200-1801155600@gardencreek.nbed.ca
SUMMARY:Library Books to be returned
DESCRIPTION:
URL:https://gardencreek.nbed.ca/calendar/library-books-to-be-returned/2027-01-28/
END:VEVENT
BEGIN:VEVENT
DTSTART;TZID=America/Moncton:20270129T080000
DTEND;TZID=America/Moncton:20270129T170000
DTSTAMP:20260424T111013
CREATED:20240529T132922Z
LAST-MODIFIED:20240529T132925Z
UID:10001925-1801209600-1801242000@gardencreek.nbed.ca
SUMMARY:Library Books to be returned
DESCRIPTION:
URL:https://gardencreek.nbed.ca/calendar/library-books-to-be-returned/2027-01-29/
END:VEVENT
BEGIN:VEVENT
DTSTART;TZID=America/Moncton:20270130T080000
DTEND;TZID=America/Moncton:20270130T170000
DTSTAMP:20260424T111013
CREATED:20240529T132922Z
LAST-MODIFIED:20240529T132925Z
UID:10001926-1801296000-1801328400@gardencreek.nbed.ca
SUMMARY:Library Books to be returned
DESCRIPTION:
URL:https://gardencreek.nbed.ca/calendar/library-books-to-be-returned/2027-01-30/
END:VEVENT
BEGIN:VEVENT
DTSTART;TZID=America/Moncton:20270131T080000
DTEND;TZID=America/Moncton:20270131T170000
DTSTAMP:20260424T111013
CREATED:20240529T132922Z
LAST-MODIFIED:20240529T132925Z
UID:10001927-1801382400-1801414800@gardencreek.nbed.ca
SUMMARY:Library Books to be returned
DESCRIPTION:
URL:https://gardencreek.nbed.ca/calendar/library-books-to-be-returned/2027-01-31/
END:VEVENT
BEGIN:VEVENT
DTSTART;TZID=America/Moncton:20270201T080000
DTEND;TZID=America/Moncton:20270201T170000
DTSTAMP:20260424T111013
CREATED:20240529T132922Z
LAST-MODIFIED:20240529T132925Z
UID:10001928-1801468800-1801501200@gardencreek.nbed.ca
SUMMARY:Library Books to be returned
DESCRIPTION:
URL:https://gardencreek.nbed.ca/calendar/library-books-to-be-returned/2027-02-01/
END:VEVENT
BEGIN:VEVENT
DTSTART;TZID=America/Moncton:20270202T080000
DTEND;TZID=America/Moncton:20270202T170000
DTSTAMP:20260424T111013
CREATED:20240529T132922Z
LAST-MODIFIED:20240529T132925Z
UID:10001929-1801555200-1801587600@gardencreek.nbed.ca
SUMMARY:Library Books to be returned
DESCRIPTION:
URL:https://gardencreek.nbed.ca/calendar/library-books-to-be-returned/2027-02-02/
END:VEVENT
BEGIN:VEVENT
DTSTART;TZID=America/Moncton:20270203T080000
DTEND;TZID=America/Moncton:20270203T170000
DTSTAMP:20260424T111013
CREATED:20240529T132922Z
LAST-MODIFIED:20240529T132925Z
UID:10001930-1801641600-1801674000@gardencreek.nbed.ca
SUMMARY:Library Books to be returned
DESCRIPTION:
URL:https://gardencreek.nbed.ca/calendar/library-books-to-be-returned/2027-02-03/
END:VEVENT
BEGIN:VEVENT
DTSTART;TZID=America/Moncton:20270204T080000
DTEND;TZID=America/Moncton:20270204T170000
DTSTAMP:20260424T111013
CREATED:20240529T132922Z
LAST-MODIFIED:20240529T132925Z
UID:10001931-1801728000-1801760400@gardencreek.nbed.ca
SUMMARY:Library Books to be returned
DESCRIPTION:
URL:https://gardencreek.nbed.ca/calendar/library-books-to-be-returned/2027-02-04/
END:VEVENT
BEGIN:VEVENT
DTSTART;TZID=America/Moncton:20270205T080000
DTEND;TZID=America/Moncton:20270205T170000
DTSTAMP:20260424T111013
CREATED:20240529T132922Z
LAST-MODIFIED:20240529T132925Z
UID:10001932-1801814400-1801846800@gardencreek.nbed.ca
SUMMARY:Library Books to be returned
DESCRIPTION:
URL:https://gardencreek.nbed.ca/calendar/library-books-to-be-returned/2027-02-05/
END:VEVENT
BEGIN:VEVENT
DTSTART;TZID=America/Moncton:20270206T080000
DTEND;TZID=America/Moncton:20270206T170000
DTSTAMP:20260424T111013
CREATED:20240529T132922Z
LAST-MODIFIED:20240529T132925Z
UID:10001933-1801900800-1801933200@gardencreek.nbed.ca
SUMMARY:Library Books to be returned
DESCRIPTION:
URL:https://gardencreek.nbed.ca/calendar/library-books-to-be-returned/2027-02-06/
END:VEVENT
BEGIN:VEVENT
DTSTART;TZID=America/Moncton:20270207T080000
DTEND;TZID=America/Moncton:20270207T170000
DTSTAMP:20260424T111013
CREATED:20240529T132922Z
LAST-MODIFIED:20240529T132925Z
UID:10001934-1801987200-1802019600@gardencreek.nbed.ca
SUMMARY:Library Books to be returned
DESCRIPTION:
URL:https://gardencreek.nbed.ca/calendar/library-books-to-be-returned/2027-02-07/
END:VEVENT
BEGIN:VEVENT
DTSTART;TZID=America/Moncton:20270208T080000
DTEND;TZID=America/Moncton:20270208T170000
DTSTAMP:20260424T111013
CREATED:20240529T132922Z
LAST-MODIFIED:20240529T132925Z
UID:10001935-1802073600-1802106000@gardencreek.nbed.ca
SUMMARY:Library Books to be returned
DESCRIPTION:
URL:https://gardencreek.nbed.ca/calendar/library-books-to-be-returned/2027-02-08/
END:VEVENT
BEGIN:VEVENT
DTSTART;TZID=America/Moncton:20270209T080000
DTEND;TZID=America/Moncton:20270209T170000
DTSTAMP:20260424T111013
CREATED:20240529T132922Z
LAST-MODIFIED:20240529T132925Z
UID:10001936-1802160000-1802192400@gardencreek.nbed.ca
SUMMARY:Library Books to be returned
DESCRIPTION:
URL:https://gardencreek.nbed.ca/calendar/library-books-to-be-returned/2027-02-09/
END:VEVENT
BEGIN:VEVENT
DTSTART;TZID=America/Moncton:20270210T080000
DTEND;TZID=America/Moncton:20270210T170000
DTSTAMP:20260424T111013
CREATED:20240529T132922Z
LAST-MODIFIED:20240529T132925Z
UID:10001937-1802246400-1802278800@gardencreek.nbed.ca
SUMMARY:Library Books to be returned
DESCRIPTION:
URL:https://gardencreek.nbed.ca/calendar/library-books-to-be-returned/2027-02-10/
END:VEVENT
BEGIN:VEVENT
DTSTART;TZID=America/Moncton:20270211T080000
DTEND;TZID=America/Moncton:20270211T170000
DTSTAMP:20260424T111013
CREATED:20240529T132922Z
LAST-MODIFIED:20240529T132925Z
UID:10001938-1802332800-1802365200@gardencreek.nbed.ca
SUMMARY:Library Books to be returned
DESCRIPTION:
URL:https://gardencreek.nbed.ca/calendar/library-books-to-be-returned/2027-02-11/
END:VEVENT
BEGIN:VEVENT
DTSTART;TZID=America/Moncton:20270212T080000
DTEND;TZID=America/Moncton:20270212T170000
DTSTAMP:20260424T111013
CREATED:20240529T132922Z
LAST-MODIFIED:20240529T132925Z
UID:10001939-1802419200-1802451600@gardencreek.nbed.ca
SUMMARY:Library Books to be returned
DESCRIPTION:
URL:https://gardencreek.nbed.ca/calendar/library-books-to-be-returned/2027-02-12/
END:VEVENT
BEGIN:VEVENT
DTSTART;TZID=America/Moncton:20270213T080000
DTEND;TZID=America/Moncton:20270213T170000
DTSTAMP:20260424T111013
CREATED:20240529T132922Z
LAST-MODIFIED:20240529T132925Z
UID:10001940-1802505600-1802538000@gardencreek.nbed.ca
SUMMARY:Library Books to be returned
DESCRIPTION:
URL:https://gardencreek.nbed.ca/calendar/library-books-to-be-returned/2027-02-13/
END:VEVENT
BEGIN:VEVENT
DTSTART;TZID=America/Moncton:20270214T080000
DTEND;TZID=America/Moncton:20270214T170000
DTSTAMP:20260424T111013
CREATED:20240529T132922Z
LAST-MODIFIED:20240529T132925Z
UID:10001941-1802592000-1802624400@gardencreek.nbed.ca
SUMMARY:Library Books to be returned
DESCRIPTION:
URL:https://gardencreek.nbed.ca/calendar/library-books-to-be-returned/2027-02-14/
END:VEVENT
BEGIN:VEVENT
DTSTART;TZID=America/Moncton:20270215T080000
DTEND;TZID=America/Moncton:20270215T170000
DTSTAMP:20260424T111013
CREATED:20240529T132922Z
LAST-MODIFIED:20240529T132925Z
UID:10001942-1802678400-1802710800@gardencreek.nbed.ca
SUMMARY:Library Books to be returned
DESCRIPTION:
URL:https://gardencreek.nbed.ca/calendar/library-books-to-be-returned/2027-02-15/
END:VEVENT
BEGIN:VEVENT
DTSTART;TZID=America/Moncton:20270216T080000
DTEND;TZID=America/Moncton:20270216T170000
DTSTAMP:20260424T111013
CREATED:20240529T132922Z
LAST-MODIFIED:20240529T132925Z
UID:10001943-1802764800-1802797200@gardencreek.nbed.ca
SUMMARY:Library Books to be returned
DESCRIPTION:
URL:https://gardencreek.nbed.ca/calendar/library-books-to-be-returned/2027-02-16/
END:VEVENT
BEGIN:VEVENT
DTSTART;TZID=America/Moncton:20270217T080000
DTEND;TZID=America/Moncton:20270217T170000
DTSTAMP:20260424T111013
CREATED:20240529T132922Z
LAST-MODIFIED:20240529T132925Z
UID:10001944-1802851200-1802883600@gardencreek.nbed.ca
SUMMARY:Library Books to be returned
DESCRIPTION:
URL:https://gardencreek.nbed.ca/calendar/library-books-to-be-returned/2027-02-17/
END:VEVENT
BEGIN:VEVENT
DTSTART;TZID=America/Moncton:20270218T080000
DTEND;TZID=America/Moncton:20270218T170000
DTSTAMP:20260424T111013
CREATED:20240529T132922Z
LAST-MODIFIED:20240529T132925Z
UID:10001945-1802937600-1802970000@gardencreek.nbed.ca
SUMMARY:Library Books to be returned
DESCRIPTION:
URL:https://gardencreek.nbed.ca/calendar/library-books-to-be-returned/2027-02-18/
END:VEVENT
BEGIN:VEVENT
DTSTART;TZID=America/Moncton:20270219T080000
DTEND;TZID=America/Moncton:20270219T170000
DTSTAMP:20260424T111013
CREATED:20240529T132922Z
LAST-MODIFIED:20240529T132925Z
UID:10001946-1803024000-1803056400@gardencreek.nbed.ca
SUMMARY:Library Books to be returned
DESCRIPTION:
URL:https://gardencreek.nbed.ca/calendar/library-books-to-be-returned/2027-02-19/
END:VEVENT
END:VCALENDAR