BEGIN:VCALENDAR
VERSION:2.0
PRODID:-//Garden Creek School - ECPv6.15.20//NONSGML v1.0//EN
CALSCALE:GREGORIAN
METHOD:PUBLISH
X-ORIGINAL-URL:https://gardencreek.nbed.ca
X-WR-CALDESC:Events for Garden Creek School
REFRESH-INTERVAL;VALUE=DURATION:PT1H
X-Robots-Tag:noindex
X-PUBLISHED-TTL:PT1H
BEGIN:VTIMEZONE
TZID:America/Moncton
BEGIN:DAYLIGHT
TZOFFSETFROM:-0400
TZOFFSETTO:-0300
TZNAME:ADT
DTSTART:20250309T060000
END:DAYLIGHT
BEGIN:STANDARD
TZOFFSETFROM:-0300
TZOFFSETTO:-0400
TZNAME:AST
DTSTART:20251102T050000
END:STANDARD
BEGIN:DAYLIGHT
TZOFFSETFROM:-0400
TZOFFSETTO:-0300
TZNAME:ADT
DTSTART:20260308T060000
END:DAYLIGHT
BEGIN:STANDARD
TZOFFSETFROM:-0300
TZOFFSETTO:-0400
TZNAME:AST
DTSTART:20261101T050000
END:STANDARD
BEGIN:DAYLIGHT
TZOFFSETFROM:-0400
TZOFFSETTO:-0300
TZNAME:ADT
DTSTART:20270314T060000
END:DAYLIGHT
BEGIN:STANDARD
TZOFFSETFROM:-0300
TZOFFSETTO:-0400
TZNAME:AST
DTSTART:20271107T050000
END:STANDARD
BEGIN:DAYLIGHT
TZOFFSETFROM:-0400
TZOFFSETTO:-0300
TZNAME:ADT
DTSTART:20280312T060000
END:DAYLIGHT
BEGIN:STANDARD
TZOFFSETFROM:-0300
TZOFFSETTO:-0400
TZNAME:AST
DTSTART:20281105T050000
END:STANDARD
END:VTIMEZONE
BEGIN:VEVENT
DTSTART;TZID=America/Moncton:20261203T080000
DTEND;TZID=America/Moncton:20261203T170000
DTSTAMP:20260424T094356
CREATED:20240529T132922Z
LAST-MODIFIED:20240529T132925Z
UID:10001868-1796284800-1796317200@gardencreek.nbed.ca
SUMMARY:Library Books to be returned
DESCRIPTION:
URL:https://gardencreek.nbed.ca/calendar/library-books-to-be-returned/2026-12-03/
END:VEVENT
BEGIN:VEVENT
DTSTART;TZID=America/Moncton:20261204T080000
DTEND;TZID=America/Moncton:20261204T170000
DTSTAMP:20260424T094356
CREATED:20240529T132922Z
LAST-MODIFIED:20240529T132925Z
UID:10001869-1796371200-1796403600@gardencreek.nbed.ca
SUMMARY:Library Books to be returned
DESCRIPTION:
URL:https://gardencreek.nbed.ca/calendar/library-books-to-be-returned/2026-12-04/
END:VEVENT
BEGIN:VEVENT
DTSTART;TZID=America/Moncton:20261205T080000
DTEND;TZID=America/Moncton:20261205T170000
DTSTAMP:20260424T094356
CREATED:20240529T132922Z
LAST-MODIFIED:20240529T132925Z
UID:10001870-1796457600-1796490000@gardencreek.nbed.ca
SUMMARY:Library Books to be returned
DESCRIPTION:
URL:https://gardencreek.nbed.ca/calendar/library-books-to-be-returned/2026-12-05/
END:VEVENT
BEGIN:VEVENT
DTSTART;TZID=America/Moncton:20261206T080000
DTEND;TZID=America/Moncton:20261206T170000
DTSTAMP:20260424T094356
CREATED:20240529T132922Z
LAST-MODIFIED:20240529T132925Z
UID:10001871-1796544000-1796576400@gardencreek.nbed.ca
SUMMARY:Library Books to be returned
DESCRIPTION:
URL:https://gardencreek.nbed.ca/calendar/library-books-to-be-returned/2026-12-06/
END:VEVENT
BEGIN:VEVENT
DTSTART;TZID=America/Moncton:20261207T080000
DTEND;TZID=America/Moncton:20261207T170000
DTSTAMP:20260424T094356
CREATED:20240529T132922Z
LAST-MODIFIED:20240529T132925Z
UID:10001872-1796630400-1796662800@gardencreek.nbed.ca
SUMMARY:Library Books to be returned
DESCRIPTION:
URL:https://gardencreek.nbed.ca/calendar/library-books-to-be-returned/2026-12-07/
END:VEVENT
BEGIN:VEVENT
DTSTART;TZID=America/Moncton:20261208T080000
DTEND;TZID=America/Moncton:20261208T170000
DTSTAMP:20260424T094356
CREATED:20240529T132922Z
LAST-MODIFIED:20240529T132925Z
UID:10001873-1796716800-1796749200@gardencreek.nbed.ca
SUMMARY:Library Books to be returned
DESCRIPTION:
URL:https://gardencreek.nbed.ca/calendar/library-books-to-be-returned/2026-12-08/
END:VEVENT
BEGIN:VEVENT
DTSTART;TZID=America/Moncton:20261209T080000
DTEND;TZID=America/Moncton:20261209T170000
DTSTAMP:20260424T094356
CREATED:20240529T132922Z
LAST-MODIFIED:20240529T132925Z
UID:10001874-1796803200-1796835600@gardencreek.nbed.ca
SUMMARY:Library Books to be returned
DESCRIPTION:
URL:https://gardencreek.nbed.ca/calendar/library-books-to-be-returned/2026-12-09/
END:VEVENT
BEGIN:VEVENT
DTSTART;TZID=America/Moncton:20261210T080000
DTEND;TZID=America/Moncton:20261210T170000
DTSTAMP:20260424T094356
CREATED:20240529T132922Z
LAST-MODIFIED:20240529T132925Z
UID:10001875-1796889600-1796922000@gardencreek.nbed.ca
SUMMARY:Library Books to be returned
DESCRIPTION:
URL:https://gardencreek.nbed.ca/calendar/library-books-to-be-returned/2026-12-10/
END:VEVENT
BEGIN:VEVENT
DTSTART;TZID=America/Moncton:20261211T080000
DTEND;TZID=America/Moncton:20261211T170000
DTSTAMP:20260424T094356
CREATED:20240529T132922Z
LAST-MODIFIED:20240529T132925Z
UID:10001876-1796976000-1797008400@gardencreek.nbed.ca
SUMMARY:Library Books to be returned
DESCRIPTION:
URL:https://gardencreek.nbed.ca/calendar/library-books-to-be-returned/2026-12-11/
END:VEVENT
BEGIN:VEVENT
DTSTART;TZID=America/Moncton:20261212T080000
DTEND;TZID=America/Moncton:20261212T170000
DTSTAMP:20260424T094356
CREATED:20240529T132922Z
LAST-MODIFIED:20240529T132925Z
UID:10001877-1797062400-1797094800@gardencreek.nbed.ca
SUMMARY:Library Books to be returned
DESCRIPTION:
URL:https://gardencreek.nbed.ca/calendar/library-books-to-be-returned/2026-12-12/
END:VEVENT
BEGIN:VEVENT
DTSTART;TZID=America/Moncton:20261213T080000
DTEND;TZID=America/Moncton:20261213T170000
DTSTAMP:20260424T094356
CREATED:20240529T132922Z
LAST-MODIFIED:20240529T132925Z
UID:10001878-1797148800-1797181200@gardencreek.nbed.ca
SUMMARY:Library Books to be returned
DESCRIPTION:
URL:https://gardencreek.nbed.ca/calendar/library-books-to-be-returned/2026-12-13/
END:VEVENT
BEGIN:VEVENT
DTSTART;TZID=America/Moncton:20261214T080000
DTEND;TZID=America/Moncton:20261214T170000
DTSTAMP:20260424T094356
CREATED:20240529T132922Z
LAST-MODIFIED:20240529T132925Z
UID:10001879-1797235200-1797267600@gardencreek.nbed.ca
SUMMARY:Library Books to be returned
DESCRIPTION:
URL:https://gardencreek.nbed.ca/calendar/library-books-to-be-returned/2026-12-14/
END:VEVENT
BEGIN:VEVENT
DTSTART;TZID=America/Moncton:20261215T080000
DTEND;TZID=America/Moncton:20261215T170000
DTSTAMP:20260424T094356
CREATED:20240529T132922Z
LAST-MODIFIED:20240529T132925Z
UID:10001880-1797321600-1797354000@gardencreek.nbed.ca
SUMMARY:Library Books to be returned
DESCRIPTION:
URL:https://gardencreek.nbed.ca/calendar/library-books-to-be-returned/2026-12-15/
END:VEVENT
BEGIN:VEVENT
DTSTART;TZID=America/Moncton:20261216T080000
DTEND;TZID=America/Moncton:20261216T170000
DTSTAMP:20260424T094356
CREATED:20240529T132922Z
LAST-MODIFIED:20240529T132925Z
UID:10001881-1797408000-1797440400@gardencreek.nbed.ca
SUMMARY:Library Books to be returned
DESCRIPTION:
URL:https://gardencreek.nbed.ca/calendar/library-books-to-be-returned/2026-12-16/
END:VEVENT
BEGIN:VEVENT
DTSTART;TZID=America/Moncton:20261217T080000
DTEND;TZID=America/Moncton:20261217T170000
DTSTAMP:20260424T094356
CREATED:20240529T132922Z
LAST-MODIFIED:20240529T132925Z
UID:10001882-1797494400-1797526800@gardencreek.nbed.ca
SUMMARY:Library Books to be returned
DESCRIPTION:
URL:https://gardencreek.nbed.ca/calendar/library-books-to-be-returned/2026-12-17/
END:VEVENT
BEGIN:VEVENT
DTSTART;TZID=America/Moncton:20261218T080000
DTEND;TZID=America/Moncton:20261218T170000
DTSTAMP:20260424T094356
CREATED:20240529T132922Z
LAST-MODIFIED:20240529T132925Z
UID:10001883-1797580800-1797613200@gardencreek.nbed.ca
SUMMARY:Library Books to be returned
DESCRIPTION:
URL:https://gardencreek.nbed.ca/calendar/library-books-to-be-returned/2026-12-18/
END:VEVENT
BEGIN:VEVENT
DTSTART;TZID=America/Moncton:20261219T080000
DTEND;TZID=America/Moncton:20261219T170000
DTSTAMP:20260424T094356
CREATED:20240529T132922Z
LAST-MODIFIED:20240529T132925Z
UID:10001884-1797667200-1797699600@gardencreek.nbed.ca
SUMMARY:Library Books to be returned
DESCRIPTION:
URL:https://gardencreek.nbed.ca/calendar/library-books-to-be-returned/2026-12-19/
END:VEVENT
BEGIN:VEVENT
DTSTART;TZID=America/Moncton:20261220T080000
DTEND;TZID=America/Moncton:20261220T170000
DTSTAMP:20260424T094356
CREATED:20240529T132922Z
LAST-MODIFIED:20240529T132925Z
UID:10001885-1797753600-1797786000@gardencreek.nbed.ca
SUMMARY:Library Books to be returned
DESCRIPTION:
URL:https://gardencreek.nbed.ca/calendar/library-books-to-be-returned/2026-12-20/
END:VEVENT
BEGIN:VEVENT
DTSTART;TZID=America/Moncton:20261221T080000
DTEND;TZID=America/Moncton:20261221T170000
DTSTAMP:20260424T094356
CREATED:20240529T132922Z
LAST-MODIFIED:20240529T132925Z
UID:10001886-1797840000-1797872400@gardencreek.nbed.ca
SUMMARY:Library Books to be returned
DESCRIPTION:
URL:https://gardencreek.nbed.ca/calendar/library-books-to-be-returned/2026-12-21/
END:VEVENT
BEGIN:VEVENT
DTSTART;TZID=America/Moncton:20261222T080000
DTEND;TZID=America/Moncton:20261222T170000
DTSTAMP:20260424T094356
CREATED:20240529T132922Z
LAST-MODIFIED:20240529T132925Z
UID:10001887-1797926400-1797958800@gardencreek.nbed.ca
SUMMARY:Library Books to be returned
DESCRIPTION:
URL:https://gardencreek.nbed.ca/calendar/library-books-to-be-returned/2026-12-22/
END:VEVENT
BEGIN:VEVENT
DTSTART;TZID=America/Moncton:20261223T080000
DTEND;TZID=America/Moncton:20261223T170000
DTSTAMP:20260424T094356
CREATED:20240529T132922Z
LAST-MODIFIED:20240529T132925Z
UID:10001888-1798012800-1798045200@gardencreek.nbed.ca
SUMMARY:Library Books to be returned
DESCRIPTION:
URL:https://gardencreek.nbed.ca/calendar/library-books-to-be-returned/2026-12-23/
END:VEVENT
BEGIN:VEVENT
DTSTART;TZID=America/Moncton:20261224T080000
DTEND;TZID=America/Moncton:20261224T170000
DTSTAMP:20260424T094356
CREATED:20240529T132922Z
LAST-MODIFIED:20240529T132925Z
UID:10001889-1798099200-1798131600@gardencreek.nbed.ca
SUMMARY:Library Books to be returned
DESCRIPTION:
URL:https://gardencreek.nbed.ca/calendar/library-books-to-be-returned/2026-12-24/
END:VEVENT
BEGIN:VEVENT
DTSTART;TZID=America/Moncton:20261225T080000
DTEND;TZID=America/Moncton:20261225T170000
DTSTAMP:20260424T094356
CREATED:20240529T132922Z
LAST-MODIFIED:20240529T132925Z
UID:10001890-1798185600-1798218000@gardencreek.nbed.ca
SUMMARY:Library Books to be returned
DESCRIPTION:
URL:https://gardencreek.nbed.ca/calendar/library-books-to-be-returned/2026-12-25/
END:VEVENT
BEGIN:VEVENT
DTSTART;TZID=America/Moncton:20261226T080000
DTEND;TZID=America/Moncton:20261226T170000
DTSTAMP:20260424T094356
CREATED:20240529T132922Z
LAST-MODIFIED:20240529T132925Z
UID:10001891-1798272000-1798304400@gardencreek.nbed.ca
SUMMARY:Library Books to be returned
DESCRIPTION:
URL:https://gardencreek.nbed.ca/calendar/library-books-to-be-returned/2026-12-26/
END:VEVENT
BEGIN:VEVENT
DTSTART;TZID=America/Moncton:20261227T080000
DTEND;TZID=America/Moncton:20261227T170000
DTSTAMP:20260424T094356
CREATED:20240529T132922Z
LAST-MODIFIED:20240529T132925Z
UID:10001892-1798358400-1798390800@gardencreek.nbed.ca
SUMMARY:Library Books to be returned
DESCRIPTION:
URL:https://gardencreek.nbed.ca/calendar/library-books-to-be-returned/2026-12-27/
END:VEVENT
BEGIN:VEVENT
DTSTART;TZID=America/Moncton:20261228T080000
DTEND;TZID=America/Moncton:20261228T170000
DTSTAMP:20260424T094356
CREATED:20240529T132922Z
LAST-MODIFIED:20240529T132925Z
UID:10001893-1798444800-1798477200@gardencreek.nbed.ca
SUMMARY:Library Books to be returned
DESCRIPTION:
URL:https://gardencreek.nbed.ca/calendar/library-books-to-be-returned/2026-12-28/
END:VEVENT
BEGIN:VEVENT
DTSTART;TZID=America/Moncton:20261229T080000
DTEND;TZID=America/Moncton:20261229T170000
DTSTAMP:20260424T094356
CREATED:20240529T132922Z
LAST-MODIFIED:20240529T132925Z
UID:10001894-1798531200-1798563600@gardencreek.nbed.ca
SUMMARY:Library Books to be returned
DESCRIPTION:
URL:https://gardencreek.nbed.ca/calendar/library-books-to-be-returned/2026-12-29/
END:VEVENT
BEGIN:VEVENT
DTSTART;TZID=America/Moncton:20261230T080000
DTEND;TZID=America/Moncton:20261230T170000
DTSTAMP:20260424T094356
CREATED:20240529T132922Z
LAST-MODIFIED:20240529T132925Z
UID:10001895-1798617600-1798650000@gardencreek.nbed.ca
SUMMARY:Library Books to be returned
DESCRIPTION:
URL:https://gardencreek.nbed.ca/calendar/library-books-to-be-returned/2026-12-30/
END:VEVENT
BEGIN:VEVENT
DTSTART;TZID=America/Moncton:20261231T080000
DTEND;TZID=America/Moncton:20261231T170000
DTSTAMP:20260424T094356
CREATED:20240529T132922Z
LAST-MODIFIED:20240529T132925Z
UID:10001896-1798704000-1798736400@gardencreek.nbed.ca
SUMMARY:Library Books to be returned
DESCRIPTION:
URL:https://gardencreek.nbed.ca/calendar/library-books-to-be-returned/2026-12-31/
END:VEVENT
BEGIN:VEVENT
DTSTART;TZID=America/Moncton:20270101T080000
DTEND;TZID=America/Moncton:20270101T170000
DTSTAMP:20260424T094356
CREATED:20240529T132922Z
LAST-MODIFIED:20240529T132925Z
UID:10001897-1798790400-1798822800@gardencreek.nbed.ca
SUMMARY:Library Books to be returned
DESCRIPTION:
URL:https://gardencreek.nbed.ca/calendar/library-books-to-be-returned/2027-01-01/
END:VEVENT
END:VCALENDAR