BEGIN:VCALENDAR
VERSION:2.0
PRODID:-//Garden Creek School - ECPv6.15.20//NONSGML v1.0//EN
CALSCALE:GREGORIAN
METHOD:PUBLISH
X-WR-CALNAME:Garden Creek School
X-ORIGINAL-URL:https://gardencreek.nbed.ca
X-WR-CALDESC:Events for Garden Creek School
REFRESH-INTERVAL;VALUE=DURATION:PT1H
X-Robots-Tag:noindex
X-PUBLISHED-TTL:PT1H
BEGIN:VTIMEZONE
TZID:America/Moncton
BEGIN:DAYLIGHT
TZOFFSETFROM:-0400
TZOFFSETTO:-0300
TZNAME:ADT
DTSTART:20250309T060000
END:DAYLIGHT
BEGIN:STANDARD
TZOFFSETFROM:-0300
TZOFFSETTO:-0400
TZNAME:AST
DTSTART:20251102T050000
END:STANDARD
BEGIN:DAYLIGHT
TZOFFSETFROM:-0400
TZOFFSETTO:-0300
TZNAME:ADT
DTSTART:20260308T060000
END:DAYLIGHT
BEGIN:STANDARD
TZOFFSETFROM:-0300
TZOFFSETTO:-0400
TZNAME:AST
DTSTART:20261101T050000
END:STANDARD
BEGIN:DAYLIGHT
TZOFFSETFROM:-0400
TZOFFSETTO:-0300
TZNAME:ADT
DTSTART:20270314T060000
END:DAYLIGHT
BEGIN:STANDARD
TZOFFSETFROM:-0300
TZOFFSETTO:-0400
TZNAME:AST
DTSTART:20271107T050000
END:STANDARD
END:VTIMEZONE
BEGIN:VEVENT
DTSTART;TZID=America/Moncton:20260113T080000
DTEND;TZID=America/Moncton:20260113T170000
DTSTAMP:20260423T114828
CREATED:20240529T132922Z
LAST-MODIFIED:20240529T132925Z
UID:10001544-1768291200-1768323600@gardencreek.nbed.ca
SUMMARY:Library Books to be returned
DESCRIPTION:
URL:https://gardencreek.nbed.ca/calendar/library-books-to-be-returned/2026-01-13/
END:VEVENT
BEGIN:VEVENT
DTSTART;TZID=America/Moncton:20260114T080000
DTEND;TZID=America/Moncton:20260114T170000
DTSTAMP:20260423T114828
CREATED:20240529T132922Z
LAST-MODIFIED:20240529T132925Z
UID:10001545-1768377600-1768410000@gardencreek.nbed.ca
SUMMARY:Library Books to be returned
DESCRIPTION:
URL:https://gardencreek.nbed.ca/calendar/library-books-to-be-returned/2026-01-14/
END:VEVENT
BEGIN:VEVENT
DTSTART;TZID=America/Moncton:20260115T080000
DTEND;TZID=America/Moncton:20260115T170000
DTSTAMP:20260423T114828
CREATED:20240529T132922Z
LAST-MODIFIED:20240529T132925Z
UID:10001546-1768464000-1768496400@gardencreek.nbed.ca
SUMMARY:Library Books to be returned
DESCRIPTION:
URL:https://gardencreek.nbed.ca/calendar/library-books-to-be-returned/2026-01-15/
END:VEVENT
BEGIN:VEVENT
DTSTART;TZID=America/Moncton:20260116T080000
DTEND;TZID=America/Moncton:20260116T170000
DTSTAMP:20260423T114828
CREATED:20240529T132922Z
LAST-MODIFIED:20240529T132925Z
UID:10001547-1768550400-1768582800@gardencreek.nbed.ca
SUMMARY:Library Books to be returned
DESCRIPTION:
URL:https://gardencreek.nbed.ca/calendar/library-books-to-be-returned/2026-01-16/
END:VEVENT
BEGIN:VEVENT
DTSTART;TZID=America/Moncton:20260117T080000
DTEND;TZID=America/Moncton:20260117T170000
DTSTAMP:20260423T114828
CREATED:20240529T132922Z
LAST-MODIFIED:20240529T132925Z
UID:10001548-1768636800-1768669200@gardencreek.nbed.ca
SUMMARY:Library Books to be returned
DESCRIPTION:
URL:https://gardencreek.nbed.ca/calendar/library-books-to-be-returned/2026-01-17/
END:VEVENT
BEGIN:VEVENT
DTSTART;TZID=America/Moncton:20260118T080000
DTEND;TZID=America/Moncton:20260118T170000
DTSTAMP:20260423T114828
CREATED:20240529T132922Z
LAST-MODIFIED:20240529T132925Z
UID:10001549-1768723200-1768755600@gardencreek.nbed.ca
SUMMARY:Library Books to be returned
DESCRIPTION:
URL:https://gardencreek.nbed.ca/calendar/library-books-to-be-returned/2026-01-18/
END:VEVENT
BEGIN:VEVENT
DTSTART;TZID=America/Moncton:20260119T080000
DTEND;TZID=America/Moncton:20260119T170000
DTSTAMP:20260423T114828
CREATED:20240529T132922Z
LAST-MODIFIED:20240529T132925Z
UID:10001550-1768809600-1768842000@gardencreek.nbed.ca
SUMMARY:Library Books to be returned
DESCRIPTION:
URL:https://gardencreek.nbed.ca/calendar/library-books-to-be-returned/2026-01-19/
END:VEVENT
BEGIN:VEVENT
DTSTART;TZID=America/Moncton:20260120T080000
DTEND;TZID=America/Moncton:20260120T170000
DTSTAMP:20260423T114828
CREATED:20240529T132922Z
LAST-MODIFIED:20240529T132925Z
UID:10001551-1768896000-1768928400@gardencreek.nbed.ca
SUMMARY:Library Books to be returned
DESCRIPTION:
URL:https://gardencreek.nbed.ca/calendar/library-books-to-be-returned/2026-01-20/
END:VEVENT
BEGIN:VEVENT
DTSTART;TZID=America/Moncton:20260121T080000
DTEND;TZID=America/Moncton:20260121T170000
DTSTAMP:20260423T114828
CREATED:20240529T132922Z
LAST-MODIFIED:20240529T132925Z
UID:10001552-1768982400-1769014800@gardencreek.nbed.ca
SUMMARY:Library Books to be returned
DESCRIPTION:
URL:https://gardencreek.nbed.ca/calendar/library-books-to-be-returned/2026-01-21/
END:VEVENT
BEGIN:VEVENT
DTSTART;TZID=America/Moncton:20260122T080000
DTEND;TZID=America/Moncton:20260122T170000
DTSTAMP:20260423T114828
CREATED:20240529T132922Z
LAST-MODIFIED:20240529T132925Z
UID:10001553-1769068800-1769101200@gardencreek.nbed.ca
SUMMARY:Library Books to be returned
DESCRIPTION:
URL:https://gardencreek.nbed.ca/calendar/library-books-to-be-returned/2026-01-22/
END:VEVENT
BEGIN:VEVENT
DTSTART;TZID=America/Moncton:20260123T080000
DTEND;TZID=America/Moncton:20260123T170000
DTSTAMP:20260423T114828
CREATED:20240529T132922Z
LAST-MODIFIED:20240529T132925Z
UID:10001554-1769155200-1769187600@gardencreek.nbed.ca
SUMMARY:Library Books to be returned
DESCRIPTION:
URL:https://gardencreek.nbed.ca/calendar/library-books-to-be-returned/2026-01-23/
END:VEVENT
BEGIN:VEVENT
DTSTART;TZID=America/Moncton:20260124T080000
DTEND;TZID=America/Moncton:20260124T170000
DTSTAMP:20260423T114828
CREATED:20240529T132922Z
LAST-MODIFIED:20240529T132925Z
UID:10001555-1769241600-1769274000@gardencreek.nbed.ca
SUMMARY:Library Books to be returned
DESCRIPTION:
URL:https://gardencreek.nbed.ca/calendar/library-books-to-be-returned/2026-01-24/
END:VEVENT
BEGIN:VEVENT
DTSTART;TZID=America/Moncton:20260125T080000
DTEND;TZID=America/Moncton:20260125T170000
DTSTAMP:20260423T114828
CREATED:20240529T132922Z
LAST-MODIFIED:20240529T132925Z
UID:10001556-1769328000-1769360400@gardencreek.nbed.ca
SUMMARY:Library Books to be returned
DESCRIPTION:
URL:https://gardencreek.nbed.ca/calendar/library-books-to-be-returned/2026-01-25/
END:VEVENT
BEGIN:VEVENT
DTSTART;TZID=America/Moncton:20260126T080000
DTEND;TZID=America/Moncton:20260126T170000
DTSTAMP:20260423T114828
CREATED:20240529T132922Z
LAST-MODIFIED:20240529T132925Z
UID:10001557-1769414400-1769446800@gardencreek.nbed.ca
SUMMARY:Library Books to be returned
DESCRIPTION:
URL:https://gardencreek.nbed.ca/calendar/library-books-to-be-returned/2026-01-26/
END:VEVENT
BEGIN:VEVENT
DTSTART;TZID=America/Moncton:20260127T080000
DTEND;TZID=America/Moncton:20260127T170000
DTSTAMP:20260423T114828
CREATED:20240529T132922Z
LAST-MODIFIED:20240529T132925Z
UID:10001558-1769500800-1769533200@gardencreek.nbed.ca
SUMMARY:Library Books to be returned
DESCRIPTION:
URL:https://gardencreek.nbed.ca/calendar/library-books-to-be-returned/2026-01-27/
END:VEVENT
BEGIN:VEVENT
DTSTART;TZID=America/Moncton:20260128T080000
DTEND;TZID=America/Moncton:20260128T170000
DTSTAMP:20260423T114828
CREATED:20240529T132922Z
LAST-MODIFIED:20240529T132925Z
UID:10001559-1769587200-1769619600@gardencreek.nbed.ca
SUMMARY:Library Books to be returned
DESCRIPTION:
URL:https://gardencreek.nbed.ca/calendar/library-books-to-be-returned/2026-01-28/
END:VEVENT
BEGIN:VEVENT
DTSTART;TZID=America/Moncton:20260129T080000
DTEND;TZID=America/Moncton:20260129T170000
DTSTAMP:20260423T114828
CREATED:20240529T132922Z
LAST-MODIFIED:20240529T132925Z
UID:10001560-1769673600-1769706000@gardencreek.nbed.ca
SUMMARY:Library Books to be returned
DESCRIPTION:
URL:https://gardencreek.nbed.ca/calendar/library-books-to-be-returned/2026-01-29/
END:VEVENT
BEGIN:VEVENT
DTSTART;TZID=America/Moncton:20260130T080000
DTEND;TZID=America/Moncton:20260130T170000
DTSTAMP:20260423T114828
CREATED:20240529T132922Z
LAST-MODIFIED:20240529T132925Z
UID:10001561-1769760000-1769792400@gardencreek.nbed.ca
SUMMARY:Library Books to be returned
DESCRIPTION:
URL:https://gardencreek.nbed.ca/calendar/library-books-to-be-returned/2026-01-30/
END:VEVENT
BEGIN:VEVENT
DTSTART;TZID=America/Moncton:20260131T080000
DTEND;TZID=America/Moncton:20260131T170000
DTSTAMP:20260423T114828
CREATED:20240529T132922Z
LAST-MODIFIED:20240529T132925Z
UID:10001562-1769846400-1769878800@gardencreek.nbed.ca
SUMMARY:Library Books to be returned
DESCRIPTION:
URL:https://gardencreek.nbed.ca/calendar/library-books-to-be-returned/2026-01-31/
END:VEVENT
BEGIN:VEVENT
DTSTART;TZID=America/Moncton:20260201T080000
DTEND;TZID=America/Moncton:20260201T170000
DTSTAMP:20260423T114828
CREATED:20240529T132922Z
LAST-MODIFIED:20240529T132925Z
UID:10001563-1769932800-1769965200@gardencreek.nbed.ca
SUMMARY:Library Books to be returned
DESCRIPTION:
URL:https://gardencreek.nbed.ca/calendar/library-books-to-be-returned/2026-02-01/
END:VEVENT
BEGIN:VEVENT
DTSTART;TZID=America/Moncton:20260202T080000
DTEND;TZID=America/Moncton:20260202T170000
DTSTAMP:20260423T114828
CREATED:20240529T132922Z
LAST-MODIFIED:20240529T132925Z
UID:10001564-1770019200-1770051600@gardencreek.nbed.ca
SUMMARY:Library Books to be returned
DESCRIPTION:
URL:https://gardencreek.nbed.ca/calendar/library-books-to-be-returned/2026-02-02/
END:VEVENT
BEGIN:VEVENT
DTSTART;TZID=America/Moncton:20260203T080000
DTEND;TZID=America/Moncton:20260203T170000
DTSTAMP:20260423T114828
CREATED:20240529T132922Z
LAST-MODIFIED:20240529T132925Z
UID:10001565-1770105600-1770138000@gardencreek.nbed.ca
SUMMARY:Library Books to be returned
DESCRIPTION:
URL:https://gardencreek.nbed.ca/calendar/library-books-to-be-returned/2026-02-03/
END:VEVENT
BEGIN:VEVENT
DTSTART;TZID=America/Moncton:20260204T080000
DTEND;TZID=America/Moncton:20260204T170000
DTSTAMP:20260423T114828
CREATED:20240529T132922Z
LAST-MODIFIED:20240529T132925Z
UID:10001566-1770192000-1770224400@gardencreek.nbed.ca
SUMMARY:Library Books to be returned
DESCRIPTION:
URL:https://gardencreek.nbed.ca/calendar/library-books-to-be-returned/2026-02-04/
END:VEVENT
BEGIN:VEVENT
DTSTART;TZID=America/Moncton:20260205T080000
DTEND;TZID=America/Moncton:20260205T170000
DTSTAMP:20260423T114828
CREATED:20240529T132922Z
LAST-MODIFIED:20240529T132925Z
UID:10001567-1770278400-1770310800@gardencreek.nbed.ca
SUMMARY:Library Books to be returned
DESCRIPTION:
URL:https://gardencreek.nbed.ca/calendar/library-books-to-be-returned/2026-02-05/
END:VEVENT
BEGIN:VEVENT
DTSTART;TZID=America/Moncton:20260206T080000
DTEND;TZID=America/Moncton:20260206T170000
DTSTAMP:20260423T114828
CREATED:20240529T132922Z
LAST-MODIFIED:20240529T132925Z
UID:10001568-1770364800-1770397200@gardencreek.nbed.ca
SUMMARY:Library Books to be returned
DESCRIPTION:
URL:https://gardencreek.nbed.ca/calendar/library-books-to-be-returned/2026-02-06/
END:VEVENT
BEGIN:VEVENT
DTSTART;TZID=America/Moncton:20260207T080000
DTEND;TZID=America/Moncton:20260207T170000
DTSTAMP:20260423T114828
CREATED:20240529T132922Z
LAST-MODIFIED:20240529T132925Z
UID:10001569-1770451200-1770483600@gardencreek.nbed.ca
SUMMARY:Library Books to be returned
DESCRIPTION:
URL:https://gardencreek.nbed.ca/calendar/library-books-to-be-returned/2026-02-07/
END:VEVENT
BEGIN:VEVENT
DTSTART;TZID=America/Moncton:20260208T080000
DTEND;TZID=America/Moncton:20260208T170000
DTSTAMP:20260423T114828
CREATED:20240529T132922Z
LAST-MODIFIED:20240529T132925Z
UID:10001570-1770537600-1770570000@gardencreek.nbed.ca
SUMMARY:Library Books to be returned
DESCRIPTION:
URL:https://gardencreek.nbed.ca/calendar/library-books-to-be-returned/2026-02-08/
END:VEVENT
BEGIN:VEVENT
DTSTART;TZID=America/Moncton:20260209T080000
DTEND;TZID=America/Moncton:20260209T170000
DTSTAMP:20260423T114828
CREATED:20240529T132922Z
LAST-MODIFIED:20240529T132925Z
UID:10001571-1770624000-1770656400@gardencreek.nbed.ca
SUMMARY:Library Books to be returned
DESCRIPTION:
URL:https://gardencreek.nbed.ca/calendar/library-books-to-be-returned/2026-02-09/
END:VEVENT
BEGIN:VEVENT
DTSTART;TZID=America/Moncton:20260210T080000
DTEND;TZID=America/Moncton:20260210T170000
DTSTAMP:20260423T114828
CREATED:20240529T132922Z
LAST-MODIFIED:20240529T132925Z
UID:10001572-1770710400-1770742800@gardencreek.nbed.ca
SUMMARY:Library Books to be returned
DESCRIPTION:
URL:https://gardencreek.nbed.ca/calendar/library-books-to-be-returned/2026-02-10/
END:VEVENT
BEGIN:VEVENT
DTSTART;TZID=America/Moncton:20260211T080000
DTEND;TZID=America/Moncton:20260211T170000
DTSTAMP:20260423T114828
CREATED:20240529T132922Z
LAST-MODIFIED:20240529T132925Z
UID:10001573-1770796800-1770829200@gardencreek.nbed.ca
SUMMARY:Library Books to be returned
DESCRIPTION:
URL:https://gardencreek.nbed.ca/calendar/library-books-to-be-returned/2026-02-11/
END:VEVENT
END:VCALENDAR