BEGIN:VCALENDAR
VERSION:2.0
PRODID:-//Garden Creek School - ECPv6.15.20//NONSGML v1.0//EN
CALSCALE:GREGORIAN
METHOD:PUBLISH
X-WR-CALNAME:Garden Creek School
X-ORIGINAL-URL:https://gardencreek.nbed.ca
X-WR-CALDESC:Events for Garden Creek School
REFRESH-INTERVAL;VALUE=DURATION:PT1H
X-Robots-Tag:noindex
X-PUBLISHED-TTL:PT1H
BEGIN:VTIMEZONE
TZID:America/Moncton
BEGIN:DAYLIGHT
TZOFFSETFROM:-0400
TZOFFSETTO:-0300
TZNAME:ADT
DTSTART:20250309T060000
END:DAYLIGHT
BEGIN:STANDARD
TZOFFSETFROM:-0300
TZOFFSETTO:-0400
TZNAME:AST
DTSTART:20251102T050000
END:STANDARD
BEGIN:DAYLIGHT
TZOFFSETFROM:-0400
TZOFFSETTO:-0300
TZNAME:ADT
DTSTART:20260308T060000
END:DAYLIGHT
BEGIN:STANDARD
TZOFFSETFROM:-0300
TZOFFSETTO:-0400
TZNAME:AST
DTSTART:20261101T050000
END:STANDARD
BEGIN:DAYLIGHT
TZOFFSETFROM:-0400
TZOFFSETTO:-0300
TZNAME:ADT
DTSTART:20270314T060000
END:DAYLIGHT
BEGIN:STANDARD
TZOFFSETFROM:-0300
TZOFFSETTO:-0400
TZNAME:AST
DTSTART:20271107T050000
END:STANDARD
END:VTIMEZONE
BEGIN:VEVENT
DTSTART;TZID=America/Moncton:20260313T080000
DTEND;TZID=America/Moncton:20260313T170000
DTSTAMP:20260423T082513
CREATED:20240529T132922Z
LAST-MODIFIED:20240529T132925Z
UID:10001603-1773388800-1773421200@gardencreek.nbed.ca
SUMMARY:Library Books to be returned
DESCRIPTION:
URL:https://gardencreek.nbed.ca/calendar/library-books-to-be-returned/2026-03-13/
END:VEVENT
BEGIN:VEVENT
DTSTART;TZID=America/Moncton:20260314T080000
DTEND;TZID=America/Moncton:20260314T170000
DTSTAMP:20260423T082513
CREATED:20240529T132922Z
LAST-MODIFIED:20240529T132925Z
UID:10001604-1773475200-1773507600@gardencreek.nbed.ca
SUMMARY:Library Books to be returned
DESCRIPTION:
URL:https://gardencreek.nbed.ca/calendar/library-books-to-be-returned/2026-03-14/
END:VEVENT
BEGIN:VEVENT
DTSTART;TZID=America/Moncton:20260315T080000
DTEND;TZID=America/Moncton:20260315T170000
DTSTAMP:20260423T082513
CREATED:20240529T132922Z
LAST-MODIFIED:20240529T132925Z
UID:10001605-1773561600-1773594000@gardencreek.nbed.ca
SUMMARY:Library Books to be returned
DESCRIPTION:
URL:https://gardencreek.nbed.ca/calendar/library-books-to-be-returned/2026-03-15/
END:VEVENT
BEGIN:VEVENT
DTSTART;TZID=America/Moncton:20260316T080000
DTEND;TZID=America/Moncton:20260316T170000
DTSTAMP:20260423T082513
CREATED:20240529T132922Z
LAST-MODIFIED:20240529T132925Z
UID:10001606-1773648000-1773680400@gardencreek.nbed.ca
SUMMARY:Library Books to be returned
DESCRIPTION:
URL:https://gardencreek.nbed.ca/calendar/library-books-to-be-returned/2026-03-16/
END:VEVENT
BEGIN:VEVENT
DTSTART;TZID=America/Moncton:20260317T080000
DTEND;TZID=America/Moncton:20260317T170000
DTSTAMP:20260423T082513
CREATED:20240529T132922Z
LAST-MODIFIED:20240529T132925Z
UID:10001607-1773734400-1773766800@gardencreek.nbed.ca
SUMMARY:Library Books to be returned
DESCRIPTION:
URL:https://gardencreek.nbed.ca/calendar/library-books-to-be-returned/2026-03-17/
END:VEVENT
BEGIN:VEVENT
DTSTART;TZID=America/Moncton:20260318T080000
DTEND;TZID=America/Moncton:20260318T170000
DTSTAMP:20260423T082513
CREATED:20240529T132922Z
LAST-MODIFIED:20240529T132925Z
UID:10001608-1773820800-1773853200@gardencreek.nbed.ca
SUMMARY:Library Books to be returned
DESCRIPTION:
URL:https://gardencreek.nbed.ca/calendar/library-books-to-be-returned/2026-03-18/
END:VEVENT
BEGIN:VEVENT
DTSTART;TZID=America/Moncton:20260319T080000
DTEND;TZID=America/Moncton:20260319T170000
DTSTAMP:20260423T082513
CREATED:20240529T132922Z
LAST-MODIFIED:20240529T132925Z
UID:10001609-1773907200-1773939600@gardencreek.nbed.ca
SUMMARY:Library Books to be returned
DESCRIPTION:
URL:https://gardencreek.nbed.ca/calendar/library-books-to-be-returned/2026-03-19/
END:VEVENT
BEGIN:VEVENT
DTSTART;TZID=America/Moncton:20260320T080000
DTEND;TZID=America/Moncton:20260320T170000
DTSTAMP:20260423T082513
CREATED:20240529T132922Z
LAST-MODIFIED:20240529T132925Z
UID:10001610-1773993600-1774026000@gardencreek.nbed.ca
SUMMARY:Library Books to be returned
DESCRIPTION:
URL:https://gardencreek.nbed.ca/calendar/library-books-to-be-returned/2026-03-20/
END:VEVENT
BEGIN:VEVENT
DTSTART;TZID=America/Moncton:20260321T080000
DTEND;TZID=America/Moncton:20260321T170000
DTSTAMP:20260423T082513
CREATED:20240529T132922Z
LAST-MODIFIED:20240529T132925Z
UID:10001611-1774080000-1774112400@gardencreek.nbed.ca
SUMMARY:Library Books to be returned
DESCRIPTION:
URL:https://gardencreek.nbed.ca/calendar/library-books-to-be-returned/2026-03-21/
END:VEVENT
BEGIN:VEVENT
DTSTART;TZID=America/Moncton:20260322T080000
DTEND;TZID=America/Moncton:20260322T170000
DTSTAMP:20260423T082513
CREATED:20240529T132922Z
LAST-MODIFIED:20240529T132925Z
UID:10001612-1774166400-1774198800@gardencreek.nbed.ca
SUMMARY:Library Books to be returned
DESCRIPTION:
URL:https://gardencreek.nbed.ca/calendar/library-books-to-be-returned/2026-03-22/
END:VEVENT
BEGIN:VEVENT
DTSTART;TZID=America/Moncton:20260323T080000
DTEND;TZID=America/Moncton:20260323T170000
DTSTAMP:20260423T082513
CREATED:20240529T132922Z
LAST-MODIFIED:20240529T132925Z
UID:10001613-1774252800-1774285200@gardencreek.nbed.ca
SUMMARY:Library Books to be returned
DESCRIPTION:
URL:https://gardencreek.nbed.ca/calendar/library-books-to-be-returned/2026-03-23/
END:VEVENT
BEGIN:VEVENT
DTSTART;TZID=America/Moncton:20260324T080000
DTEND;TZID=America/Moncton:20260324T170000
DTSTAMP:20260423T082513
CREATED:20240529T132922Z
LAST-MODIFIED:20240529T132925Z
UID:10001614-1774339200-1774371600@gardencreek.nbed.ca
SUMMARY:Library Books to be returned
DESCRIPTION:
URL:https://gardencreek.nbed.ca/calendar/library-books-to-be-returned/2026-03-24/
END:VEVENT
BEGIN:VEVENT
DTSTART;TZID=America/Moncton:20260325T080000
DTEND;TZID=America/Moncton:20260325T170000
DTSTAMP:20260423T082513
CREATED:20240529T132922Z
LAST-MODIFIED:20240529T132925Z
UID:10001615-1774425600-1774458000@gardencreek.nbed.ca
SUMMARY:Library Books to be returned
DESCRIPTION:
URL:https://gardencreek.nbed.ca/calendar/library-books-to-be-returned/2026-03-25/
END:VEVENT
BEGIN:VEVENT
DTSTART;TZID=America/Moncton:20260326T080000
DTEND;TZID=America/Moncton:20260326T170000
DTSTAMP:20260423T082513
CREATED:20240529T132922Z
LAST-MODIFIED:20240529T132925Z
UID:10001616-1774512000-1774544400@gardencreek.nbed.ca
SUMMARY:Library Books to be returned
DESCRIPTION:
URL:https://gardencreek.nbed.ca/calendar/library-books-to-be-returned/2026-03-26/
END:VEVENT
BEGIN:VEVENT
DTSTART;TZID=America/Moncton:20260327T080000
DTEND;TZID=America/Moncton:20260327T170000
DTSTAMP:20260423T082513
CREATED:20240529T132922Z
LAST-MODIFIED:20240529T132925Z
UID:10001617-1774598400-1774630800@gardencreek.nbed.ca
SUMMARY:Library Books to be returned
DESCRIPTION:
URL:https://gardencreek.nbed.ca/calendar/library-books-to-be-returned/2026-03-27/
END:VEVENT
BEGIN:VEVENT
DTSTART;TZID=America/Moncton:20260328T080000
DTEND;TZID=America/Moncton:20260328T170000
DTSTAMP:20260423T082513
CREATED:20240529T132922Z
LAST-MODIFIED:20240529T132925Z
UID:10001618-1774684800-1774717200@gardencreek.nbed.ca
SUMMARY:Library Books to be returned
DESCRIPTION:
URL:https://gardencreek.nbed.ca/calendar/library-books-to-be-returned/2026-03-28/
END:VEVENT
BEGIN:VEVENT
DTSTART;TZID=America/Moncton:20260329T080000
DTEND;TZID=America/Moncton:20260329T170000
DTSTAMP:20260423T082513
CREATED:20240529T132922Z
LAST-MODIFIED:20240529T132925Z
UID:10001619-1774771200-1774803600@gardencreek.nbed.ca
SUMMARY:Library Books to be returned
DESCRIPTION:
URL:https://gardencreek.nbed.ca/calendar/library-books-to-be-returned/2026-03-29/
END:VEVENT
BEGIN:VEVENT
DTSTART;TZID=America/Moncton:20260330T080000
DTEND;TZID=America/Moncton:20260330T170000
DTSTAMP:20260423T082513
CREATED:20240529T132922Z
LAST-MODIFIED:20240529T132925Z
UID:10001620-1774857600-1774890000@gardencreek.nbed.ca
SUMMARY:Library Books to be returned
DESCRIPTION:
URL:https://gardencreek.nbed.ca/calendar/library-books-to-be-returned/2026-03-30/
END:VEVENT
BEGIN:VEVENT
DTSTART;TZID=America/Moncton:20260331T080000
DTEND;TZID=America/Moncton:20260331T170000
DTSTAMP:20260423T082513
CREATED:20240529T132922Z
LAST-MODIFIED:20240529T132925Z
UID:10001621-1774944000-1774976400@gardencreek.nbed.ca
SUMMARY:Library Books to be returned
DESCRIPTION:
URL:https://gardencreek.nbed.ca/calendar/library-books-to-be-returned/2026-03-31/
END:VEVENT
BEGIN:VEVENT
DTSTART;TZID=America/Moncton:20260401T080000
DTEND;TZID=America/Moncton:20260401T170000
DTSTAMP:20260423T082513
CREATED:20240529T132922Z
LAST-MODIFIED:20240529T132925Z
UID:10001622-1775030400-1775062800@gardencreek.nbed.ca
SUMMARY:Library Books to be returned
DESCRIPTION:
URL:https://gardencreek.nbed.ca/calendar/library-books-to-be-returned/2026-04-01/
END:VEVENT
BEGIN:VEVENT
DTSTART;TZID=America/Moncton:20260402T080000
DTEND;TZID=America/Moncton:20260402T170000
DTSTAMP:20260423T082513
CREATED:20240529T132922Z
LAST-MODIFIED:20240529T132925Z
UID:10001623-1775116800-1775149200@gardencreek.nbed.ca
SUMMARY:Library Books to be returned
DESCRIPTION:
URL:https://gardencreek.nbed.ca/calendar/library-books-to-be-returned/2026-04-02/
END:VEVENT
BEGIN:VEVENT
DTSTART;TZID=America/Moncton:20260403T080000
DTEND;TZID=America/Moncton:20260403T170000
DTSTAMP:20260423T082513
CREATED:20240529T132922Z
LAST-MODIFIED:20240529T132925Z
UID:10001624-1775203200-1775235600@gardencreek.nbed.ca
SUMMARY:Library Books to be returned
DESCRIPTION:
URL:https://gardencreek.nbed.ca/calendar/library-books-to-be-returned/2026-04-03/
END:VEVENT
BEGIN:VEVENT
DTSTART;TZID=America/Moncton:20260404T080000
DTEND;TZID=America/Moncton:20260404T170000
DTSTAMP:20260423T082513
CREATED:20240529T132922Z
LAST-MODIFIED:20240529T132925Z
UID:10001625-1775289600-1775322000@gardencreek.nbed.ca
SUMMARY:Library Books to be returned
DESCRIPTION:
URL:https://gardencreek.nbed.ca/calendar/library-books-to-be-returned/2026-04-04/
END:VEVENT
BEGIN:VEVENT
DTSTART;TZID=America/Moncton:20260405T080000
DTEND;TZID=America/Moncton:20260405T170000
DTSTAMP:20260423T082513
CREATED:20240529T132922Z
LAST-MODIFIED:20240529T132925Z
UID:10001626-1775376000-1775408400@gardencreek.nbed.ca
SUMMARY:Library Books to be returned
DESCRIPTION:
URL:https://gardencreek.nbed.ca/calendar/library-books-to-be-returned/2026-04-05/
END:VEVENT
BEGIN:VEVENT
DTSTART;TZID=America/Moncton:20260406T080000
DTEND;TZID=America/Moncton:20260406T170000
DTSTAMP:20260423T082513
CREATED:20240529T132922Z
LAST-MODIFIED:20240529T132925Z
UID:10001627-1775462400-1775494800@gardencreek.nbed.ca
SUMMARY:Library Books to be returned
DESCRIPTION:
URL:https://gardencreek.nbed.ca/calendar/library-books-to-be-returned/2026-04-06/
END:VEVENT
BEGIN:VEVENT
DTSTART;TZID=America/Moncton:20260407T080000
DTEND;TZID=America/Moncton:20260407T170000
DTSTAMP:20260423T082513
CREATED:20240529T132922Z
LAST-MODIFIED:20240529T132925Z
UID:10001628-1775548800-1775581200@gardencreek.nbed.ca
SUMMARY:Library Books to be returned
DESCRIPTION:
URL:https://gardencreek.nbed.ca/calendar/library-books-to-be-returned/2026-04-07/
END:VEVENT
BEGIN:VEVENT
DTSTART;TZID=America/Moncton:20260408T080000
DTEND;TZID=America/Moncton:20260408T170000
DTSTAMP:20260423T082513
CREATED:20240529T132922Z
LAST-MODIFIED:20240529T132925Z
UID:10001629-1775635200-1775667600@gardencreek.nbed.ca
SUMMARY:Library Books to be returned
DESCRIPTION:
URL:https://gardencreek.nbed.ca/calendar/library-books-to-be-returned/2026-04-08/
END:VEVENT
BEGIN:VEVENT
DTSTART;TZID=America/Moncton:20260409T080000
DTEND;TZID=America/Moncton:20260409T170000
DTSTAMP:20260423T082513
CREATED:20240529T132922Z
LAST-MODIFIED:20240529T132925Z
UID:10001630-1775721600-1775754000@gardencreek.nbed.ca
SUMMARY:Library Books to be returned
DESCRIPTION:
URL:https://gardencreek.nbed.ca/calendar/library-books-to-be-returned/2026-04-09/
END:VEVENT
BEGIN:VEVENT
DTSTART;TZID=America/Moncton:20260410T080000
DTEND;TZID=America/Moncton:20260410T170000
DTSTAMP:20260423T082513
CREATED:20240529T132922Z
LAST-MODIFIED:20240529T132925Z
UID:10001631-1775808000-1775840400@gardencreek.nbed.ca
SUMMARY:Library Books to be returned
DESCRIPTION:
URL:https://gardencreek.nbed.ca/calendar/library-books-to-be-returned/2026-04-10/
END:VEVENT
BEGIN:VEVENT
DTSTART;TZID=America/Moncton:20260411T080000
DTEND;TZID=America/Moncton:20260411T170000
DTSTAMP:20260423T082513
CREATED:20240529T132922Z
LAST-MODIFIED:20240529T132925Z
UID:10001632-1775894400-1775926800@gardencreek.nbed.ca
SUMMARY:Library Books to be returned
DESCRIPTION:
URL:https://gardencreek.nbed.ca/calendar/library-books-to-be-returned/2026-04-11/
END:VEVENT
END:VCALENDAR