BEGIN:VCALENDAR
VERSION:2.0
PRODID:-//Garden Creek School - ECPv6.15.20//NONSGML v1.0//EN
CALSCALE:GREGORIAN
METHOD:PUBLISH
X-WR-CALNAME:Garden Creek School
X-ORIGINAL-URL:https://gardencreek.nbed.ca
X-WR-CALDESC:Events for Garden Creek School
REFRESH-INTERVAL;VALUE=DURATION:PT1H
X-Robots-Tag:noindex
X-PUBLISHED-TTL:PT1H
BEGIN:VTIMEZONE
TZID:America/Moncton
BEGIN:DAYLIGHT
TZOFFSETFROM:-0400
TZOFFSETTO:-0300
TZNAME:ADT
DTSTART:20250309T060000
END:DAYLIGHT
BEGIN:STANDARD
TZOFFSETFROM:-0300
TZOFFSETTO:-0400
TZNAME:AST
DTSTART:20251102T050000
END:STANDARD
BEGIN:DAYLIGHT
TZOFFSETFROM:-0400
TZOFFSETTO:-0300
TZNAME:ADT
DTSTART:20260308T060000
END:DAYLIGHT
BEGIN:STANDARD
TZOFFSETFROM:-0300
TZOFFSETTO:-0400
TZNAME:AST
DTSTART:20261101T050000
END:STANDARD
BEGIN:DAYLIGHT
TZOFFSETFROM:-0400
TZOFFSETTO:-0300
TZNAME:ADT
DTSTART:20270314T060000
END:DAYLIGHT
BEGIN:STANDARD
TZOFFSETFROM:-0300
TZOFFSETTO:-0400
TZNAME:AST
DTSTART:20271107T050000
END:STANDARD
END:VTIMEZONE
BEGIN:VEVENT
DTSTART;TZID=America/Moncton:20260513T080000
DTEND;TZID=America/Moncton:20260513T170000
DTSTAMP:20260423T065918
CREATED:20240529T132922Z
LAST-MODIFIED:20240529T132925Z
UID:10001664-1778659200-1778691600@gardencreek.nbed.ca
SUMMARY:Library Books to be returned
DESCRIPTION:
URL:https://gardencreek.nbed.ca/calendar/library-books-to-be-returned/2026-05-13/
END:VEVENT
BEGIN:VEVENT
DTSTART;TZID=America/Moncton:20260514T080000
DTEND;TZID=America/Moncton:20260514T170000
DTSTAMP:20260423T065918
CREATED:20240529T132922Z
LAST-MODIFIED:20240529T132925Z
UID:10001665-1778745600-1778778000@gardencreek.nbed.ca
SUMMARY:Library Books to be returned
DESCRIPTION:
URL:https://gardencreek.nbed.ca/calendar/library-books-to-be-returned/2026-05-14/
END:VEVENT
BEGIN:VEVENT
DTSTART;TZID=America/Moncton:20260515T080000
DTEND;TZID=America/Moncton:20260515T170000
DTSTAMP:20260423T065918
CREATED:20240529T132922Z
LAST-MODIFIED:20240529T132925Z
UID:10001666-1778832000-1778864400@gardencreek.nbed.ca
SUMMARY:Library Books to be returned
DESCRIPTION:
URL:https://gardencreek.nbed.ca/calendar/library-books-to-be-returned/2026-05-15/
END:VEVENT
BEGIN:VEVENT
DTSTART;TZID=America/Moncton:20260516T080000
DTEND;TZID=America/Moncton:20260516T170000
DTSTAMP:20260423T065918
CREATED:20240529T132922Z
LAST-MODIFIED:20240529T132925Z
UID:10001667-1778918400-1778950800@gardencreek.nbed.ca
SUMMARY:Library Books to be returned
DESCRIPTION:
URL:https://gardencreek.nbed.ca/calendar/library-books-to-be-returned/2026-05-16/
END:VEVENT
BEGIN:VEVENT
DTSTART;TZID=America/Moncton:20260517T080000
DTEND;TZID=America/Moncton:20260517T170000
DTSTAMP:20260423T065918
CREATED:20240529T132922Z
LAST-MODIFIED:20240529T132925Z
UID:10001668-1779004800-1779037200@gardencreek.nbed.ca
SUMMARY:Library Books to be returned
DESCRIPTION:
URL:https://gardencreek.nbed.ca/calendar/library-books-to-be-returned/2026-05-17/
END:VEVENT
BEGIN:VEVENT
DTSTART;TZID=America/Moncton:20260518T080000
DTEND;TZID=America/Moncton:20260518T170000
DTSTAMP:20260423T065918
CREATED:20240529T132922Z
LAST-MODIFIED:20240529T132925Z
UID:10001669-1779091200-1779123600@gardencreek.nbed.ca
SUMMARY:Library Books to be returned
DESCRIPTION:
URL:https://gardencreek.nbed.ca/calendar/library-books-to-be-returned/2026-05-18/
END:VEVENT
BEGIN:VEVENT
DTSTART;TZID=America/Moncton:20260519T080000
DTEND;TZID=America/Moncton:20260519T170000
DTSTAMP:20260423T065918
CREATED:20240529T132922Z
LAST-MODIFIED:20240529T132925Z
UID:10001670-1779177600-1779210000@gardencreek.nbed.ca
SUMMARY:Library Books to be returned
DESCRIPTION:
URL:https://gardencreek.nbed.ca/calendar/library-books-to-be-returned/2026-05-19/
END:VEVENT
BEGIN:VEVENT
DTSTART;TZID=America/Moncton:20260520T080000
DTEND;TZID=America/Moncton:20260520T170000
DTSTAMP:20260423T065918
CREATED:20240529T132922Z
LAST-MODIFIED:20240529T132925Z
UID:10001671-1779264000-1779296400@gardencreek.nbed.ca
SUMMARY:Library Books to be returned
DESCRIPTION:
URL:https://gardencreek.nbed.ca/calendar/library-books-to-be-returned/2026-05-20/
END:VEVENT
BEGIN:VEVENT
DTSTART;TZID=America/Moncton:20260521T080000
DTEND;TZID=America/Moncton:20260521T170000
DTSTAMP:20260423T065918
CREATED:20240529T132922Z
LAST-MODIFIED:20240529T132925Z
UID:10001672-1779350400-1779382800@gardencreek.nbed.ca
SUMMARY:Library Books to be returned
DESCRIPTION:
URL:https://gardencreek.nbed.ca/calendar/library-books-to-be-returned/2026-05-21/
END:VEVENT
BEGIN:VEVENT
DTSTART;TZID=America/Moncton:20260522T080000
DTEND;TZID=America/Moncton:20260522T170000
DTSTAMP:20260423T065918
CREATED:20240529T132922Z
LAST-MODIFIED:20240529T132925Z
UID:10001673-1779436800-1779469200@gardencreek.nbed.ca
SUMMARY:Library Books to be returned
DESCRIPTION:
URL:https://gardencreek.nbed.ca/calendar/library-books-to-be-returned/2026-05-22/
END:VEVENT
BEGIN:VEVENT
DTSTART;TZID=America/Moncton:20260523T080000
DTEND;TZID=America/Moncton:20260523T170000
DTSTAMP:20260423T065918
CREATED:20240529T132922Z
LAST-MODIFIED:20240529T132925Z
UID:10001674-1779523200-1779555600@gardencreek.nbed.ca
SUMMARY:Library Books to be returned
DESCRIPTION:
URL:https://gardencreek.nbed.ca/calendar/library-books-to-be-returned/2026-05-23/
END:VEVENT
BEGIN:VEVENT
DTSTART;TZID=America/Moncton:20260524T080000
DTEND;TZID=America/Moncton:20260524T170000
DTSTAMP:20260423T065918
CREATED:20240529T132922Z
LAST-MODIFIED:20240529T132925Z
UID:10001675-1779609600-1779642000@gardencreek.nbed.ca
SUMMARY:Library Books to be returned
DESCRIPTION:
URL:https://gardencreek.nbed.ca/calendar/library-books-to-be-returned/2026-05-24/
END:VEVENT
BEGIN:VEVENT
DTSTART;TZID=America/Moncton:20260525T080000
DTEND;TZID=America/Moncton:20260525T170000
DTSTAMP:20260423T065918
CREATED:20240529T132922Z
LAST-MODIFIED:20240529T132925Z
UID:10001676-1779696000-1779728400@gardencreek.nbed.ca
SUMMARY:Library Books to be returned
DESCRIPTION:
URL:https://gardencreek.nbed.ca/calendar/library-books-to-be-returned/2026-05-25/
END:VEVENT
BEGIN:VEVENT
DTSTART;TZID=America/Moncton:20260526T080000
DTEND;TZID=America/Moncton:20260526T170000
DTSTAMP:20260423T065918
CREATED:20240529T132922Z
LAST-MODIFIED:20240529T132925Z
UID:10001677-1779782400-1779814800@gardencreek.nbed.ca
SUMMARY:Library Books to be returned
DESCRIPTION:
URL:https://gardencreek.nbed.ca/calendar/library-books-to-be-returned/2026-05-26/
END:VEVENT
BEGIN:VEVENT
DTSTART;TZID=America/Moncton:20260527T080000
DTEND;TZID=America/Moncton:20260527T170000
DTSTAMP:20260423T065918
CREATED:20240529T132922Z
LAST-MODIFIED:20240529T132925Z
UID:10001678-1779868800-1779901200@gardencreek.nbed.ca
SUMMARY:Library Books to be returned
DESCRIPTION:
URL:https://gardencreek.nbed.ca/calendar/library-books-to-be-returned/2026-05-27/
END:VEVENT
BEGIN:VEVENT
DTSTART;TZID=America/Moncton:20260528T080000
DTEND;TZID=America/Moncton:20260528T170000
DTSTAMP:20260423T065918
CREATED:20240529T132922Z
LAST-MODIFIED:20240529T132925Z
UID:10001679-1779955200-1779987600@gardencreek.nbed.ca
SUMMARY:Library Books to be returned
DESCRIPTION:
URL:https://gardencreek.nbed.ca/calendar/library-books-to-be-returned/2026-05-28/
END:VEVENT
BEGIN:VEVENT
DTSTART;TZID=America/Moncton:20260529T080000
DTEND;TZID=America/Moncton:20260529T170000
DTSTAMP:20260423T065918
CREATED:20240529T132922Z
LAST-MODIFIED:20240529T132925Z
UID:10001680-1780041600-1780074000@gardencreek.nbed.ca
SUMMARY:Library Books to be returned
DESCRIPTION:
URL:https://gardencreek.nbed.ca/calendar/library-books-to-be-returned/2026-05-29/
END:VEVENT
BEGIN:VEVENT
DTSTART;TZID=America/Moncton:20260530T080000
DTEND;TZID=America/Moncton:20260530T170000
DTSTAMP:20260423T065918
CREATED:20240529T132922Z
LAST-MODIFIED:20240529T132925Z
UID:10001681-1780128000-1780160400@gardencreek.nbed.ca
SUMMARY:Library Books to be returned
DESCRIPTION:
URL:https://gardencreek.nbed.ca/calendar/library-books-to-be-returned/2026-05-30/
END:VEVENT
BEGIN:VEVENT
DTSTART;TZID=America/Moncton:20260531T080000
DTEND;TZID=America/Moncton:20260531T170000
DTSTAMP:20260423T065918
CREATED:20240529T132922Z
LAST-MODIFIED:20240529T132925Z
UID:10001682-1780214400-1780246800@gardencreek.nbed.ca
SUMMARY:Library Books to be returned
DESCRIPTION:
URL:https://gardencreek.nbed.ca/calendar/library-books-to-be-returned/2026-05-31/
END:VEVENT
BEGIN:VEVENT
DTSTART;TZID=America/Moncton:20260601T080000
DTEND;TZID=America/Moncton:20260601T170000
DTSTAMP:20260423T065918
CREATED:20240529T132922Z
LAST-MODIFIED:20240529T132925Z
UID:10001683-1780300800-1780333200@gardencreek.nbed.ca
SUMMARY:Library Books to be returned
DESCRIPTION:
URL:https://gardencreek.nbed.ca/calendar/library-books-to-be-returned/2026-06-01/
END:VEVENT
BEGIN:VEVENT
DTSTART;TZID=America/Moncton:20260602T080000
DTEND;TZID=America/Moncton:20260602T170000
DTSTAMP:20260423T065918
CREATED:20240529T132922Z
LAST-MODIFIED:20240529T132925Z
UID:10001684-1780387200-1780419600@gardencreek.nbed.ca
SUMMARY:Library Books to be returned
DESCRIPTION:
URL:https://gardencreek.nbed.ca/calendar/library-books-to-be-returned/2026-06-02/
END:VEVENT
BEGIN:VEVENT
DTSTART;TZID=America/Moncton:20260603T080000
DTEND;TZID=America/Moncton:20260603T170000
DTSTAMP:20260423T065918
CREATED:20240529T132922Z
LAST-MODIFIED:20240529T132925Z
UID:10001685-1780473600-1780506000@gardencreek.nbed.ca
SUMMARY:Library Books to be returned
DESCRIPTION:
URL:https://gardencreek.nbed.ca/calendar/library-books-to-be-returned/2026-06-03/
END:VEVENT
BEGIN:VEVENT
DTSTART;TZID=America/Moncton:20260604T080000
DTEND;TZID=America/Moncton:20260604T170000
DTSTAMP:20260423T065918
CREATED:20240529T132922Z
LAST-MODIFIED:20240529T132925Z
UID:10001686-1780560000-1780592400@gardencreek.nbed.ca
SUMMARY:Library Books to be returned
DESCRIPTION:
URL:https://gardencreek.nbed.ca/calendar/library-books-to-be-returned/2026-06-04/
END:VEVENT
BEGIN:VEVENT
DTSTART;TZID=America/Moncton:20260605T080000
DTEND;TZID=America/Moncton:20260605T170000
DTSTAMP:20260423T065918
CREATED:20240529T132922Z
LAST-MODIFIED:20240529T132925Z
UID:10001687-1780646400-1780678800@gardencreek.nbed.ca
SUMMARY:Library Books to be returned
DESCRIPTION:
URL:https://gardencreek.nbed.ca/calendar/library-books-to-be-returned/2026-06-05/
END:VEVENT
BEGIN:VEVENT
DTSTART;TZID=America/Moncton:20260606T080000
DTEND;TZID=America/Moncton:20260606T170000
DTSTAMP:20260423T065918
CREATED:20240529T132922Z
LAST-MODIFIED:20240529T132925Z
UID:10001688-1780732800-1780765200@gardencreek.nbed.ca
SUMMARY:Library Books to be returned
DESCRIPTION:
URL:https://gardencreek.nbed.ca/calendar/library-books-to-be-returned/2026-06-06/
END:VEVENT
BEGIN:VEVENT
DTSTART;TZID=America/Moncton:20260607T080000
DTEND;TZID=America/Moncton:20260607T170000
DTSTAMP:20260423T065918
CREATED:20240529T132922Z
LAST-MODIFIED:20240529T132925Z
UID:10001689-1780819200-1780851600@gardencreek.nbed.ca
SUMMARY:Library Books to be returned
DESCRIPTION:
URL:https://gardencreek.nbed.ca/calendar/library-books-to-be-returned/2026-06-07/
END:VEVENT
BEGIN:VEVENT
DTSTART;TZID=America/Moncton:20260608T080000
DTEND;TZID=America/Moncton:20260608T170000
DTSTAMP:20260423T065918
CREATED:20240529T132922Z
LAST-MODIFIED:20240529T132925Z
UID:10001690-1780905600-1780938000@gardencreek.nbed.ca
SUMMARY:Library Books to be returned
DESCRIPTION:
URL:https://gardencreek.nbed.ca/calendar/library-books-to-be-returned/2026-06-08/
END:VEVENT
BEGIN:VEVENT
DTSTART;TZID=America/Moncton:20260609T080000
DTEND;TZID=America/Moncton:20260609T170000
DTSTAMP:20260423T065918
CREATED:20240529T132922Z
LAST-MODIFIED:20240529T132925Z
UID:10001691-1780992000-1781024400@gardencreek.nbed.ca
SUMMARY:Library Books to be returned
DESCRIPTION:
URL:https://gardencreek.nbed.ca/calendar/library-books-to-be-returned/2026-06-09/
END:VEVENT
BEGIN:VEVENT
DTSTART;TZID=America/Moncton:20260610T080000
DTEND;TZID=America/Moncton:20260610T170000
DTSTAMP:20260423T065918
CREATED:20240529T132922Z
LAST-MODIFIED:20240529T132925Z
UID:10001692-1781078400-1781110800@gardencreek.nbed.ca
SUMMARY:Library Books to be returned
DESCRIPTION:
URL:https://gardencreek.nbed.ca/calendar/library-books-to-be-returned/2026-06-10/
END:VEVENT
BEGIN:VEVENT
DTSTART;TZID=America/Moncton:20260611T080000
DTEND;TZID=America/Moncton:20260611T170000
DTSTAMP:20260423T065918
CREATED:20240529T132922Z
LAST-MODIFIED:20240529T132925Z
UID:10001693-1781164800-1781197200@gardencreek.nbed.ca
SUMMARY:Library Books to be returned
DESCRIPTION:
URL:https://gardencreek.nbed.ca/calendar/library-books-to-be-returned/2026-06-11/
END:VEVENT
END:VCALENDAR