BEGIN:VCALENDAR
VERSION:2.0
PRODID:-//Garden Creek School - ECPv6.15.20//NONSGML v1.0//EN
CALSCALE:GREGORIAN
METHOD:PUBLISH
X-WR-CALNAME:Garden Creek School
X-ORIGINAL-URL:https://gardencreek.nbed.ca
X-WR-CALDESC:Events for Garden Creek School
REFRESH-INTERVAL;VALUE=DURATION:PT1H
X-Robots-Tag:noindex
X-PUBLISHED-TTL:PT1H
BEGIN:VTIMEZONE
TZID:America/Moncton
BEGIN:DAYLIGHT
TZOFFSETFROM:-0400
TZOFFSETTO:-0300
TZNAME:ADT
DTSTART:20250309T060000
END:DAYLIGHT
BEGIN:STANDARD
TZOFFSETFROM:-0300
TZOFFSETTO:-0400
TZNAME:AST
DTSTART:20251102T050000
END:STANDARD
BEGIN:DAYLIGHT
TZOFFSETFROM:-0400
TZOFFSETTO:-0300
TZNAME:ADT
DTSTART:20260308T060000
END:DAYLIGHT
BEGIN:STANDARD
TZOFFSETFROM:-0300
TZOFFSETTO:-0400
TZNAME:AST
DTSTART:20261101T050000
END:STANDARD
BEGIN:DAYLIGHT
TZOFFSETFROM:-0400
TZOFFSETTO:-0300
TZNAME:ADT
DTSTART:20270314T060000
END:DAYLIGHT
BEGIN:STANDARD
TZOFFSETFROM:-0300
TZOFFSETTO:-0400
TZNAME:AST
DTSTART:20271107T050000
END:STANDARD
BEGIN:DAYLIGHT
TZOFFSETFROM:-0400
TZOFFSETTO:-0300
TZNAME:ADT
DTSTART:20280312T060000
END:DAYLIGHT
BEGIN:STANDARD
TZOFFSETFROM:-0300
TZOFFSETTO:-0400
TZNAME:AST
DTSTART:20281105T050000
END:STANDARD
END:VTIMEZONE
BEGIN:VEVENT
DTSTART;TZID=America/Moncton:20261220T080000
DTEND;TZID=America/Moncton:20261220T170000
DTSTAMP:20260424T120102
CREATED:20240529T132922Z
LAST-MODIFIED:20240529T132925Z
UID:10001885-1797753600-1797786000@gardencreek.nbed.ca
SUMMARY:Library Books to be returned
DESCRIPTION:
URL:https://gardencreek.nbed.ca/calendar/library-books-to-be-returned/2026-12-20/
END:VEVENT
BEGIN:VEVENT
DTSTART;TZID=America/Moncton:20261221T080000
DTEND;TZID=America/Moncton:20261221T170000
DTSTAMP:20260424T120102
CREATED:20240529T132922Z
LAST-MODIFIED:20240529T132925Z
UID:10001886-1797840000-1797872400@gardencreek.nbed.ca
SUMMARY:Library Books to be returned
DESCRIPTION:
URL:https://gardencreek.nbed.ca/calendar/library-books-to-be-returned/2026-12-21/
END:VEVENT
BEGIN:VEVENT
DTSTART;TZID=America/Moncton:20261222T080000
DTEND;TZID=America/Moncton:20261222T170000
DTSTAMP:20260424T120102
CREATED:20240529T132922Z
LAST-MODIFIED:20240529T132925Z
UID:10001887-1797926400-1797958800@gardencreek.nbed.ca
SUMMARY:Library Books to be returned
DESCRIPTION:
URL:https://gardencreek.nbed.ca/calendar/library-books-to-be-returned/2026-12-22/
END:VEVENT
BEGIN:VEVENT
DTSTART;TZID=America/Moncton:20261223T080000
DTEND;TZID=America/Moncton:20261223T170000
DTSTAMP:20260424T120102
CREATED:20240529T132922Z
LAST-MODIFIED:20240529T132925Z
UID:10001888-1798012800-1798045200@gardencreek.nbed.ca
SUMMARY:Library Books to be returned
DESCRIPTION:
URL:https://gardencreek.nbed.ca/calendar/library-books-to-be-returned/2026-12-23/
END:VEVENT
BEGIN:VEVENT
DTSTART;TZID=America/Moncton:20261224T080000
DTEND;TZID=America/Moncton:20261224T170000
DTSTAMP:20260424T120102
CREATED:20240529T132922Z
LAST-MODIFIED:20240529T132925Z
UID:10001889-1798099200-1798131600@gardencreek.nbed.ca
SUMMARY:Library Books to be returned
DESCRIPTION:
URL:https://gardencreek.nbed.ca/calendar/library-books-to-be-returned/2026-12-24/
END:VEVENT
BEGIN:VEVENT
DTSTART;TZID=America/Moncton:20261225T080000
DTEND;TZID=America/Moncton:20261225T170000
DTSTAMP:20260424T120102
CREATED:20240529T132922Z
LAST-MODIFIED:20240529T132925Z
UID:10001890-1798185600-1798218000@gardencreek.nbed.ca
SUMMARY:Library Books to be returned
DESCRIPTION:
URL:https://gardencreek.nbed.ca/calendar/library-books-to-be-returned/2026-12-25/
END:VEVENT
BEGIN:VEVENT
DTSTART;TZID=America/Moncton:20261226T080000
DTEND;TZID=America/Moncton:20261226T170000
DTSTAMP:20260424T120102
CREATED:20240529T132922Z
LAST-MODIFIED:20240529T132925Z
UID:10001891-1798272000-1798304400@gardencreek.nbed.ca
SUMMARY:Library Books to be returned
DESCRIPTION:
URL:https://gardencreek.nbed.ca/calendar/library-books-to-be-returned/2026-12-26/
END:VEVENT
BEGIN:VEVENT
DTSTART;TZID=America/Moncton:20261227T080000
DTEND;TZID=America/Moncton:20261227T170000
DTSTAMP:20260424T120102
CREATED:20240529T132922Z
LAST-MODIFIED:20240529T132925Z
UID:10001892-1798358400-1798390800@gardencreek.nbed.ca
SUMMARY:Library Books to be returned
DESCRIPTION:
URL:https://gardencreek.nbed.ca/calendar/library-books-to-be-returned/2026-12-27/
END:VEVENT
BEGIN:VEVENT
DTSTART;TZID=America/Moncton:20261228T080000
DTEND;TZID=America/Moncton:20261228T170000
DTSTAMP:20260424T120102
CREATED:20240529T132922Z
LAST-MODIFIED:20240529T132925Z
UID:10001893-1798444800-1798477200@gardencreek.nbed.ca
SUMMARY:Library Books to be returned
DESCRIPTION:
URL:https://gardencreek.nbed.ca/calendar/library-books-to-be-returned/2026-12-28/
END:VEVENT
BEGIN:VEVENT
DTSTART;TZID=America/Moncton:20261229T080000
DTEND;TZID=America/Moncton:20261229T170000
DTSTAMP:20260424T120102
CREATED:20240529T132922Z
LAST-MODIFIED:20240529T132925Z
UID:10001894-1798531200-1798563600@gardencreek.nbed.ca
SUMMARY:Library Books to be returned
DESCRIPTION:
URL:https://gardencreek.nbed.ca/calendar/library-books-to-be-returned/2026-12-29/
END:VEVENT
BEGIN:VEVENT
DTSTART;TZID=America/Moncton:20261230T080000
DTEND;TZID=America/Moncton:20261230T170000
DTSTAMP:20260424T120102
CREATED:20240529T132922Z
LAST-MODIFIED:20240529T132925Z
UID:10001895-1798617600-1798650000@gardencreek.nbed.ca
SUMMARY:Library Books to be returned
DESCRIPTION:
URL:https://gardencreek.nbed.ca/calendar/library-books-to-be-returned/2026-12-30/
END:VEVENT
BEGIN:VEVENT
DTSTART;TZID=America/Moncton:20261231T080000
DTEND;TZID=America/Moncton:20261231T170000
DTSTAMP:20260424T120102
CREATED:20240529T132922Z
LAST-MODIFIED:20240529T132925Z
UID:10001896-1798704000-1798736400@gardencreek.nbed.ca
SUMMARY:Library Books to be returned
DESCRIPTION:
URL:https://gardencreek.nbed.ca/calendar/library-books-to-be-returned/2026-12-31/
END:VEVENT
BEGIN:VEVENT
DTSTART;TZID=America/Moncton:20270101T080000
DTEND;TZID=America/Moncton:20270101T170000
DTSTAMP:20260424T120102
CREATED:20240529T132922Z
LAST-MODIFIED:20240529T132925Z
UID:10001897-1798790400-1798822800@gardencreek.nbed.ca
SUMMARY:Library Books to be returned
DESCRIPTION:
URL:https://gardencreek.nbed.ca/calendar/library-books-to-be-returned/2027-01-01/
END:VEVENT
BEGIN:VEVENT
DTSTART;TZID=America/Moncton:20270102T080000
DTEND;TZID=America/Moncton:20270102T170000
DTSTAMP:20260424T120102
CREATED:20240529T132922Z
LAST-MODIFIED:20240529T132925Z
UID:10001898-1798876800-1798909200@gardencreek.nbed.ca
SUMMARY:Library Books to be returned
DESCRIPTION:
URL:https://gardencreek.nbed.ca/calendar/library-books-to-be-returned/2027-01-02/
END:VEVENT
BEGIN:VEVENT
DTSTART;TZID=America/Moncton:20270103T080000
DTEND;TZID=America/Moncton:20270103T170000
DTSTAMP:20260424T120102
CREATED:20240529T132922Z
LAST-MODIFIED:20240529T132925Z
UID:10001899-1798963200-1798995600@gardencreek.nbed.ca
SUMMARY:Library Books to be returned
DESCRIPTION:
URL:https://gardencreek.nbed.ca/calendar/library-books-to-be-returned/2027-01-03/
END:VEVENT
BEGIN:VEVENT
DTSTART;TZID=America/Moncton:20270104T080000
DTEND;TZID=America/Moncton:20270104T170000
DTSTAMP:20260424T120102
CREATED:20240529T132922Z
LAST-MODIFIED:20240529T132925Z
UID:10001900-1799049600-1799082000@gardencreek.nbed.ca
SUMMARY:Library Books to be returned
DESCRIPTION:
URL:https://gardencreek.nbed.ca/calendar/library-books-to-be-returned/2027-01-04/
END:VEVENT
BEGIN:VEVENT
DTSTART;TZID=America/Moncton:20270105T080000
DTEND;TZID=America/Moncton:20270105T170000
DTSTAMP:20260424T120102
CREATED:20240529T132922Z
LAST-MODIFIED:20240529T132925Z
UID:10001901-1799136000-1799168400@gardencreek.nbed.ca
SUMMARY:Library Books to be returned
DESCRIPTION:
URL:https://gardencreek.nbed.ca/calendar/library-books-to-be-returned/2027-01-05/
END:VEVENT
BEGIN:VEVENT
DTSTART;TZID=America/Moncton:20270106T080000
DTEND;TZID=America/Moncton:20270106T170000
DTSTAMP:20260424T120102
CREATED:20240529T132922Z
LAST-MODIFIED:20240529T132925Z
UID:10001902-1799222400-1799254800@gardencreek.nbed.ca
SUMMARY:Library Books to be returned
DESCRIPTION:
URL:https://gardencreek.nbed.ca/calendar/library-books-to-be-returned/2027-01-06/
END:VEVENT
BEGIN:VEVENT
DTSTART;TZID=America/Moncton:20270107T080000
DTEND;TZID=America/Moncton:20270107T170000
DTSTAMP:20260424T120102
CREATED:20240529T132922Z
LAST-MODIFIED:20240529T132925Z
UID:10001903-1799308800-1799341200@gardencreek.nbed.ca
SUMMARY:Library Books to be returned
DESCRIPTION:
URL:https://gardencreek.nbed.ca/calendar/library-books-to-be-returned/2027-01-07/
END:VEVENT
BEGIN:VEVENT
DTSTART;TZID=America/Moncton:20270108T080000
DTEND;TZID=America/Moncton:20270108T170000
DTSTAMP:20260424T120102
CREATED:20240529T132922Z
LAST-MODIFIED:20240529T132925Z
UID:10001904-1799395200-1799427600@gardencreek.nbed.ca
SUMMARY:Library Books to be returned
DESCRIPTION:
URL:https://gardencreek.nbed.ca/calendar/library-books-to-be-returned/2027-01-08/
END:VEVENT
BEGIN:VEVENT
DTSTART;TZID=America/Moncton:20270109T080000
DTEND;TZID=America/Moncton:20270109T170000
DTSTAMP:20260424T120102
CREATED:20240529T132922Z
LAST-MODIFIED:20240529T132925Z
UID:10001905-1799481600-1799514000@gardencreek.nbed.ca
SUMMARY:Library Books to be returned
DESCRIPTION:
URL:https://gardencreek.nbed.ca/calendar/library-books-to-be-returned/2027-01-09/
END:VEVENT
BEGIN:VEVENT
DTSTART;TZID=America/Moncton:20270110T080000
DTEND;TZID=America/Moncton:20270110T170000
DTSTAMP:20260424T120102
CREATED:20240529T132922Z
LAST-MODIFIED:20240529T132925Z
UID:10001906-1799568000-1799600400@gardencreek.nbed.ca
SUMMARY:Library Books to be returned
DESCRIPTION:
URL:https://gardencreek.nbed.ca/calendar/library-books-to-be-returned/2027-01-10/
END:VEVENT
BEGIN:VEVENT
DTSTART;TZID=America/Moncton:20270111T080000
DTEND;TZID=America/Moncton:20270111T170000
DTSTAMP:20260424T120102
CREATED:20240529T132922Z
LAST-MODIFIED:20240529T132925Z
UID:10001907-1799654400-1799686800@gardencreek.nbed.ca
SUMMARY:Library Books to be returned
DESCRIPTION:
URL:https://gardencreek.nbed.ca/calendar/library-books-to-be-returned/2027-01-11/
END:VEVENT
BEGIN:VEVENT
DTSTART;TZID=America/Moncton:20270112T080000
DTEND;TZID=America/Moncton:20270112T170000
DTSTAMP:20260424T120102
CREATED:20240529T132922Z
LAST-MODIFIED:20240529T132925Z
UID:10001908-1799740800-1799773200@gardencreek.nbed.ca
SUMMARY:Library Books to be returned
DESCRIPTION:
URL:https://gardencreek.nbed.ca/calendar/library-books-to-be-returned/2027-01-12/
END:VEVENT
BEGIN:VEVENT
DTSTART;TZID=America/Moncton:20270113T080000
DTEND;TZID=America/Moncton:20270113T170000
DTSTAMP:20260424T120102
CREATED:20240529T132922Z
LAST-MODIFIED:20240529T132925Z
UID:10001909-1799827200-1799859600@gardencreek.nbed.ca
SUMMARY:Library Books to be returned
DESCRIPTION:
URL:https://gardencreek.nbed.ca/calendar/library-books-to-be-returned/2027-01-13/
END:VEVENT
BEGIN:VEVENT
DTSTART;TZID=America/Moncton:20270114T080000
DTEND;TZID=America/Moncton:20270114T170000
DTSTAMP:20260424T120102
CREATED:20240529T132922Z
LAST-MODIFIED:20240529T132925Z
UID:10001910-1799913600-1799946000@gardencreek.nbed.ca
SUMMARY:Library Books to be returned
DESCRIPTION:
URL:https://gardencreek.nbed.ca/calendar/library-books-to-be-returned/2027-01-14/
END:VEVENT
BEGIN:VEVENT
DTSTART;TZID=America/Moncton:20270115T080000
DTEND;TZID=America/Moncton:20270115T170000
DTSTAMP:20260424T120102
CREATED:20240529T132922Z
LAST-MODIFIED:20240529T132925Z
UID:10001911-1800000000-1800032400@gardencreek.nbed.ca
SUMMARY:Library Books to be returned
DESCRIPTION:
URL:https://gardencreek.nbed.ca/calendar/library-books-to-be-returned/2027-01-15/
END:VEVENT
BEGIN:VEVENT
DTSTART;TZID=America/Moncton:20270116T080000
DTEND;TZID=America/Moncton:20270116T170000
DTSTAMP:20260424T120102
CREATED:20240529T132922Z
LAST-MODIFIED:20240529T132925Z
UID:10001912-1800086400-1800118800@gardencreek.nbed.ca
SUMMARY:Library Books to be returned
DESCRIPTION:
URL:https://gardencreek.nbed.ca/calendar/library-books-to-be-returned/2027-01-16/
END:VEVENT
BEGIN:VEVENT
DTSTART;TZID=America/Moncton:20270117T080000
DTEND;TZID=America/Moncton:20270117T170000
DTSTAMP:20260424T120102
CREATED:20240529T132922Z
LAST-MODIFIED:20240529T132925Z
UID:10001913-1800172800-1800205200@gardencreek.nbed.ca
SUMMARY:Library Books to be returned
DESCRIPTION:
URL:https://gardencreek.nbed.ca/calendar/library-books-to-be-returned/2027-01-17/
END:VEVENT
BEGIN:VEVENT
DTSTART;TZID=America/Moncton:20270118T080000
DTEND;TZID=America/Moncton:20270118T170000
DTSTAMP:20260424T120102
CREATED:20240529T132922Z
LAST-MODIFIED:20240529T132925Z
UID:10001914-1800259200-1800291600@gardencreek.nbed.ca
SUMMARY:Library Books to be returned
DESCRIPTION:
URL:https://gardencreek.nbed.ca/calendar/library-books-to-be-returned/2027-01-18/
END:VEVENT
END:VCALENDAR