BEGIN:VCALENDAR
VERSION:2.0
PRODID:-//Garden Creek School - ECPv6.15.20//NONSGML v1.0//EN
CALSCALE:GREGORIAN
METHOD:PUBLISH
X-WR-CALNAME:Garden Creek School
X-ORIGINAL-URL:https://gardencreek.nbed.ca
X-WR-CALDESC:Events for Garden Creek School
REFRESH-INTERVAL;VALUE=DURATION:PT1H
X-Robots-Tag:noindex
X-PUBLISHED-TTL:PT1H
BEGIN:VTIMEZONE
TZID:America/Moncton
BEGIN:DAYLIGHT
TZOFFSETFROM:-0400
TZOFFSETTO:-0300
TZNAME:ADT
DTSTART:20240310T060000
END:DAYLIGHT
BEGIN:STANDARD
TZOFFSETFROM:-0300
TZOFFSETTO:-0400
TZNAME:AST
DTSTART:20241103T050000
END:STANDARD
BEGIN:DAYLIGHT
TZOFFSETFROM:-0400
TZOFFSETTO:-0300
TZNAME:ADT
DTSTART:20250309T060000
END:DAYLIGHT
BEGIN:STANDARD
TZOFFSETFROM:-0300
TZOFFSETTO:-0400
TZNAME:AST
DTSTART:20251102T050000
END:STANDARD
BEGIN:DAYLIGHT
TZOFFSETFROM:-0400
TZOFFSETTO:-0300
TZNAME:ADT
DTSTART:20260308T060000
END:DAYLIGHT
BEGIN:STANDARD
TZOFFSETFROM:-0300
TZOFFSETTO:-0400
TZNAME:AST
DTSTART:20261101T050000
END:STANDARD
END:VTIMEZONE
BEGIN:VEVENT
DTSTART;TZID=America/Moncton:20250220T080000
DTEND;TZID=America/Moncton:20250220T170000
DTSTAMP:20260425T083942
CREATED:20240529T132922Z
LAST-MODIFIED:20240529T132925Z
UID:10001217-1740038400-1740070800@gardencreek.nbed.ca
SUMMARY:Library Books to be returned
DESCRIPTION:
URL:https://gardencreek.nbed.ca/calendar/library-books-to-be-returned/2025-02-20/
END:VEVENT
BEGIN:VEVENT
DTSTART;TZID=America/Moncton:20250219T080000
DTEND;TZID=America/Moncton:20250219T170000
DTSTAMP:20260425T083942
CREATED:20240529T132922Z
LAST-MODIFIED:20240529T132925Z
UID:10001216-1739952000-1739984400@gardencreek.nbed.ca
SUMMARY:Library Books to be returned
DESCRIPTION:
URL:https://gardencreek.nbed.ca/calendar/library-books-to-be-returned/2025-02-19/
END:VEVENT
BEGIN:VEVENT
DTSTART;TZID=America/Moncton:20250218T183000
DTEND;TZID=America/Moncton:20250218T193000
DTSTAMP:20260425T083942
CREATED:20250128T150914Z
LAST-MODIFIED:20250128T150915Z
UID:10002864-1739903400-1739907000@gardencreek.nbed.ca
SUMMARY:Home & School Meeting (Library)
DESCRIPTION:
URL:https://gardencreek.nbed.ca/calendar/home-school-meeting-library-7/
END:VEVENT
BEGIN:VEVENT
DTSTART;TZID=America/Moncton:20250218T122500
DTEND;TZID=America/Moncton:20250218T124500
DTSTAMP:20260425T083942
CREATED:20250128T150601Z
LAST-MODIFIED:20250128T150605Z
UID:10002858-1739881500-1739882700@gardencreek.nbed.ca
SUMMARY:Pizza Pizza Hot Lunch
DESCRIPTION:
URL:https://gardencreek.nbed.ca/calendar/pizza-pizza-hot-lunch/
END:VEVENT
BEGIN:VEVENT
DTSTART;TZID=America/Moncton:20250218T115500
DTEND;TZID=America/Moncton:20250218T122500
DTSTAMP:20260425T083942
CREATED:20250128T151325Z
LAST-MODIFIED:20250128T151327Z
UID:10002868-1739879700-1739881500@gardencreek.nbed.ca
SUMMARY:Chess Club (Mme. McLeod's Room)
DESCRIPTION:
URL:https://gardencreek.nbed.ca/calendar/chess-club-mme-mcleods-room-11/
END:VEVENT
BEGIN:VEVENT
DTSTART;TZID=America/Moncton:20250218T115500
DTEND;TZID=America/Moncton:20250218T120000
DTSTAMP:20260425T083942
CREATED:20250128T150733Z
LAST-MODIFIED:20250128T180814Z
UID:10002861-1739879700-1739880000@gardencreek.nbed.ca
SUMMARY:Drama (Moana Play Rehearsal)
DESCRIPTION:
URL:https://gardencreek.nbed.ca/calendar/drama-moana-play-3/
END:VEVENT
BEGIN:VEVENT
DTSTART;TZID=America/Moncton:20250218T090000
DTEND;TZID=America/Moncton:20250218T133000
DTSTAMP:20260425T083942
CREATED:20250128T153148Z
LAST-MODIFIED:20250128T153149Z
UID:10002870-1739869200-1739885400@gardencreek.nbed.ca
SUMMARY:Black History Month Presentations
DESCRIPTION:9:00 – 9:45 – Gr. 2 \n\n\n\n10:10 – 10:55 – Gr. 5 \n\n\n\n10:55 – 11:40 – Gr. 4 \n\n\n\n12:45 – 1:30 – Gr. 3
URL:https://gardencreek.nbed.ca/calendar/black-history-month-presentations/
END:VEVENT
BEGIN:VEVENT
DTSTART;TZID=America/Moncton:20250218T080000
DTEND;TZID=America/Moncton:20250218T170000
DTSTAMP:20260425T083942
CREATED:20240529T132922Z
LAST-MODIFIED:20240529T132925Z
UID:10001215-1739865600-1739898000@gardencreek.nbed.ca
SUMMARY:Library Books to be returned
DESCRIPTION:
URL:https://gardencreek.nbed.ca/calendar/library-books-to-be-returned/2025-02-18/
END:VEVENT
BEGIN:VEVENT
DTSTART;TZID=America/Moncton:20250217T080000
DTEND;TZID=America/Moncton:20250217T170000
DTSTAMP:20260425T083942
CREATED:20250128T150338Z
LAST-MODIFIED:20250128T150339Z
UID:10002854-1739779200-1739811600@gardencreek.nbed.ca
SUMMARY:Family Day (Holiday) No School
DESCRIPTION:
URL:https://gardencreek.nbed.ca/calendar/family-day-holiday-no-school/
END:VEVENT
BEGIN:VEVENT
DTSTART;TZID=America/Moncton:20250217T080000
DTEND;TZID=America/Moncton:20250217T170000
DTSTAMP:20260425T083942
CREATED:20240529T132922Z
LAST-MODIFIED:20240529T132925Z
UID:10001214-1739779200-1739811600@gardencreek.nbed.ca
SUMMARY:Library Books to be returned
DESCRIPTION:
URL:https://gardencreek.nbed.ca/calendar/library-books-to-be-returned/2025-02-17/
END:VEVENT
BEGIN:VEVENT
DTSTART;TZID=America/Moncton:20250216T080000
DTEND;TZID=America/Moncton:20250216T170000
DTSTAMP:20260425T083942
CREATED:20240529T132922Z
LAST-MODIFIED:20240529T132925Z
UID:10001213-1739692800-1739725200@gardencreek.nbed.ca
SUMMARY:Library Books to be returned
DESCRIPTION:
URL:https://gardencreek.nbed.ca/calendar/library-books-to-be-returned/2025-02-16/
END:VEVENT
BEGIN:VEVENT
DTSTART;TZID=America/Moncton:20250215T080000
DTEND;TZID=America/Moncton:20250215T170000
DTSTAMP:20260425T083942
CREATED:20240529T132922Z
LAST-MODIFIED:20240529T132925Z
UID:10001212-1739606400-1739638800@gardencreek.nbed.ca
SUMMARY:Library Books to be returned
DESCRIPTION:
URL:https://gardencreek.nbed.ca/calendar/library-books-to-be-returned/2025-02-15/
END:VEVENT
BEGIN:VEVENT
DTSTART;TZID=America/Moncton:20250214T122500
DTEND;TZID=America/Moncton:20250214T124500
DTSTAMP:20260425T083942
CREATED:20250128T154246Z
LAST-MODIFIED:20250128T154248Z
UID:10002873-1739535900-1739537100@gardencreek.nbed.ca
SUMMARY:Porters Hot Lunch
DESCRIPTION:
URL:https://gardencreek.nbed.ca/calendar/porters-hot-lunch/
END:VEVENT
BEGIN:VEVENT
DTSTART;TZID=America/Moncton:20250214T110000
DTEND;TZID=America/Moncton:20250214T110000
DTSTAMP:20260425T083942
CREATED:20250128T163517Z
LAST-MODIFIED:20250128T163519Z
UID:10002881-1739530800-1739530800@gardencreek.nbed.ca
SUMMARY:STEAM Club (Library)
DESCRIPTION:
URL:https://gardencreek.nbed.ca/calendar/steam-club-library-2/
END:VEVENT
BEGIN:VEVENT
DTSTART;TZID=America/Moncton:20250214T080000
DTEND;TZID=America/Moncton:20250214T170000
DTSTAMP:20260425T083942
CREATED:20240529T132922Z
LAST-MODIFIED:20240529T132925Z
UID:10001211-1739520000-1739552400@gardencreek.nbed.ca
SUMMARY:Library Books to be returned
DESCRIPTION:
URL:https://gardencreek.nbed.ca/calendar/library-books-to-be-returned/2025-02-14/
END:VEVENT
BEGIN:VEVENT
DTSTART;TZID=America/Moncton:20250213T122500
DTEND;TZID=America/Moncton:20250213T124500
DTSTAMP:20260425T083942
CREATED:20250128T155221Z
LAST-MODIFIED:20250128T155222Z
UID:10002877-1739449500-1739450700@gardencreek.nbed.ca
SUMMARY:Mary Browns Hot Lunch (R4)
DESCRIPTION:
URL:https://gardencreek.nbed.ca/calendar/mary-browns-hot-lunch-r4-2/
END:VEVENT
BEGIN:VEVENT
DTSTART;TZID=America/Moncton:20250213T080000
DTEND;TZID=America/Moncton:20250213T170000
DTSTAMP:20260425T083942
CREATED:20250207T145325Z
LAST-MODIFIED:20250207T145326Z
UID:10002894-1739433600-1739466000@gardencreek.nbed.ca
SUMMARY:100 Days of School
DESCRIPTION:
URL:https://gardencreek.nbed.ca/calendar/100-days-of-school-2/
END:VEVENT
BEGIN:VEVENT
DTSTART;TZID=America/Moncton:20250213T080000
DTEND;TZID=America/Moncton:20250213T170000
DTSTAMP:20260425T083942
CREATED:20240529T132922Z
LAST-MODIFIED:20240529T132925Z
UID:10001210-1739433600-1739466000@gardencreek.nbed.ca
SUMMARY:Library Books to be returned
DESCRIPTION:
URL:https://gardencreek.nbed.ca/calendar/library-books-to-be-returned/2025-02-13/
END:VEVENT
BEGIN:VEVENT
DTSTART;TZID=America/Moncton:20250212T080000
DTEND;TZID=America/Moncton:20250212T170000
DTSTAMP:20260425T083942
CREATED:20240529T132922Z
LAST-MODIFIED:20240529T132925Z
UID:10001209-1739347200-1739379600@gardencreek.nbed.ca
SUMMARY:Library Books to be returned
DESCRIPTION:
URL:https://gardencreek.nbed.ca/calendar/library-books-to-be-returned/2025-02-12/
END:VEVENT
BEGIN:VEVENT
DTSTART;TZID=America/Moncton:20250211T143000
DTEND;TZID=America/Moncton:20250211T153000
DTSTAMP:20260425T083942
CREATED:20250128T150843Z
LAST-MODIFIED:20250128T150845Z
UID:10002863-1739284200-1739287800@gardencreek.nbed.ca
SUMMARY:Snapology (Last Day)
DESCRIPTION:
URL:https://gardencreek.nbed.ca/calendar/snapology-last-day/
END:VEVENT
BEGIN:VEVENT
DTSTART;TZID=America/Moncton:20250211T122500
DTEND;TZID=America/Moncton:20250211T124500
DTSTAMP:20260425T083942
CREATED:20250128T150534Z
LAST-MODIFIED:20250128T150535Z
UID:10002857-1739276700-1739277900@gardencreek.nbed.ca
SUMMARY:Pizza Pizza Hot Lunch (R4)
DESCRIPTION:
URL:https://gardencreek.nbed.ca/calendar/pizza-pizza-hot-lunch-r4-2/
END:VEVENT
BEGIN:VEVENT
DTSTART;TZID=America/Moncton:20250211T115500
DTEND;TZID=America/Moncton:20250211T122500
DTSTAMP:20260425T083942
CREATED:20250128T151258Z
LAST-MODIFIED:20250128T151300Z
UID:10002867-1739274900-1739276700@gardencreek.nbed.ca
SUMMARY:Chess Club (Mme. McLeod's Room)
DESCRIPTION:
URL:https://gardencreek.nbed.ca/calendar/chess-club-mme-mcleods-room-10/
END:VEVENT
BEGIN:VEVENT
DTSTART;TZID=America/Moncton:20250211T115500
DTEND;TZID=America/Moncton:20250211T122500
DTSTAMP:20260425T083942
CREATED:20250128T150706Z
LAST-MODIFIED:20250128T180854Z
UID:10002860-1739274900-1739276700@gardencreek.nbed.ca
SUMMARY:Drama (Moana Play Rehearsal)
DESCRIPTION:
URL:https://gardencreek.nbed.ca/calendar/drama-moana-play-2/
END:VEVENT
BEGIN:VEVENT
DTSTART;TZID=America/Moncton:20250211T080000
DTEND;TZID=America/Moncton:20250211T170000
DTSTAMP:20260425T083942
CREATED:20240529T132922Z
LAST-MODIFIED:20240529T132925Z
UID:10001208-1739260800-1739293200@gardencreek.nbed.ca
SUMMARY:Library Books to be returned
DESCRIPTION:
URL:https://gardencreek.nbed.ca/calendar/library-books-to-be-returned/2025-02-11/
END:VEVENT
BEGIN:VEVENT
DTSTART;TZID=America/Moncton:20250210T122500
DTEND;TZID=America/Moncton:20250210T124500
DTSTAMP:20260425T083942
CREATED:20250128T150228Z
LAST-MODIFIED:20250128T150230Z
UID:10002852-1739190300-1739191500@gardencreek.nbed.ca
SUMMARY:Subway Hot Lunch (R4)
DESCRIPTION:
URL:https://gardencreek.nbed.ca/calendar/subway-hot-lunch-r4-2/
END:VEVENT
BEGIN:VEVENT
DTSTART;TZID=America/Moncton:20250210T080000
DTEND;TZID=America/Moncton:20250214T170000
DTSTAMP:20260425T083942
CREATED:20250128T150259Z
LAST-MODIFIED:20250128T150300Z
UID:10002853-1739174400-1739552400@gardencreek.nbed.ca
SUMMARY:Staff Appreciation Week
DESCRIPTION:
URL:https://gardencreek.nbed.ca/calendar/staff-appreciation-week-2/
END:VEVENT
BEGIN:VEVENT
DTSTART;TZID=America/Moncton:20250210T080000
DTEND;TZID=America/Moncton:20250210T170000
DTSTAMP:20260425T083942
CREATED:20240529T132922Z
LAST-MODIFIED:20240529T132925Z
UID:10001207-1739174400-1739206800@gardencreek.nbed.ca
SUMMARY:Library Books to be returned
DESCRIPTION:
URL:https://gardencreek.nbed.ca/calendar/library-books-to-be-returned/2025-02-10/
END:VEVENT
BEGIN:VEVENT
DTSTART;TZID=America/Moncton:20250209T080000
DTEND;TZID=America/Moncton:20250209T170000
DTSTAMP:20260425T083942
CREATED:20240529T132922Z
LAST-MODIFIED:20240529T132925Z
UID:10001206-1739088000-1739120400@gardencreek.nbed.ca
SUMMARY:Library Books to be returned
DESCRIPTION:
URL:https://gardencreek.nbed.ca/calendar/library-books-to-be-returned/2025-02-09/
END:VEVENT
BEGIN:VEVENT
DTSTART;TZID=America/Moncton:20250208T080000
DTEND;TZID=America/Moncton:20250208T170000
DTSTAMP:20260425T083942
CREATED:20240529T132922Z
LAST-MODIFIED:20240529T132925Z
UID:10001205-1739001600-1739034000@gardencreek.nbed.ca
SUMMARY:Library Books to be returned
DESCRIPTION:
URL:https://gardencreek.nbed.ca/calendar/library-books-to-be-returned/2025-02-08/
END:VEVENT
BEGIN:VEVENT
DTSTART;TZID=America/Moncton:20250207T122500
DTEND;TZID=America/Moncton:20250207T124500
DTSTAMP:20260425T083942
CREATED:20250128T154216Z
LAST-MODIFIED:20250128T154218Z
UID:10002872-1738931100-1738932300@gardencreek.nbed.ca
SUMMARY:Porters Hot lunch (R4)
DESCRIPTION:
URL:https://gardencreek.nbed.ca/calendar/porters-hot-lunch-r4/
END:VEVENT
END:VCALENDAR