BEGIN:VCALENDAR
VERSION:2.0
PRODID:-//Garden Creek School - ECPv6.15.20//NONSGML v1.0//EN
CALSCALE:GREGORIAN
METHOD:PUBLISH
X-WR-CALNAME:Garden Creek School
X-ORIGINAL-URL:https://gardencreek.nbed.ca
X-WR-CALDESC:Events for Garden Creek School
REFRESH-INTERVAL;VALUE=DURATION:PT1H
X-Robots-Tag:noindex
X-PUBLISHED-TTL:PT1H
BEGIN:VTIMEZONE
TZID:America/Moncton
BEGIN:DAYLIGHT
TZOFFSETFROM:-0400
TZOFFSETTO:-0300
TZNAME:ADT
DTSTART:20240310T060000
END:DAYLIGHT
BEGIN:STANDARD
TZOFFSETFROM:-0300
TZOFFSETTO:-0400
TZNAME:AST
DTSTART:20241103T050000
END:STANDARD
BEGIN:DAYLIGHT
TZOFFSETFROM:-0400
TZOFFSETTO:-0300
TZNAME:ADT
DTSTART:20250309T060000
END:DAYLIGHT
BEGIN:STANDARD
TZOFFSETFROM:-0300
TZOFFSETTO:-0400
TZNAME:AST
DTSTART:20251102T050000
END:STANDARD
BEGIN:DAYLIGHT
TZOFFSETFROM:-0400
TZOFFSETTO:-0300
TZNAME:ADT
DTSTART:20260308T060000
END:DAYLIGHT
BEGIN:STANDARD
TZOFFSETFROM:-0300
TZOFFSETTO:-0400
TZNAME:AST
DTSTART:20261101T050000
END:STANDARD
END:VTIMEZONE
BEGIN:VEVENT
DTSTART;TZID=America/Moncton:20250228T080000
DTEND;TZID=America/Moncton:20250228T170000
DTSTAMP:20260425T083942
CREATED:20250128T163723Z
LAST-MODIFIED:20250128T163724Z
UID:10002882-1740729600-1740762000@gardencreek.nbed.ca
SUMMARY:Start of Ramadan (evening)
DESCRIPTION:
URL:https://gardencreek.nbed.ca/calendar/start-of-ramadan-evening/
END:VEVENT
BEGIN:VEVENT
DTSTART;TZID=America/Moncton:20250228T080000
DTEND;TZID=America/Moncton:20250228T170000
DTSTAMP:20260425T083942
CREATED:20240529T132922Z
LAST-MODIFIED:20240529T132925Z
UID:10001225-1740729600-1740762000@gardencreek.nbed.ca
SUMMARY:Library Books to be returned
DESCRIPTION:
URL:https://gardencreek.nbed.ca/calendar/library-books-to-be-returned/2025-02-28/
END:VEVENT
BEGIN:VEVENT
DTSTART;TZID=America/Moncton:20250227T080000
DTEND;TZID=America/Moncton:20250227T170000
DTSTAMP:20260425T083942
CREATED:20240529T132922Z
LAST-MODIFIED:20240529T132925Z
UID:10001224-1740643200-1740675600@gardencreek.nbed.ca
SUMMARY:Library Books to be returned
DESCRIPTION:
URL:https://gardencreek.nbed.ca/calendar/library-books-to-be-returned/2025-02-27/
END:VEVENT
BEGIN:VEVENT
DTSTART;TZID=America/Moncton:20250226T080000
DTEND;TZID=America/Moncton:20250226T170000
DTSTAMP:20260425T083942
CREATED:20250128T153216Z
LAST-MODIFIED:20250128T153217Z
UID:10002871-1740556800-1740589200@gardencreek.nbed.ca
SUMMARY:Pink Shirt Day
DESCRIPTION:
URL:https://gardencreek.nbed.ca/calendar/pink-shirt-day-3/
END:VEVENT
BEGIN:VEVENT
DTSTART;TZID=America/Moncton:20250226T080000
DTEND;TZID=America/Moncton:20250226T170000
DTSTAMP:20260425T083942
CREATED:20240529T132922Z
LAST-MODIFIED:20240529T132925Z
UID:10001223-1740556800-1740589200@gardencreek.nbed.ca
SUMMARY:Library Books to be returned
DESCRIPTION:
URL:https://gardencreek.nbed.ca/calendar/library-books-to-be-returned/2025-02-26/
END:VEVENT
BEGIN:VEVENT
DTSTART;TZID=America/Moncton:20250225T183000
DTEND;TZID=America/Moncton:20250225T193000
DTSTAMP:20260425T083942
CREATED:20250128T151126Z
LAST-MODIFIED:20250128T151127Z
UID:10002865-1740508200-1740511800@gardencreek.nbed.ca
SUMMARY:PSSC Meeting (Library)
DESCRIPTION:
URL:https://gardencreek.nbed.ca/calendar/pssc-meeting-library-10/
END:VEVENT
BEGIN:VEVENT
DTSTART;TZID=America/Moncton:20250225T115500
DTEND;TZID=America/Moncton:20250225T122500
DTSTAMP:20260425T083942
CREATED:20250128T150807Z
LAST-MODIFIED:20250128T150808Z
UID:10002862-1740484500-1740486300@gardencreek.nbed.ca
SUMMARY:Drama (Moana Play Rehearsal)
DESCRIPTION:
URL:https://gardencreek.nbed.ca/calendar/drama-moana-play-rehearsal/
END:VEVENT
BEGIN:VEVENT
DTSTART;TZID=America/Moncton:20250225T115500
DTEND;TZID=America/Moncton:20250225T120000
DTSTAMP:20260425T083942
CREATED:20250128T151408Z
LAST-MODIFIED:20250128T151410Z
UID:10002869-1740484500-1740484800@gardencreek.nbed.ca
SUMMARY:Chess Club (Mme. McLeod's Room)
DESCRIPTION:
URL:https://gardencreek.nbed.ca/calendar/chess-club-mme-mcleods-room-12/
END:VEVENT
BEGIN:VEVENT
DTSTART;TZID=America/Moncton:20250225T080000
DTEND;TZID=America/Moncton:20250225T170000
DTSTAMP:20260425T083942
CREATED:20240529T132922Z
LAST-MODIFIED:20240529T132925Z
UID:10001222-1740470400-1740502800@gardencreek.nbed.ca
SUMMARY:Library Books to be returned
DESCRIPTION:
URL:https://gardencreek.nbed.ca/calendar/library-books-to-be-returned/2025-02-25/
END:VEVENT
BEGIN:VEVENT
DTSTART;TZID=America/Moncton:20250224T122500
DTEND;TZID=America/Moncton:20250224T124500
DTSTAMP:20260425T083942
CREATED:20250128T150423Z
LAST-MODIFIED:20250128T150424Z
UID:10002855-1740399900-1740401100@gardencreek.nbed.ca
SUMMARY:Subway Make-up Hot Lunch
DESCRIPTION:For January 20 Snow Day
URL:https://gardencreek.nbed.ca/calendar/subway-make-up-hot-lunch/
END:VEVENT
BEGIN:VEVENT
DTSTART;TZID=America/Moncton:20250224T080000
DTEND;TZID=America/Moncton:20250311T140000
DTSTAMP:20260425T083942
CREATED:20250207T170913Z
LAST-MODIFIED:20250207T170914Z
UID:10002896-1740384000-1741701600@gardencreek.nbed.ca
SUMMARY:Round 5 Hot Lunch goes live on Schoolcash
DESCRIPTION:
URL:https://gardencreek.nbed.ca/calendar/round-5-hot-lunch-goes-live-on-schoolcash/2025-02-24/
CATEGORIES:Food
END:VEVENT
BEGIN:VEVENT
DTSTART;TZID=America/Moncton:20250224T080000
DTEND;TZID=America/Moncton:20250224T170000
DTSTAMP:20260425T083942
CREATED:20240529T132922Z
LAST-MODIFIED:20240529T132925Z
UID:10001221-1740384000-1740416400@gardencreek.nbed.ca
SUMMARY:Library Books to be returned
DESCRIPTION:
URL:https://gardencreek.nbed.ca/calendar/library-books-to-be-returned/2025-02-24/
END:VEVENT
BEGIN:VEVENT
DTSTART;TZID=America/Moncton:20250223T080000
DTEND;TZID=America/Moncton:20250223T170000
DTSTAMP:20260425T083942
CREATED:20240529T132922Z
LAST-MODIFIED:20240529T132925Z
UID:10001220-1740297600-1740330000@gardencreek.nbed.ca
SUMMARY:Library Books to be returned
DESCRIPTION:
URL:https://gardencreek.nbed.ca/calendar/library-books-to-be-returned/2025-02-23/
END:VEVENT
BEGIN:VEVENT
DTSTART;TZID=America/Moncton:20250222T080000
DTEND;TZID=America/Moncton:20250222T170000
DTSTAMP:20260425T083942
CREATED:20240529T132922Z
LAST-MODIFIED:20240529T132925Z
UID:10001219-1740211200-1740243600@gardencreek.nbed.ca
SUMMARY:Library Books to be returned
DESCRIPTION:
URL:https://gardencreek.nbed.ca/calendar/library-books-to-be-returned/2025-02-22/
END:VEVENT
BEGIN:VEVENT
DTSTART;TZID=America/Moncton:20250221T183000
DTEND;TZID=America/Moncton:20250221T183000
DTSTAMP:20260425T083942
CREATED:20250128T155105Z
LAST-MODIFIED:20250128T155106Z
UID:10002875-1740162600-1740162600@gardencreek.nbed.ca
SUMMARY:Family Movie Night (Gym)
DESCRIPTION:More info on the movie will be communicated as the date nears.  Doors open at 6:15 pm
URL:https://gardencreek.nbed.ca/calendar/family-movie-night-gym/
END:VEVENT
BEGIN:VEVENT
DTSTART;TZID=America/Moncton:20250221T122500
DTEND;TZID=America/Moncton:20250221T124500
DTSTAMP:20260425T083942
CREATED:20250128T154312Z
LAST-MODIFIED:20250128T154313Z
UID:10002874-1740140700-1740141900@gardencreek.nbed.ca
SUMMARY:Porters Hot Lunch (R4)
DESCRIPTION:
URL:https://gardencreek.nbed.ca/calendar/porters-hot-lunch-r4-2/
END:VEVENT
BEGIN:VEVENT
DTSTART;TZID=America/Moncton:20250221T080000
DTEND;TZID=America/Moncton:20250221T170000
DTSTAMP:20260425T083942
CREATED:20240529T132922Z
LAST-MODIFIED:20240529T132925Z
UID:10001218-1740124800-1740157200@gardencreek.nbed.ca
SUMMARY:Library Books to be returned
DESCRIPTION:
URL:https://gardencreek.nbed.ca/calendar/library-books-to-be-returned/2025-02-21/
END:VEVENT
BEGIN:VEVENT
DTSTART;TZID=America/Moncton:20250220T122500
DTEND;TZID=America/Moncton:20250220T124500
DTSTAMP:20260425T083942
CREATED:20250128T155332Z
LAST-MODIFIED:20250128T155333Z
UID:10002879-1740054300-1740055500@gardencreek.nbed.ca
SUMMARY:Mary Browns Hot Lunch (R4)
DESCRIPTION:
URL:https://gardencreek.nbed.ca/calendar/mary-browns-hot-lunch-r4-4/
END:VEVENT
BEGIN:VEVENT
DTSTART;TZID=America/Moncton:20250220T122500
DTEND;TZID=America/Moncton:20250220T124500
DTSTAMP:20260425T083942
CREATED:20250128T155251Z
LAST-MODIFIED:20250128T155252Z
UID:10002878-1740054300-1740055500@gardencreek.nbed.ca
SUMMARY:Mary Browns Hot Lunch (R4)
DESCRIPTION:
URL:https://gardencreek.nbed.ca/calendar/mary-browns-hot-lunch-r4-3/
END:VEVENT
BEGIN:VEVENT
DTSTART;TZID=America/Moncton:20250220T080000
DTEND;TZID=America/Moncton:20250220T170000
DTSTAMP:20260425T083942
CREATED:20240529T132922Z
LAST-MODIFIED:20240529T132925Z
UID:10001217-1740038400-1740070800@gardencreek.nbed.ca
SUMMARY:Library Books to be returned
DESCRIPTION:
URL:https://gardencreek.nbed.ca/calendar/library-books-to-be-returned/2025-02-20/
END:VEVENT
BEGIN:VEVENT
DTSTART;TZID=America/Moncton:20250219T080000
DTEND;TZID=America/Moncton:20250219T170000
DTSTAMP:20260425T083942
CREATED:20240529T132922Z
LAST-MODIFIED:20240529T132925Z
UID:10001216-1739952000-1739984400@gardencreek.nbed.ca
SUMMARY:Library Books to be returned
DESCRIPTION:
URL:https://gardencreek.nbed.ca/calendar/library-books-to-be-returned/2025-02-19/
END:VEVENT
BEGIN:VEVENT
DTSTART;TZID=America/Moncton:20250218T183000
DTEND;TZID=America/Moncton:20250218T193000
DTSTAMP:20260425T083942
CREATED:20250128T150914Z
LAST-MODIFIED:20250128T150915Z
UID:10002864-1739903400-1739907000@gardencreek.nbed.ca
SUMMARY:Home & School Meeting (Library)
DESCRIPTION:
URL:https://gardencreek.nbed.ca/calendar/home-school-meeting-library-7/
END:VEVENT
BEGIN:VEVENT
DTSTART;TZID=America/Moncton:20250218T122500
DTEND;TZID=America/Moncton:20250218T124500
DTSTAMP:20260425T083942
CREATED:20250128T150601Z
LAST-MODIFIED:20250128T150605Z
UID:10002858-1739881500-1739882700@gardencreek.nbed.ca
SUMMARY:Pizza Pizza Hot Lunch
DESCRIPTION:
URL:https://gardencreek.nbed.ca/calendar/pizza-pizza-hot-lunch/
END:VEVENT
BEGIN:VEVENT
DTSTART;TZID=America/Moncton:20250218T115500
DTEND;TZID=America/Moncton:20250218T122500
DTSTAMP:20260425T083942
CREATED:20250128T151325Z
LAST-MODIFIED:20250128T151327Z
UID:10002868-1739879700-1739881500@gardencreek.nbed.ca
SUMMARY:Chess Club (Mme. McLeod's Room)
DESCRIPTION:
URL:https://gardencreek.nbed.ca/calendar/chess-club-mme-mcleods-room-11/
END:VEVENT
BEGIN:VEVENT
DTSTART;TZID=America/Moncton:20250218T115500
DTEND;TZID=America/Moncton:20250218T120000
DTSTAMP:20260425T083942
CREATED:20250128T150733Z
LAST-MODIFIED:20250128T180814Z
UID:10002861-1739879700-1739880000@gardencreek.nbed.ca
SUMMARY:Drama (Moana Play Rehearsal)
DESCRIPTION:
URL:https://gardencreek.nbed.ca/calendar/drama-moana-play-3/
END:VEVENT
BEGIN:VEVENT
DTSTART;TZID=America/Moncton:20250218T090000
DTEND;TZID=America/Moncton:20250218T133000
DTSTAMP:20260425T083942
CREATED:20250128T153148Z
LAST-MODIFIED:20250128T153149Z
UID:10002870-1739869200-1739885400@gardencreek.nbed.ca
SUMMARY:Black History Month Presentations
DESCRIPTION:9:00 – 9:45 – Gr. 2 \n\n\n\n10:10 – 10:55 – Gr. 5 \n\n\n\n10:55 – 11:40 – Gr. 4 \n\n\n\n12:45 – 1:30 – Gr. 3
URL:https://gardencreek.nbed.ca/calendar/black-history-month-presentations/
END:VEVENT
BEGIN:VEVENT
DTSTART;TZID=America/Moncton:20250218T080000
DTEND;TZID=America/Moncton:20250218T170000
DTSTAMP:20260425T083942
CREATED:20240529T132922Z
LAST-MODIFIED:20240529T132925Z
UID:10001215-1739865600-1739898000@gardencreek.nbed.ca
SUMMARY:Library Books to be returned
DESCRIPTION:
URL:https://gardencreek.nbed.ca/calendar/library-books-to-be-returned/2025-02-18/
END:VEVENT
BEGIN:VEVENT
DTSTART;TZID=America/Moncton:20250217T080000
DTEND;TZID=America/Moncton:20250217T170000
DTSTAMP:20260425T083942
CREATED:20250128T150338Z
LAST-MODIFIED:20250128T150339Z
UID:10002854-1739779200-1739811600@gardencreek.nbed.ca
SUMMARY:Family Day (Holiday) No School
DESCRIPTION:
URL:https://gardencreek.nbed.ca/calendar/family-day-holiday-no-school/
END:VEVENT
BEGIN:VEVENT
DTSTART;TZID=America/Moncton:20250217T080000
DTEND;TZID=America/Moncton:20250217T170000
DTSTAMP:20260425T083942
CREATED:20240529T132922Z
LAST-MODIFIED:20240529T132925Z
UID:10001214-1739779200-1739811600@gardencreek.nbed.ca
SUMMARY:Library Books to be returned
DESCRIPTION:
URL:https://gardencreek.nbed.ca/calendar/library-books-to-be-returned/2025-02-17/
END:VEVENT
BEGIN:VEVENT
DTSTART;TZID=America/Moncton:20250216T080000
DTEND;TZID=America/Moncton:20250216T170000
DTSTAMP:20260425T083942
CREATED:20240529T132922Z
LAST-MODIFIED:20240529T132925Z
UID:10001213-1739692800-1739725200@gardencreek.nbed.ca
SUMMARY:Library Books to be returned
DESCRIPTION:
URL:https://gardencreek.nbed.ca/calendar/library-books-to-be-returned/2025-02-16/
END:VEVENT
END:VCALENDAR