BEGIN:VCALENDAR
VERSION:2.0
PRODID:-//Garden Creek School - ECPv6.15.20//NONSGML v1.0//EN
CALSCALE:GREGORIAN
METHOD:PUBLISH
X-WR-CALNAME:Garden Creek School
X-ORIGINAL-URL:https://gardencreek.nbed.ca
X-WR-CALDESC:Events for Garden Creek School
REFRESH-INTERVAL;VALUE=DURATION:PT1H
X-Robots-Tag:noindex
X-PUBLISHED-TTL:PT1H
BEGIN:VTIMEZONE
TZID:America/Moncton
BEGIN:DAYLIGHT
TZOFFSETFROM:-0400
TZOFFSETTO:-0300
TZNAME:ADT
DTSTART:20240310T060000
END:DAYLIGHT
BEGIN:STANDARD
TZOFFSETFROM:-0300
TZOFFSETTO:-0400
TZNAME:AST
DTSTART:20241103T050000
END:STANDARD
BEGIN:DAYLIGHT
TZOFFSETFROM:-0400
TZOFFSETTO:-0300
TZNAME:ADT
DTSTART:20250309T060000
END:DAYLIGHT
BEGIN:STANDARD
TZOFFSETFROM:-0300
TZOFFSETTO:-0400
TZNAME:AST
DTSTART:20251102T050000
END:STANDARD
BEGIN:DAYLIGHT
TZOFFSETFROM:-0400
TZOFFSETTO:-0300
TZNAME:ADT
DTSTART:20260308T060000
END:DAYLIGHT
BEGIN:STANDARD
TZOFFSETFROM:-0300
TZOFFSETTO:-0400
TZNAME:AST
DTSTART:20261101T050000
END:STANDARD
END:VTIMEZONE
BEGIN:VEVENT
DTSTART;TZID=America/Moncton:20250623T080000
DTEND;TZID=America/Moncton:20250623T170000
DTSTAMP:20260425T083942
CREATED:20240529T132922Z
LAST-MODIFIED:20240529T132925Z
UID:10001340-1750665600-1750698000@gardencreek.nbed.ca
SUMMARY:Library Books to be returned
DESCRIPTION:
URL:https://gardencreek.nbed.ca/calendar/library-books-to-be-returned/2025-06-23/
END:VEVENT
BEGIN:VEVENT
DTSTART;TZID=America/Moncton:20250622T080000
DTEND;TZID=America/Moncton:20250622T170000
DTSTAMP:20260425T083942
CREATED:20240529T132922Z
LAST-MODIFIED:20240529T132925Z
UID:10001339-1750579200-1750611600@gardencreek.nbed.ca
SUMMARY:Library Books to be returned
DESCRIPTION:
URL:https://gardencreek.nbed.ca/calendar/library-books-to-be-returned/2025-06-22/
END:VEVENT
BEGIN:VEVENT
DTSTART;TZID=America/Moncton:20250621T080000
DTEND;TZID=America/Moncton:20250621T170000
DTSTAMP:20260425T083942
CREATED:20240529T132922Z
LAST-MODIFIED:20240529T132925Z
UID:10001338-1750492800-1750525200@gardencreek.nbed.ca
SUMMARY:Library Books to be returned
DESCRIPTION:
URL:https://gardencreek.nbed.ca/calendar/library-books-to-be-returned/2025-06-21/
END:VEVENT
BEGIN:VEVENT
DTSTART;TZID=America/Moncton:20250620T080000
DTEND;TZID=America/Moncton:20250620T170000
DTSTAMP:20260425T083942
CREATED:20240529T132922Z
LAST-MODIFIED:20240529T132925Z
UID:10001337-1750406400-1750438800@gardencreek.nbed.ca
SUMMARY:Library Books to be returned
DESCRIPTION:
URL:https://gardencreek.nbed.ca/calendar/library-books-to-be-returned/2025-06-20/
END:VEVENT
BEGIN:VEVENT
DTSTART;TZID=America/Moncton:20250619T080000
DTEND;TZID=America/Moncton:20250619T170000
DTSTAMP:20260425T083942
CREATED:20240529T132922Z
LAST-MODIFIED:20240529T132925Z
UID:10001336-1750320000-1750352400@gardencreek.nbed.ca
SUMMARY:Library Books to be returned
DESCRIPTION:
URL:https://gardencreek.nbed.ca/calendar/library-books-to-be-returned/2025-06-19/
END:VEVENT
BEGIN:VEVENT
DTSTART;TZID=America/Moncton:20250618T080000
DTEND;TZID=America/Moncton:20250618T170000
DTSTAMP:20260425T083942
CREATED:20240529T132922Z
LAST-MODIFIED:20240529T132925Z
UID:10001335-1750233600-1750266000@gardencreek.nbed.ca
SUMMARY:Library Books to be returned
DESCRIPTION:
URL:https://gardencreek.nbed.ca/calendar/library-books-to-be-returned/2025-06-18/
END:VEVENT
BEGIN:VEVENT
DTSTART;TZID=America/Moncton:20250617T080000
DTEND;TZID=America/Moncton:20250617T170000
DTSTAMP:20260425T083942
CREATED:20240529T132922Z
LAST-MODIFIED:20240529T132925Z
UID:10001334-1750147200-1750179600@gardencreek.nbed.ca
SUMMARY:Library Books to be returned
DESCRIPTION:
URL:https://gardencreek.nbed.ca/calendar/library-books-to-be-returned/2025-06-17/
END:VEVENT
BEGIN:VEVENT
DTSTART;TZID=America/Moncton:20250616T080000
DTEND;TZID=America/Moncton:20250616T170000
DTSTAMP:20260425T083942
CREATED:20240529T132922Z
LAST-MODIFIED:20240529T132925Z
UID:10001333-1750060800-1750093200@gardencreek.nbed.ca
SUMMARY:Library Books to be returned
DESCRIPTION:
URL:https://gardencreek.nbed.ca/calendar/library-books-to-be-returned/2025-06-16/
END:VEVENT
BEGIN:VEVENT
DTSTART;TZID=America/Moncton:20250615T080000
DTEND;TZID=America/Moncton:20250615T170000
DTSTAMP:20260425T083942
CREATED:20240529T132922Z
LAST-MODIFIED:20240529T132925Z
UID:10001332-1749974400-1750006800@gardencreek.nbed.ca
SUMMARY:Library Books to be returned
DESCRIPTION:
URL:https://gardencreek.nbed.ca/calendar/library-books-to-be-returned/2025-06-15/
END:VEVENT
BEGIN:VEVENT
DTSTART;TZID=America/Moncton:20250614T080000
DTEND;TZID=America/Moncton:20250614T170000
DTSTAMP:20260425T083942
CREATED:20240529T132922Z
LAST-MODIFIED:20240529T132925Z
UID:10001331-1749888000-1749920400@gardencreek.nbed.ca
SUMMARY:Library Books to be returned
DESCRIPTION:
URL:https://gardencreek.nbed.ca/calendar/library-books-to-be-returned/2025-06-14/
END:VEVENT
BEGIN:VEVENT
DTSTART;TZID=America/Moncton:20250613T080000
DTEND;TZID=America/Moncton:20250613T170000
DTSTAMP:20260425T083942
CREATED:20240529T132922Z
LAST-MODIFIED:20240529T132925Z
UID:10001330-1749801600-1749834000@gardencreek.nbed.ca
SUMMARY:Library Books to be returned
DESCRIPTION:
URL:https://gardencreek.nbed.ca/calendar/library-books-to-be-returned/2025-06-13/
END:VEVENT
BEGIN:VEVENT
DTSTART;TZID=America/Moncton:20250612T080000
DTEND;TZID=America/Moncton:20250612T170000
DTSTAMP:20260425T083942
CREATED:20240529T132922Z
LAST-MODIFIED:20240529T132925Z
UID:10001329-1749715200-1749747600@gardencreek.nbed.ca
SUMMARY:Library Books to be returned
DESCRIPTION:
URL:https://gardencreek.nbed.ca/calendar/library-books-to-be-returned/2025-06-12/
END:VEVENT
BEGIN:VEVENT
DTSTART;TZID=America/Moncton:20250611T080000
DTEND;TZID=America/Moncton:20250611T170000
DTSTAMP:20260425T083942
CREATED:20240529T132922Z
LAST-MODIFIED:20240529T132925Z
UID:10001328-1749628800-1749661200@gardencreek.nbed.ca
SUMMARY:Library Books to be returned
DESCRIPTION:
URL:https://gardencreek.nbed.ca/calendar/library-books-to-be-returned/2025-06-11/
END:VEVENT
BEGIN:VEVENT
DTSTART;TZID=America/Moncton:20250610T080000
DTEND;TZID=America/Moncton:20250610T170000
DTSTAMP:20260425T083942
CREATED:20240529T132922Z
LAST-MODIFIED:20240529T132925Z
UID:10001327-1749542400-1749574800@gardencreek.nbed.ca
SUMMARY:Library Books to be returned
DESCRIPTION:
URL:https://gardencreek.nbed.ca/calendar/library-books-to-be-returned/2025-06-10/
END:VEVENT
BEGIN:VEVENT
DTSTART;TZID=America/Moncton:20250609T080000
DTEND;TZID=America/Moncton:20250609T170000
DTSTAMP:20260425T083942
CREATED:20240529T132922Z
LAST-MODIFIED:20240529T132925Z
UID:10001326-1749456000-1749488400@gardencreek.nbed.ca
SUMMARY:Library Books to be returned
DESCRIPTION:
URL:https://gardencreek.nbed.ca/calendar/library-books-to-be-returned/2025-06-09/
END:VEVENT
BEGIN:VEVENT
DTSTART;TZID=America/Moncton:20250608T080000
DTEND;TZID=America/Moncton:20250608T170000
DTSTAMP:20260425T083942
CREATED:20240529T132922Z
LAST-MODIFIED:20240529T132925Z
UID:10001325-1749369600-1749402000@gardencreek.nbed.ca
SUMMARY:Library Books to be returned
DESCRIPTION:
URL:https://gardencreek.nbed.ca/calendar/library-books-to-be-returned/2025-06-08/
END:VEVENT
BEGIN:VEVENT
DTSTART;TZID=America/Moncton:20250607T080000
DTEND;TZID=America/Moncton:20250607T170000
DTSTAMP:20260425T083942
CREATED:20240529T132922Z
LAST-MODIFIED:20240529T132925Z
UID:10001324-1749283200-1749315600@gardencreek.nbed.ca
SUMMARY:Library Books to be returned
DESCRIPTION:
URL:https://gardencreek.nbed.ca/calendar/library-books-to-be-returned/2025-06-07/
END:VEVENT
BEGIN:VEVENT
DTSTART;TZID=America/Moncton:20250606T080000
DTEND;TZID=America/Moncton:20250606T170000
DTSTAMP:20260425T083942
CREATED:20240529T132922Z
LAST-MODIFIED:20240529T132925Z
UID:10001323-1749196800-1749229200@gardencreek.nbed.ca
SUMMARY:Library Books to be returned
DESCRIPTION:
URL:https://gardencreek.nbed.ca/calendar/library-books-to-be-returned/2025-06-06/
END:VEVENT
BEGIN:VEVENT
DTSTART;TZID=America/Moncton:20250605T080000
DTEND;TZID=America/Moncton:20250605T170000
DTSTAMP:20260425T083942
CREATED:20240529T132922Z
LAST-MODIFIED:20240529T132925Z
UID:10001322-1749110400-1749142800@gardencreek.nbed.ca
SUMMARY:Library Books to be returned
DESCRIPTION:
URL:https://gardencreek.nbed.ca/calendar/library-books-to-be-returned/2025-06-05/
END:VEVENT
BEGIN:VEVENT
DTSTART;TZID=America/Moncton:20250604T080000
DTEND;TZID=America/Moncton:20250604T170000
DTSTAMP:20260425T083942
CREATED:20240529T132922Z
LAST-MODIFIED:20240529T132925Z
UID:10001321-1749024000-1749056400@gardencreek.nbed.ca
SUMMARY:Library Books to be returned
DESCRIPTION:
URL:https://gardencreek.nbed.ca/calendar/library-books-to-be-returned/2025-06-04/
END:VEVENT
BEGIN:VEVENT
DTSTART;TZID=America/Moncton:20250603T080000
DTEND;TZID=America/Moncton:20250603T170000
DTSTAMP:20260425T083942
CREATED:20240529T132922Z
LAST-MODIFIED:20240529T132925Z
UID:10001320-1748937600-1748970000@gardencreek.nbed.ca
SUMMARY:Library Books to be returned
DESCRIPTION:
URL:https://gardencreek.nbed.ca/calendar/library-books-to-be-returned/2025-06-03/
END:VEVENT
BEGIN:VEVENT
DTSTART;TZID=America/Moncton:20250602T080000
DTEND;TZID=America/Moncton:20250602T170000
DTSTAMP:20260425T083942
CREATED:20240529T132922Z
LAST-MODIFIED:20240529T132925Z
UID:10001319-1748851200-1748883600@gardencreek.nbed.ca
SUMMARY:Library Books to be returned
DESCRIPTION:
URL:https://gardencreek.nbed.ca/calendar/library-books-to-be-returned/2025-06-02/
END:VEVENT
BEGIN:VEVENT
DTSTART;TZID=America/Moncton:20250601T080000
DTEND;TZID=America/Moncton:20250601T170000
DTSTAMP:20260425T083942
CREATED:20240529T132922Z
LAST-MODIFIED:20240529T132925Z
UID:10001318-1748764800-1748797200@gardencreek.nbed.ca
SUMMARY:Library Books to be returned
DESCRIPTION:
URL:https://gardencreek.nbed.ca/calendar/library-books-to-be-returned/2025-06-01/
END:VEVENT
BEGIN:VEVENT
DTSTART;TZID=America/Moncton:20250531T080000
DTEND;TZID=America/Moncton:20250531T170000
DTSTAMP:20260425T083942
CREATED:20240529T132922Z
LAST-MODIFIED:20240529T132925Z
UID:10001317-1748678400-1748710800@gardencreek.nbed.ca
SUMMARY:Library Books to be returned
DESCRIPTION:
URL:https://gardencreek.nbed.ca/calendar/library-books-to-be-returned/2025-05-31/
END:VEVENT
BEGIN:VEVENT
DTSTART;TZID=America/Moncton:20250530T080000
DTEND;TZID=America/Moncton:20250530T170000
DTSTAMP:20260425T083942
CREATED:20240529T132922Z
LAST-MODIFIED:20240529T132925Z
UID:10001316-1748592000-1748624400@gardencreek.nbed.ca
SUMMARY:Library Books to be returned
DESCRIPTION:
URL:https://gardencreek.nbed.ca/calendar/library-books-to-be-returned/2025-05-30/
END:VEVENT
BEGIN:VEVENT
DTSTART;TZID=America/Moncton:20250529T080000
DTEND;TZID=America/Moncton:20250529T170000
DTSTAMP:20260425T083942
CREATED:20240529T132922Z
LAST-MODIFIED:20240529T132925Z
UID:10001315-1748505600-1748538000@gardencreek.nbed.ca
SUMMARY:Library Books to be returned
DESCRIPTION:
URL:https://gardencreek.nbed.ca/calendar/library-books-to-be-returned/2025-05-29/
END:VEVENT
BEGIN:VEVENT
DTSTART;TZID=America/Moncton:20250528T080000
DTEND;TZID=America/Moncton:20250528T170000
DTSTAMP:20260425T083942
CREATED:20240529T132922Z
LAST-MODIFIED:20240529T132925Z
UID:10001314-1748419200-1748451600@gardencreek.nbed.ca
SUMMARY:Library Books to be returned
DESCRIPTION:
URL:https://gardencreek.nbed.ca/calendar/library-books-to-be-returned/2025-05-28/
END:VEVENT
BEGIN:VEVENT
DTSTART;TZID=America/Moncton:20250527T080000
DTEND;TZID=America/Moncton:20250527T170000
DTSTAMP:20260425T083942
CREATED:20240529T132922Z
LAST-MODIFIED:20240529T132925Z
UID:10001313-1748332800-1748365200@gardencreek.nbed.ca
SUMMARY:Library Books to be returned
DESCRIPTION:
URL:https://gardencreek.nbed.ca/calendar/library-books-to-be-returned/2025-05-27/
END:VEVENT
BEGIN:VEVENT
DTSTART;TZID=America/Moncton:20250526T080000
DTEND;TZID=America/Moncton:20250526T170000
DTSTAMP:20260425T083942
CREATED:20240529T132922Z
LAST-MODIFIED:20240529T132925Z
UID:10001312-1748246400-1748278800@gardencreek.nbed.ca
SUMMARY:Library Books to be returned
DESCRIPTION:
URL:https://gardencreek.nbed.ca/calendar/library-books-to-be-returned/2025-05-26/
END:VEVENT
BEGIN:VEVENT
DTSTART;TZID=America/Moncton:20250525T080000
DTEND;TZID=America/Moncton:20250525T170000
DTSTAMP:20260425T083942
CREATED:20240529T132922Z
LAST-MODIFIED:20240529T132925Z
UID:10001311-1748160000-1748192400@gardencreek.nbed.ca
SUMMARY:Library Books to be returned
DESCRIPTION:
URL:https://gardencreek.nbed.ca/calendar/library-books-to-be-returned/2025-05-25/
END:VEVENT
END:VCALENDAR