BEGIN:VCALENDAR
VERSION:2.0
PRODID:-//Garden Creek School - ECPv6.15.20//NONSGML v1.0//EN
CALSCALE:GREGORIAN
METHOD:PUBLISH
X-WR-CALNAME:Garden Creek School
X-ORIGINAL-URL:https://gardencreek.nbed.ca
X-WR-CALDESC:Events for Garden Creek School
REFRESH-INTERVAL;VALUE=DURATION:PT1H
X-Robots-Tag:noindex
X-PUBLISHED-TTL:PT1H
BEGIN:VTIMEZONE
TZID:America/Moncton
BEGIN:DAYLIGHT
TZOFFSETFROM:-0400
TZOFFSETTO:-0300
TZNAME:ADT
DTSTART:20240310T060000
END:DAYLIGHT
BEGIN:STANDARD
TZOFFSETFROM:-0300
TZOFFSETTO:-0400
TZNAME:AST
DTSTART:20241103T050000
END:STANDARD
BEGIN:DAYLIGHT
TZOFFSETFROM:-0400
TZOFFSETTO:-0300
TZNAME:ADT
DTSTART:20250309T060000
END:DAYLIGHT
BEGIN:STANDARD
TZOFFSETFROM:-0300
TZOFFSETTO:-0400
TZNAME:AST
DTSTART:20251102T050000
END:STANDARD
BEGIN:DAYLIGHT
TZOFFSETFROM:-0400
TZOFFSETTO:-0300
TZNAME:ADT
DTSTART:20260308T060000
END:DAYLIGHT
BEGIN:STANDARD
TZOFFSETFROM:-0300
TZOFFSETTO:-0400
TZNAME:AST
DTSTART:20261101T050000
END:STANDARD
END:VTIMEZONE
BEGIN:VEVENT
DTSTART;TZID=America/Moncton:20250512T080000
DTEND;TZID=America/Moncton:20250512T170000
DTSTAMP:20260425T083106
CREATED:20240529T132922Z
LAST-MODIFIED:20240529T132925Z
UID:10001298-1747036800-1747069200@gardencreek.nbed.ca
SUMMARY:Library Books to be returned
DESCRIPTION:
URL:https://gardencreek.nbed.ca/calendar/library-books-to-be-returned/2025-05-12/
END:VEVENT
BEGIN:VEVENT
DTSTART;TZID=America/Moncton:20250511T080000
DTEND;TZID=America/Moncton:20250511T170000
DTSTAMP:20260425T083106
CREATED:20240529T132922Z
LAST-MODIFIED:20240529T132925Z
UID:10001297-1746950400-1746982800@gardencreek.nbed.ca
SUMMARY:Library Books to be returned
DESCRIPTION:
URL:https://gardencreek.nbed.ca/calendar/library-books-to-be-returned/2025-05-11/
END:VEVENT
BEGIN:VEVENT
DTSTART;TZID=America/Moncton:20250510T080000
DTEND;TZID=America/Moncton:20250510T170000
DTSTAMP:20260425T083106
CREATED:20240529T132922Z
LAST-MODIFIED:20240529T132925Z
UID:10001296-1746864000-1746896400@gardencreek.nbed.ca
SUMMARY:Library Books to be returned
DESCRIPTION:
URL:https://gardencreek.nbed.ca/calendar/library-books-to-be-returned/2025-05-10/
END:VEVENT
BEGIN:VEVENT
DTSTART;TZID=America/Moncton:20250509T080000
DTEND;TZID=America/Moncton:20250509T170000
DTSTAMP:20260425T083106
CREATED:20240529T132922Z
LAST-MODIFIED:20240529T132925Z
UID:10001295-1746777600-1746810000@gardencreek.nbed.ca
SUMMARY:Library Books to be returned
DESCRIPTION:
URL:https://gardencreek.nbed.ca/calendar/library-books-to-be-returned/2025-05-09/
END:VEVENT
BEGIN:VEVENT
DTSTART;TZID=America/Moncton:20250508T080000
DTEND;TZID=America/Moncton:20250508T170000
DTSTAMP:20260425T083106
CREATED:20240529T132922Z
LAST-MODIFIED:20240529T132925Z
UID:10001294-1746691200-1746723600@gardencreek.nbed.ca
SUMMARY:Library Books to be returned
DESCRIPTION:
URL:https://gardencreek.nbed.ca/calendar/library-books-to-be-returned/2025-05-08/
END:VEVENT
BEGIN:VEVENT
DTSTART;TZID=America/Moncton:20250507T080000
DTEND;TZID=America/Moncton:20250507T170000
DTSTAMP:20260425T083106
CREATED:20240529T132922Z
LAST-MODIFIED:20240529T132925Z
UID:10001293-1746604800-1746637200@gardencreek.nbed.ca
SUMMARY:Library Books to be returned
DESCRIPTION:
URL:https://gardencreek.nbed.ca/calendar/library-books-to-be-returned/2025-05-07/
END:VEVENT
BEGIN:VEVENT
DTSTART;TZID=America/Moncton:20250506T080000
DTEND;TZID=America/Moncton:20250506T170000
DTSTAMP:20260425T083106
CREATED:20240529T132922Z
LAST-MODIFIED:20240529T132925Z
UID:10001292-1746518400-1746550800@gardencreek.nbed.ca
SUMMARY:Library Books to be returned
DESCRIPTION:
URL:https://gardencreek.nbed.ca/calendar/library-books-to-be-returned/2025-05-06/
END:VEVENT
BEGIN:VEVENT
DTSTART;TZID=America/Moncton:20250505T080000
DTEND;TZID=America/Moncton:20250505T170000
DTSTAMP:20260425T083106
CREATED:20240529T132922Z
LAST-MODIFIED:20240529T132925Z
UID:10001291-1746432000-1746464400@gardencreek.nbed.ca
SUMMARY:Library Books to be returned
DESCRIPTION:
URL:https://gardencreek.nbed.ca/calendar/library-books-to-be-returned/2025-05-05/
END:VEVENT
BEGIN:VEVENT
DTSTART;TZID=America/Moncton:20250504T080000
DTEND;TZID=America/Moncton:20250504T170000
DTSTAMP:20260425T083106
CREATED:20240529T132922Z
LAST-MODIFIED:20240529T132925Z
UID:10001290-1746345600-1746378000@gardencreek.nbed.ca
SUMMARY:Library Books to be returned
DESCRIPTION:
URL:https://gardencreek.nbed.ca/calendar/library-books-to-be-returned/2025-05-04/
END:VEVENT
BEGIN:VEVENT
DTSTART;TZID=America/Moncton:20250503T080000
DTEND;TZID=America/Moncton:20250503T170000
DTSTAMP:20260425T083106
CREATED:20240529T132922Z
LAST-MODIFIED:20240529T132925Z
UID:10001289-1746259200-1746291600@gardencreek.nbed.ca
SUMMARY:Library Books to be returned
DESCRIPTION:
URL:https://gardencreek.nbed.ca/calendar/library-books-to-be-returned/2025-05-03/
END:VEVENT
BEGIN:VEVENT
DTSTART;TZID=America/Moncton:20250502T080000
DTEND;TZID=America/Moncton:20250502T170000
DTSTAMP:20260425T083106
CREATED:20240529T132922Z
LAST-MODIFIED:20240529T132925Z
UID:10001288-1746172800-1746205200@gardencreek.nbed.ca
SUMMARY:Library Books to be returned
DESCRIPTION:
URL:https://gardencreek.nbed.ca/calendar/library-books-to-be-returned/2025-05-02/
END:VEVENT
BEGIN:VEVENT
DTSTART;TZID=America/Moncton:20250501T080000
DTEND;TZID=America/Moncton:20250501T170000
DTSTAMP:20260425T083106
CREATED:20240529T132922Z
LAST-MODIFIED:20240529T132925Z
UID:10001287-1746086400-1746118800@gardencreek.nbed.ca
SUMMARY:Library Books to be returned
DESCRIPTION:
URL:https://gardencreek.nbed.ca/calendar/library-books-to-be-returned/2025-05-01/
END:VEVENT
BEGIN:VEVENT
DTSTART;TZID=America/Moncton:20250430T080000
DTEND;TZID=America/Moncton:20250430T170000
DTSTAMP:20260425T083106
CREATED:20240529T132922Z
LAST-MODIFIED:20240529T132925Z
UID:10001286-1746000000-1746032400@gardencreek.nbed.ca
SUMMARY:Library Books to be returned
DESCRIPTION:
URL:https://gardencreek.nbed.ca/calendar/library-books-to-be-returned/2025-04-30/
END:VEVENT
BEGIN:VEVENT
DTSTART;TZID=America/Moncton:20250429T080000
DTEND;TZID=America/Moncton:20250429T170000
DTSTAMP:20260425T083106
CREATED:20240529T132922Z
LAST-MODIFIED:20240529T132925Z
UID:10001285-1745913600-1745946000@gardencreek.nbed.ca
SUMMARY:Library Books to be returned
DESCRIPTION:
URL:https://gardencreek.nbed.ca/calendar/library-books-to-be-returned/2025-04-29/
END:VEVENT
BEGIN:VEVENT
DTSTART;TZID=America/Moncton:20250428T080000
DTEND;TZID=America/Moncton:20250428T170000
DTSTAMP:20260425T083106
CREATED:20240529T132922Z
LAST-MODIFIED:20240529T132925Z
UID:10001284-1745827200-1745859600@gardencreek.nbed.ca
SUMMARY:Library Books to be returned
DESCRIPTION:
URL:https://gardencreek.nbed.ca/calendar/library-books-to-be-returned/2025-04-28/
END:VEVENT
BEGIN:VEVENT
DTSTART;TZID=America/Moncton:20250427T080000
DTEND;TZID=America/Moncton:20250427T170000
DTSTAMP:20260425T083106
CREATED:20240529T132922Z
LAST-MODIFIED:20240529T132925Z
UID:10001283-1745740800-1745773200@gardencreek.nbed.ca
SUMMARY:Library Books to be returned
DESCRIPTION:
URL:https://gardencreek.nbed.ca/calendar/library-books-to-be-returned/2025-04-27/
END:VEVENT
BEGIN:VEVENT
DTSTART;TZID=America/Moncton:20250426T080000
DTEND;TZID=America/Moncton:20250426T170000
DTSTAMP:20260425T083106
CREATED:20240529T132922Z
LAST-MODIFIED:20240529T132925Z
UID:10001282-1745654400-1745686800@gardencreek.nbed.ca
SUMMARY:Library Books to be returned
DESCRIPTION:
URL:https://gardencreek.nbed.ca/calendar/library-books-to-be-returned/2025-04-26/
END:VEVENT
BEGIN:VEVENT
DTSTART;TZID=America/Moncton:20250425T122500
DTEND;TZID=America/Moncton:20250425T124500
DTSTAMP:20260425T083106
CREATED:20250207T175316Z
LAST-MODIFIED:20250207T175317Z
UID:10002940-1745583900-1745585100@gardencreek.nbed.ca
SUMMARY:Friday Porters Hot Lunch (R5)
DESCRIPTION:
URL:https://gardencreek.nbed.ca/calendar/friday-porters-hot-lunch-r5-3/
CATEGORIES:Food
END:VEVENT
BEGIN:VEVENT
DTSTART;TZID=America/Moncton:20250425T080000
DTEND;TZID=America/Moncton:20250425T170000
DTSTAMP:20260425T083107
CREATED:20240529T132922Z
LAST-MODIFIED:20240529T132925Z
UID:10001281-1745568000-1745600400@gardencreek.nbed.ca
SUMMARY:Library Books to be returned
DESCRIPTION:
URL:https://gardencreek.nbed.ca/calendar/library-books-to-be-returned/2025-04-25/
END:VEVENT
BEGIN:VEVENT
DTSTART;TZID=America/Moncton:20250424T122500
DTEND;TZID=America/Moncton:20250424T124500
DTSTAMP:20260425T083107
CREATED:20250207T174940Z
LAST-MODIFIED:20250207T174941Z
UID:10002937-1745497500-1745498700@gardencreek.nbed.ca
SUMMARY:Thursday Mary Browns Hot Lunch (R5)
DESCRIPTION:
URL:https://gardencreek.nbed.ca/calendar/thursday-mary-browns-hot-lunch-r5/2025-04-24/
CATEGORIES:Food
END:VEVENT
BEGIN:VEVENT
DTSTART;TZID=America/Moncton:20250424T080000
DTEND;TZID=America/Moncton:20250424T170000
DTSTAMP:20260425T083107
CREATED:20250131T155331Z
LAST-MODIFIED:20250131T155333Z
UID:10002888-1745481600-1745514000@gardencreek.nbed.ca
SUMMARY:Thursday Mary Browns Hot Lunch
DESCRIPTION:
URL:https://gardencreek.nbed.ca/calendar/thursday-mary-browns-hot-lunch/2025-04-24/
END:VEVENT
BEGIN:VEVENT
DTSTART;TZID=America/Moncton:20250424T080000
DTEND;TZID=America/Moncton:20250424T170000
DTSTAMP:20260425T083107
CREATED:20240529T132922Z
LAST-MODIFIED:20240529T132925Z
UID:10001280-1745481600-1745514000@gardencreek.nbed.ca
SUMMARY:Library Books to be returned
DESCRIPTION:
URL:https://gardencreek.nbed.ca/calendar/library-books-to-be-returned/2025-04-24/
END:VEVENT
BEGIN:VEVENT
DTSTART;TZID=America/Moncton:20250423T080000
DTEND;TZID=America/Moncton:20250423T170000
DTSTAMP:20260425T083107
CREATED:20240529T132922Z
LAST-MODIFIED:20240529T132925Z
UID:10001279-1745395200-1745427600@gardencreek.nbed.ca
SUMMARY:Library Books to be returned
DESCRIPTION:
URL:https://gardencreek.nbed.ca/calendar/library-books-to-be-returned/2025-04-23/
END:VEVENT
BEGIN:VEVENT
DTSTART;TZID=America/Moncton:20250422T122500
DTEND;TZID=America/Moncton:20250422T124500
DTSTAMP:20260425T083107
CREATED:20250207T174745Z
LAST-MODIFIED:20250207T174746Z
UID:10002931-1745324700-1745325900@gardencreek.nbed.ca
SUMMARY:Tuesday Pizza Pizza Hot Lunch (R5)
DESCRIPTION:
URL:https://gardencreek.nbed.ca/calendar/tuesday-pizza-pizza-hot-lunch-r5/2025-04-22/
END:VEVENT
BEGIN:VEVENT
DTSTART;TZID=America/Moncton:20250422T080000
DTEND;TZID=America/Moncton:20250422T170000
DTSTAMP:20260425T083107
CREATED:20240529T132922Z
LAST-MODIFIED:20240529T132925Z
UID:10001278-1745308800-1745341200@gardencreek.nbed.ca
SUMMARY:Library Books to be returned
DESCRIPTION:
URL:https://gardencreek.nbed.ca/calendar/library-books-to-be-returned/2025-04-22/
END:VEVENT
BEGIN:VEVENT
DTSTART;TZID=America/Moncton:20250421T080000
DTEND;TZID=America/Moncton:20250421T170000
DTSTAMP:20260425T083107
CREATED:20240529T132922Z
LAST-MODIFIED:20240529T132925Z
UID:10001277-1745222400-1745254800@gardencreek.nbed.ca
SUMMARY:Library Books to be returned
DESCRIPTION:
URL:https://gardencreek.nbed.ca/calendar/library-books-to-be-returned/2025-04-21/
END:VEVENT
BEGIN:VEVENT
DTSTART;TZID=America/Moncton:20250420T080000
DTEND;TZID=America/Moncton:20250420T170000
DTSTAMP:20260425T083107
CREATED:20240529T132922Z
LAST-MODIFIED:20240529T132925Z
UID:10001276-1745136000-1745168400@gardencreek.nbed.ca
SUMMARY:Library Books to be returned
DESCRIPTION:
URL:https://gardencreek.nbed.ca/calendar/library-books-to-be-returned/2025-04-20/
END:VEVENT
BEGIN:VEVENT
DTSTART;TZID=America/Moncton:20250419T080000
DTEND;TZID=America/Moncton:20250419T170000
DTSTAMP:20260425T083107
CREATED:20240529T132922Z
LAST-MODIFIED:20240529T132925Z
UID:10001275-1745049600-1745082000@gardencreek.nbed.ca
SUMMARY:Library Books to be returned
DESCRIPTION:
URL:https://gardencreek.nbed.ca/calendar/library-books-to-be-returned/2025-04-19/
END:VEVENT
BEGIN:VEVENT
DTSTART;TZID=America/Moncton:20250418T080000
DTEND;TZID=America/Moncton:20250418T170000
DTSTAMP:20260425T083107
CREATED:20240529T132922Z
LAST-MODIFIED:20240529T132925Z
UID:10001274-1744963200-1744995600@gardencreek.nbed.ca
SUMMARY:Library Books to be returned
DESCRIPTION:
URL:https://gardencreek.nbed.ca/calendar/library-books-to-be-returned/2025-04-18/
END:VEVENT
BEGIN:VEVENT
DTSTART;TZID=America/Moncton:20250417T122500
DTEND;TZID=America/Moncton:20250417T124500
DTSTAMP:20260425T083107
CREATED:20250207T174940Z
LAST-MODIFIED:20250207T174941Z
UID:10002936-1744892700-1744893900@gardencreek.nbed.ca
SUMMARY:Thursday Mary Browns Hot Lunch (R5)
DESCRIPTION:
URL:https://gardencreek.nbed.ca/calendar/thursday-mary-browns-hot-lunch-r5/2025-04-17/
CATEGORIES:Food
END:VEVENT
END:VCALENDAR