BEGIN:VCALENDAR
VERSION:2.0
PRODID:-//Garden Creek School - ECPv6.15.20//NONSGML v1.0//EN
CALSCALE:GREGORIAN
METHOD:PUBLISH
X-WR-CALNAME:Garden Creek School
X-ORIGINAL-URL:https://gardencreek.nbed.ca
X-WR-CALDESC:Events for Garden Creek School
REFRESH-INTERVAL;VALUE=DURATION:PT1H
X-Robots-Tag:noindex
X-PUBLISHED-TTL:PT1H
BEGIN:VTIMEZONE
TZID:America/Moncton
BEGIN:DAYLIGHT
TZOFFSETFROM:-0400
TZOFFSETTO:-0300
TZNAME:ADT
DTSTART:20240310T060000
END:DAYLIGHT
BEGIN:STANDARD
TZOFFSETFROM:-0300
TZOFFSETTO:-0400
TZNAME:AST
DTSTART:20241103T050000
END:STANDARD
BEGIN:DAYLIGHT
TZOFFSETFROM:-0400
TZOFFSETTO:-0300
TZNAME:ADT
DTSTART:20250309T060000
END:DAYLIGHT
BEGIN:STANDARD
TZOFFSETFROM:-0300
TZOFFSETTO:-0400
TZNAME:AST
DTSTART:20251102T050000
END:STANDARD
BEGIN:DAYLIGHT
TZOFFSETFROM:-0400
TZOFFSETTO:-0300
TZNAME:ADT
DTSTART:20260308T060000
END:DAYLIGHT
BEGIN:STANDARD
TZOFFSETFROM:-0300
TZOFFSETTO:-0400
TZNAME:AST
DTSTART:20261101T050000
END:STANDARD
END:VTIMEZONE
BEGIN:VEVENT
DTSTART;TZID=America/Moncton:20250204T122500
DTEND;TZID=America/Moncton:20250204T124500
DTSTAMP:20260425T123909
CREATED:20250128T150503Z
LAST-MODIFIED:20250128T150504Z
UID:10002856-1738671900-1738673100@gardencreek.nbed.ca
SUMMARY:Pizza Pizza Hot Lunch (R4)
DESCRIPTION:
URL:https://gardencreek.nbed.ca/calendar/pizza-pizza-hot-lunch-r4/
END:VEVENT
BEGIN:VEVENT
DTSTART;TZID=America/Moncton:20250204T115500
DTEND;TZID=America/Moncton:20250204T122500
DTSTAMP:20260425T123909
CREATED:20250128T151223Z
LAST-MODIFIED:20250128T151224Z
UID:10002866-1738670100-1738671900@gardencreek.nbed.ca
SUMMARY:Chess Club (Mme. McLeod's Room)
DESCRIPTION:
URL:https://gardencreek.nbed.ca/calendar/chess-club-mme-mcleods-room-9/
END:VEVENT
BEGIN:VEVENT
DTSTART;TZID=America/Moncton:20250204T115500
DTEND;TZID=America/Moncton:20250204T122500
DTSTAMP:20260425T123909
CREATED:20250128T150636Z
LAST-MODIFIED:20250128T150638Z
UID:10002859-1738670100-1738671900@gardencreek.nbed.ca
SUMMARY:Drama (Moana Play)
DESCRIPTION:
URL:https://gardencreek.nbed.ca/calendar/drama-moana-play/
END:VEVENT
BEGIN:VEVENT
DTSTART;TZID=America/Moncton:20250204T080000
DTEND;TZID=America/Moncton:20250204T170000
DTSTAMP:20260425T123909
CREATED:20240529T132922Z
LAST-MODIFIED:20240529T132925Z
UID:10001201-1738656000-1738688400@gardencreek.nbed.ca
SUMMARY:Library Books to be returned
DESCRIPTION:
URL:https://gardencreek.nbed.ca/calendar/library-books-to-be-returned/2025-02-04/
END:VEVENT
BEGIN:VEVENT
DTSTART;TZID=America/Moncton:20250203T122500
DTEND;TZID=America/Moncton:20250203T144500
DTSTAMP:20260425T123909
CREATED:20250128T150150Z
LAST-MODIFIED:20250128T150152Z
UID:10002851-1738585500-1738593900@gardencreek.nbed.ca
SUMMARY:Subway Hot Lunch (R4)
DESCRIPTION:
URL:https://gardencreek.nbed.ca/calendar/subway-hot-lunch-r4/
END:VEVENT
BEGIN:VEVENT
DTSTART;TZID=America/Moncton:20250203T080000
DTEND;TZID=America/Moncton:20250203T170000
DTSTAMP:20260425T123909
CREATED:20240529T132922Z
LAST-MODIFIED:20240529T132925Z
UID:10001200-1738569600-1738602000@gardencreek.nbed.ca
SUMMARY:Library Books to be returned
DESCRIPTION:
URL:https://gardencreek.nbed.ca/calendar/library-books-to-be-returned/2025-02-03/
END:VEVENT
BEGIN:VEVENT
DTSTART;TZID=America/Moncton:20250202T080000
DTEND;TZID=America/Moncton:20250202T170000
DTSTAMP:20260425T123909
CREATED:20240529T132922Z
LAST-MODIFIED:20240529T132925Z
UID:10001199-1738483200-1738515600@gardencreek.nbed.ca
SUMMARY:Library Books to be returned
DESCRIPTION:
URL:https://gardencreek.nbed.ca/calendar/library-books-to-be-returned/2025-02-02/
END:VEVENT
BEGIN:VEVENT
DTSTART;TZID=America/Moncton:20250201T080000
DTEND;TZID=America/Moncton:20250201T170000
DTSTAMP:20260425T123909
CREATED:20240529T132922Z
LAST-MODIFIED:20240529T132925Z
UID:10001198-1738396800-1738429200@gardencreek.nbed.ca
SUMMARY:Library Books to be returned
DESCRIPTION:
URL:https://gardencreek.nbed.ca/calendar/library-books-to-be-returned/2025-02-01/
END:VEVENT
BEGIN:VEVENT
DTSTART;TZID=America/Moncton:20250131T080000
DTEND;TZID=America/Moncton:20250131T170000
DTSTAMP:20260425T123909
CREATED:20240529T132922Z
LAST-MODIFIED:20240529T132925Z
UID:10001197-1738310400-1738342800@gardencreek.nbed.ca
SUMMARY:Library Books to be returned
DESCRIPTION:
URL:https://gardencreek.nbed.ca/calendar/library-books-to-be-returned/2025-01-31/
END:VEVENT
BEGIN:VEVENT
DTSTART;TZID=America/Moncton:20250130T080000
DTEND;TZID=America/Moncton:20250130T170000
DTSTAMP:20260425T123909
CREATED:20240529T132922Z
LAST-MODIFIED:20240529T132925Z
UID:10001196-1738224000-1738256400@gardencreek.nbed.ca
SUMMARY:Library Books to be returned
DESCRIPTION:
URL:https://gardencreek.nbed.ca/calendar/library-books-to-be-returned/2025-01-30/
END:VEVENT
BEGIN:VEVENT
DTSTART;TZID=America/Moncton:20250129T080000
DTEND;TZID=America/Moncton:20250129T170000
DTSTAMP:20260425T123909
CREATED:20240529T132922Z
LAST-MODIFIED:20240529T132925Z
UID:10001195-1738137600-1738170000@gardencreek.nbed.ca
SUMMARY:Library Books to be returned
DESCRIPTION:
URL:https://gardencreek.nbed.ca/calendar/library-books-to-be-returned/2025-01-29/
END:VEVENT
BEGIN:VEVENT
DTSTART;TZID=America/Moncton:20250128T080000
DTEND;TZID=America/Moncton:20250128T170000
DTSTAMP:20260425T123909
CREATED:20240529T132922Z
LAST-MODIFIED:20240529T132925Z
UID:10001194-1738051200-1738083600@gardencreek.nbed.ca
SUMMARY:Library Books to be returned
DESCRIPTION:
URL:https://gardencreek.nbed.ca/calendar/library-books-to-be-returned/2025-01-28/
END:VEVENT
BEGIN:VEVENT
DTSTART;TZID=America/Moncton:20250127T080000
DTEND;TZID=America/Moncton:20250127T170000
DTSTAMP:20260425T123909
CREATED:20240529T132922Z
LAST-MODIFIED:20240529T132925Z
UID:10001193-1737964800-1737997200@gardencreek.nbed.ca
SUMMARY:Library Books to be returned
DESCRIPTION:
URL:https://gardencreek.nbed.ca/calendar/library-books-to-be-returned/2025-01-27/
END:VEVENT
BEGIN:VEVENT
DTSTART;TZID=America/Moncton:20250126T080000
DTEND;TZID=America/Moncton:20250126T170000
DTSTAMP:20260425T123909
CREATED:20240529T132922Z
LAST-MODIFIED:20240529T132925Z
UID:10001192-1737878400-1737910800@gardencreek.nbed.ca
SUMMARY:Library Books to be returned
DESCRIPTION:
URL:https://gardencreek.nbed.ca/calendar/library-books-to-be-returned/2025-01-26/
END:VEVENT
BEGIN:VEVENT
DTSTART;TZID=America/Moncton:20250125T080000
DTEND;TZID=America/Moncton:20250125T170000
DTSTAMP:20260425T123909
CREATED:20240529T132922Z
LAST-MODIFIED:20240529T132925Z
UID:10001191-1737792000-1737824400@gardencreek.nbed.ca
SUMMARY:Library Books to be returned
DESCRIPTION:
URL:https://gardencreek.nbed.ca/calendar/library-books-to-be-returned/2025-01-25/
END:VEVENT
BEGIN:VEVENT
DTSTART;TZID=America/Moncton:20250124T080000
DTEND;TZID=America/Moncton:20250124T170000
DTSTAMP:20260425T123909
CREATED:20240529T132922Z
LAST-MODIFIED:20240529T132925Z
UID:10001190-1737705600-1737738000@gardencreek.nbed.ca
SUMMARY:Library Books to be returned
DESCRIPTION:
URL:https://gardencreek.nbed.ca/calendar/library-books-to-be-returned/2025-01-24/
END:VEVENT
BEGIN:VEVENT
DTSTART;TZID=America/Moncton:20250123T080000
DTEND;TZID=America/Moncton:20250123T170000
DTSTAMP:20260425T123909
CREATED:20240529T132922Z
LAST-MODIFIED:20240529T132925Z
UID:10001189-1737619200-1737651600@gardencreek.nbed.ca
SUMMARY:Library Books to be returned
DESCRIPTION:
URL:https://gardencreek.nbed.ca/calendar/library-books-to-be-returned/2025-01-23/
END:VEVENT
BEGIN:VEVENT
DTSTART;TZID=America/Moncton:20250122T080000
DTEND;TZID=America/Moncton:20250122T170000
DTSTAMP:20260425T123909
CREATED:20240529T132922Z
LAST-MODIFIED:20240529T132925Z
UID:10001188-1737532800-1737565200@gardencreek.nbed.ca
SUMMARY:Library Books to be returned
DESCRIPTION:
URL:https://gardencreek.nbed.ca/calendar/library-books-to-be-returned/2025-01-22/
END:VEVENT
BEGIN:VEVENT
DTSTART;TZID=America/Moncton:20250121T080000
DTEND;TZID=America/Moncton:20250121T170000
DTSTAMP:20260425T123909
CREATED:20240529T132922Z
LAST-MODIFIED:20240529T132925Z
UID:10001187-1737446400-1737478800@gardencreek.nbed.ca
SUMMARY:Library Books to be returned
DESCRIPTION:
URL:https://gardencreek.nbed.ca/calendar/library-books-to-be-returned/2025-01-21/
END:VEVENT
BEGIN:VEVENT
DTSTART;TZID=America/Moncton:20250120T080000
DTEND;TZID=America/Moncton:20250120T170000
DTSTAMP:20260425T123909
CREATED:20240529T132922Z
LAST-MODIFIED:20240529T132925Z
UID:10001186-1737360000-1737392400@gardencreek.nbed.ca
SUMMARY:Library Books to be returned
DESCRIPTION:
URL:https://gardencreek.nbed.ca/calendar/library-books-to-be-returned/2025-01-20/
END:VEVENT
BEGIN:VEVENT
DTSTART;TZID=America/Moncton:20250119T080000
DTEND;TZID=America/Moncton:20250119T170000
DTSTAMP:20260425T123909
CREATED:20240529T132922Z
LAST-MODIFIED:20240529T132925Z
UID:10001185-1737273600-1737306000@gardencreek.nbed.ca
SUMMARY:Library Books to be returned
DESCRIPTION:
URL:https://gardencreek.nbed.ca/calendar/library-books-to-be-returned/2025-01-19/
END:VEVENT
BEGIN:VEVENT
DTSTART;TZID=America/Moncton:20250118T080000
DTEND;TZID=America/Moncton:20250118T170000
DTSTAMP:20260425T123909
CREATED:20240529T132922Z
LAST-MODIFIED:20240529T132925Z
UID:10001184-1737187200-1737219600@gardencreek.nbed.ca
SUMMARY:Library Books to be returned
DESCRIPTION:
URL:https://gardencreek.nbed.ca/calendar/library-books-to-be-returned/2025-01-18/
END:VEVENT
BEGIN:VEVENT
DTSTART;TZID=America/Moncton:20250117T080000
DTEND;TZID=America/Moncton:20250117T170000
DTSTAMP:20260425T123909
CREATED:20240529T132922Z
LAST-MODIFIED:20240529T132925Z
UID:10001183-1737100800-1737133200@gardencreek.nbed.ca
SUMMARY:Library Books to be returned
DESCRIPTION:
URL:https://gardencreek.nbed.ca/calendar/library-books-to-be-returned/2025-01-17/
END:VEVENT
BEGIN:VEVENT
DTSTART;TZID=America/Moncton:20250116T080000
DTEND;TZID=America/Moncton:20250116T170000
DTSTAMP:20260425T123909
CREATED:20240529T132922Z
LAST-MODIFIED:20240529T132925Z
UID:10001182-1737014400-1737046800@gardencreek.nbed.ca
SUMMARY:Library Books to be returned
DESCRIPTION:
URL:https://gardencreek.nbed.ca/calendar/library-books-to-be-returned/2025-01-16/
END:VEVENT
BEGIN:VEVENT
DTSTART;TZID=America/Moncton:20250115T080000
DTEND;TZID=America/Moncton:20250115T170000
DTSTAMP:20260425T123909
CREATED:20240529T132922Z
LAST-MODIFIED:20240529T132925Z
UID:10001181-1736928000-1736960400@gardencreek.nbed.ca
SUMMARY:Library Books to be returned
DESCRIPTION:
URL:https://gardencreek.nbed.ca/calendar/library-books-to-be-returned/2025-01-15/
END:VEVENT
BEGIN:VEVENT
DTSTART;TZID=America/Moncton:20250114T080000
DTEND;TZID=America/Moncton:20250114T170000
DTSTAMP:20260425T123909
CREATED:20240529T132922Z
LAST-MODIFIED:20240529T132925Z
UID:10001180-1736841600-1736874000@gardencreek.nbed.ca
SUMMARY:Library Books to be returned
DESCRIPTION:
URL:https://gardencreek.nbed.ca/calendar/library-books-to-be-returned/2025-01-14/
END:VEVENT
BEGIN:VEVENT
DTSTART;TZID=America/Moncton:20250113T080000
DTEND;TZID=America/Moncton:20250113T170000
DTSTAMP:20260425T123910
CREATED:20240529T132922Z
LAST-MODIFIED:20240529T132925Z
UID:10001179-1736755200-1736787600@gardencreek.nbed.ca
SUMMARY:Library Books to be returned
DESCRIPTION:
URL:https://gardencreek.nbed.ca/calendar/library-books-to-be-returned/2025-01-13/
END:VEVENT
BEGIN:VEVENT
DTSTART;TZID=America/Moncton:20250112T080000
DTEND;TZID=America/Moncton:20250112T170000
DTSTAMP:20260425T123910
CREATED:20240529T132922Z
LAST-MODIFIED:20240529T132925Z
UID:10001178-1736668800-1736701200@gardencreek.nbed.ca
SUMMARY:Library Books to be returned
DESCRIPTION:
URL:https://gardencreek.nbed.ca/calendar/library-books-to-be-returned/2025-01-12/
END:VEVENT
BEGIN:VEVENT
DTSTART;TZID=America/Moncton:20250111T080000
DTEND;TZID=America/Moncton:20250111T170000
DTSTAMP:20260425T123910
CREATED:20240529T132922Z
LAST-MODIFIED:20240529T132925Z
UID:10001177-1736582400-1736614800@gardencreek.nbed.ca
SUMMARY:Library Books to be returned
DESCRIPTION:
URL:https://gardencreek.nbed.ca/calendar/library-books-to-be-returned/2025-01-11/
END:VEVENT
BEGIN:VEVENT
DTSTART;TZID=America/Moncton:20250110T080000
DTEND;TZID=America/Moncton:20250110T170000
DTSTAMP:20260425T123910
CREATED:20240529T132922Z
LAST-MODIFIED:20240529T132925Z
UID:10001176-1736496000-1736528400@gardencreek.nbed.ca
SUMMARY:Library Books to be returned
DESCRIPTION:
URL:https://gardencreek.nbed.ca/calendar/library-books-to-be-returned/2025-01-10/
END:VEVENT
END:VCALENDAR