BEGIN:VCALENDAR
VERSION:2.0
PRODID:-//Garden Creek School - ECPv6.15.20//NONSGML v1.0//EN
CALSCALE:GREGORIAN
METHOD:PUBLISH
X-WR-CALNAME:Garden Creek School
X-ORIGINAL-URL:https://gardencreek.nbed.ca
X-WR-CALDESC:Events for Garden Creek School
REFRESH-INTERVAL;VALUE=DURATION:PT1H
X-Robots-Tag:noindex
X-PUBLISHED-TTL:PT1H
BEGIN:VTIMEZONE
TZID:America/Moncton
BEGIN:DAYLIGHT
TZOFFSETFROM:-0400
TZOFFSETTO:-0300
TZNAME:ADT
DTSTART:20240310T060000
END:DAYLIGHT
BEGIN:STANDARD
TZOFFSETFROM:-0300
TZOFFSETTO:-0400
TZNAME:AST
DTSTART:20241103T050000
END:STANDARD
BEGIN:DAYLIGHT
TZOFFSETFROM:-0400
TZOFFSETTO:-0300
TZNAME:ADT
DTSTART:20250309T060000
END:DAYLIGHT
BEGIN:STANDARD
TZOFFSETFROM:-0300
TZOFFSETTO:-0400
TZNAME:AST
DTSTART:20251102T050000
END:STANDARD
BEGIN:DAYLIGHT
TZOFFSETFROM:-0400
TZOFFSETTO:-0300
TZNAME:ADT
DTSTART:20260308T060000
END:DAYLIGHT
BEGIN:STANDARD
TZOFFSETFROM:-0300
TZOFFSETTO:-0400
TZNAME:AST
DTSTART:20261101T050000
END:STANDARD
END:VTIMEZONE
BEGIN:VEVENT
DTSTART;TZID=America/Moncton:20250530T080000
DTEND;TZID=America/Moncton:20250530T170000
DTSTAMP:20260425T113347
CREATED:20240529T132922Z
LAST-MODIFIED:20240529T132925Z
UID:10001316-1748592000-1748624400@gardencreek.nbed.ca
SUMMARY:Library Books to be returned
DESCRIPTION:
URL:https://gardencreek.nbed.ca/calendar/library-books-to-be-returned/2025-05-30/
END:VEVENT
BEGIN:VEVENT
DTSTART;TZID=America/Moncton:20250529T080000
DTEND;TZID=America/Moncton:20250529T170000
DTSTAMP:20260425T113347
CREATED:20240529T132922Z
LAST-MODIFIED:20240529T132925Z
UID:10001315-1748505600-1748538000@gardencreek.nbed.ca
SUMMARY:Library Books to be returned
DESCRIPTION:
URL:https://gardencreek.nbed.ca/calendar/library-books-to-be-returned/2025-05-29/
END:VEVENT
BEGIN:VEVENT
DTSTART;TZID=America/Moncton:20250528T080000
DTEND;TZID=America/Moncton:20250528T170000
DTSTAMP:20260425T113347
CREATED:20240529T132922Z
LAST-MODIFIED:20240529T132925Z
UID:10001314-1748419200-1748451600@gardencreek.nbed.ca
SUMMARY:Library Books to be returned
DESCRIPTION:
URL:https://gardencreek.nbed.ca/calendar/library-books-to-be-returned/2025-05-28/
END:VEVENT
BEGIN:VEVENT
DTSTART;TZID=America/Moncton:20250527T080000
DTEND;TZID=America/Moncton:20250527T170000
DTSTAMP:20260425T113347
CREATED:20240529T132922Z
LAST-MODIFIED:20240529T132925Z
UID:10001313-1748332800-1748365200@gardencreek.nbed.ca
SUMMARY:Library Books to be returned
DESCRIPTION:
URL:https://gardencreek.nbed.ca/calendar/library-books-to-be-returned/2025-05-27/
END:VEVENT
BEGIN:VEVENT
DTSTART;TZID=America/Moncton:20250526T080000
DTEND;TZID=America/Moncton:20250526T170000
DTSTAMP:20260425T113347
CREATED:20240529T132922Z
LAST-MODIFIED:20240529T132925Z
UID:10001312-1748246400-1748278800@gardencreek.nbed.ca
SUMMARY:Library Books to be returned
DESCRIPTION:
URL:https://gardencreek.nbed.ca/calendar/library-books-to-be-returned/2025-05-26/
END:VEVENT
BEGIN:VEVENT
DTSTART;TZID=America/Moncton:20250525T080000
DTEND;TZID=America/Moncton:20250525T170000
DTSTAMP:20260425T113347
CREATED:20240529T132922Z
LAST-MODIFIED:20240529T132925Z
UID:10001311-1748160000-1748192400@gardencreek.nbed.ca
SUMMARY:Library Books to be returned
DESCRIPTION:
URL:https://gardencreek.nbed.ca/calendar/library-books-to-be-returned/2025-05-25/
END:VEVENT
BEGIN:VEVENT
DTSTART;TZID=America/Moncton:20250524T080000
DTEND;TZID=America/Moncton:20250524T170000
DTSTAMP:20260425T113347
CREATED:20240529T132922Z
LAST-MODIFIED:20240529T132925Z
UID:10001310-1748073600-1748106000@gardencreek.nbed.ca
SUMMARY:Library Books to be returned
DESCRIPTION:
URL:https://gardencreek.nbed.ca/calendar/library-books-to-be-returned/2025-05-24/
END:VEVENT
BEGIN:VEVENT
DTSTART;TZID=America/Moncton:20250523T080000
DTEND;TZID=America/Moncton:20250523T170000
DTSTAMP:20260425T113347
CREATED:20240529T132922Z
LAST-MODIFIED:20240529T132925Z
UID:10001309-1747987200-1748019600@gardencreek.nbed.ca
SUMMARY:Library Books to be returned
DESCRIPTION:
URL:https://gardencreek.nbed.ca/calendar/library-books-to-be-returned/2025-05-23/
END:VEVENT
BEGIN:VEVENT
DTSTART;TZID=America/Moncton:20250522T080000
DTEND;TZID=America/Moncton:20250522T170000
DTSTAMP:20260425T113347
CREATED:20240529T132922Z
LAST-MODIFIED:20240529T132925Z
UID:10001308-1747900800-1747933200@gardencreek.nbed.ca
SUMMARY:Library Books to be returned
DESCRIPTION:
URL:https://gardencreek.nbed.ca/calendar/library-books-to-be-returned/2025-05-22/
END:VEVENT
BEGIN:VEVENT
DTSTART;TZID=America/Moncton:20250521T080000
DTEND;TZID=America/Moncton:20250521T170000
DTSTAMP:20260425T113347
CREATED:20240529T132922Z
LAST-MODIFIED:20240529T132925Z
UID:10001307-1747814400-1747846800@gardencreek.nbed.ca
SUMMARY:Library Books to be returned
DESCRIPTION:
URL:https://gardencreek.nbed.ca/calendar/library-books-to-be-returned/2025-05-21/
END:VEVENT
BEGIN:VEVENT
DTSTART;TZID=America/Moncton:20250520T080000
DTEND;TZID=America/Moncton:20250520T170000
DTSTAMP:20260425T113347
CREATED:20240529T132922Z
LAST-MODIFIED:20240529T132925Z
UID:10001306-1747728000-1747760400@gardencreek.nbed.ca
SUMMARY:Library Books to be returned
DESCRIPTION:
URL:https://gardencreek.nbed.ca/calendar/library-books-to-be-returned/2025-05-20/
END:VEVENT
BEGIN:VEVENT
DTSTART;TZID=America/Moncton:20250519T080000
DTEND;TZID=America/Moncton:20250519T170000
DTSTAMP:20260425T113347
CREATED:20240529T132922Z
LAST-MODIFIED:20240529T132925Z
UID:10001305-1747641600-1747674000@gardencreek.nbed.ca
SUMMARY:Library Books to be returned
DESCRIPTION:
URL:https://gardencreek.nbed.ca/calendar/library-books-to-be-returned/2025-05-19/
END:VEVENT
BEGIN:VEVENT
DTSTART;TZID=America/Moncton:20250518T080000
DTEND;TZID=America/Moncton:20250518T170000
DTSTAMP:20260425T113347
CREATED:20240529T132922Z
LAST-MODIFIED:20240529T132925Z
UID:10001304-1747555200-1747587600@gardencreek.nbed.ca
SUMMARY:Library Books to be returned
DESCRIPTION:
URL:https://gardencreek.nbed.ca/calendar/library-books-to-be-returned/2025-05-18/
END:VEVENT
BEGIN:VEVENT
DTSTART;TZID=America/Moncton:20250517T080000
DTEND;TZID=America/Moncton:20250517T170000
DTSTAMP:20260425T113347
CREATED:20240529T132922Z
LAST-MODIFIED:20240529T132925Z
UID:10001303-1747468800-1747501200@gardencreek.nbed.ca
SUMMARY:Library Books to be returned
DESCRIPTION:
URL:https://gardencreek.nbed.ca/calendar/library-books-to-be-returned/2025-05-17/
END:VEVENT
BEGIN:VEVENT
DTSTART;TZID=America/Moncton:20250516T080000
DTEND;TZID=America/Moncton:20250516T170000
DTSTAMP:20260425T113347
CREATED:20240529T132922Z
LAST-MODIFIED:20240529T132925Z
UID:10001302-1747382400-1747414800@gardencreek.nbed.ca
SUMMARY:Library Books to be returned
DESCRIPTION:
URL:https://gardencreek.nbed.ca/calendar/library-books-to-be-returned/2025-05-16/
END:VEVENT
BEGIN:VEVENT
DTSTART;TZID=America/Moncton:20250515T080000
DTEND;TZID=America/Moncton:20250515T170000
DTSTAMP:20260425T113347
CREATED:20240529T132922Z
LAST-MODIFIED:20240529T132925Z
UID:10001301-1747296000-1747328400@gardencreek.nbed.ca
SUMMARY:Library Books to be returned
DESCRIPTION:
URL:https://gardencreek.nbed.ca/calendar/library-books-to-be-returned/2025-05-15/
END:VEVENT
BEGIN:VEVENT
DTSTART;TZID=America/Moncton:20250514T080000
DTEND;TZID=America/Moncton:20250514T170000
DTSTAMP:20260425T113347
CREATED:20240529T132922Z
LAST-MODIFIED:20240529T132925Z
UID:10001300-1747209600-1747242000@gardencreek.nbed.ca
SUMMARY:Library Books to be returned
DESCRIPTION:
URL:https://gardencreek.nbed.ca/calendar/library-books-to-be-returned/2025-05-14/
END:VEVENT
BEGIN:VEVENT
DTSTART;TZID=America/Moncton:20250513T080000
DTEND;TZID=America/Moncton:20250513T170000
DTSTAMP:20260425T113347
CREATED:20240529T132922Z
LAST-MODIFIED:20240529T132925Z
UID:10001299-1747123200-1747155600@gardencreek.nbed.ca
SUMMARY:Library Books to be returned
DESCRIPTION:
URL:https://gardencreek.nbed.ca/calendar/library-books-to-be-returned/2025-05-13/
END:VEVENT
BEGIN:VEVENT
DTSTART;TZID=America/Moncton:20250512T080000
DTEND;TZID=America/Moncton:20250512T170000
DTSTAMP:20260425T113347
CREATED:20240529T132922Z
LAST-MODIFIED:20240529T132925Z
UID:10001298-1747036800-1747069200@gardencreek.nbed.ca
SUMMARY:Library Books to be returned
DESCRIPTION:
URL:https://gardencreek.nbed.ca/calendar/library-books-to-be-returned/2025-05-12/
END:VEVENT
BEGIN:VEVENT
DTSTART;TZID=America/Moncton:20250511T080000
DTEND;TZID=America/Moncton:20250511T170000
DTSTAMP:20260425T113347
CREATED:20240529T132922Z
LAST-MODIFIED:20240529T132925Z
UID:10001297-1746950400-1746982800@gardencreek.nbed.ca
SUMMARY:Library Books to be returned
DESCRIPTION:
URL:https://gardencreek.nbed.ca/calendar/library-books-to-be-returned/2025-05-11/
END:VEVENT
BEGIN:VEVENT
DTSTART;TZID=America/Moncton:20250510T080000
DTEND;TZID=America/Moncton:20250510T170000
DTSTAMP:20260425T113347
CREATED:20240529T132922Z
LAST-MODIFIED:20240529T132925Z
UID:10001296-1746864000-1746896400@gardencreek.nbed.ca
SUMMARY:Library Books to be returned
DESCRIPTION:
URL:https://gardencreek.nbed.ca/calendar/library-books-to-be-returned/2025-05-10/
END:VEVENT
BEGIN:VEVENT
DTSTART;TZID=America/Moncton:20250509T080000
DTEND;TZID=America/Moncton:20250509T170000
DTSTAMP:20260425T113347
CREATED:20240529T132922Z
LAST-MODIFIED:20240529T132925Z
UID:10001295-1746777600-1746810000@gardencreek.nbed.ca
SUMMARY:Library Books to be returned
DESCRIPTION:
URL:https://gardencreek.nbed.ca/calendar/library-books-to-be-returned/2025-05-09/
END:VEVENT
BEGIN:VEVENT
DTSTART;TZID=America/Moncton:20250508T080000
DTEND;TZID=America/Moncton:20250508T170000
DTSTAMP:20260425T113347
CREATED:20240529T132922Z
LAST-MODIFIED:20240529T132925Z
UID:10001294-1746691200-1746723600@gardencreek.nbed.ca
SUMMARY:Library Books to be returned
DESCRIPTION:
URL:https://gardencreek.nbed.ca/calendar/library-books-to-be-returned/2025-05-08/
END:VEVENT
BEGIN:VEVENT
DTSTART;TZID=America/Moncton:20250507T080000
DTEND;TZID=America/Moncton:20250507T170000
DTSTAMP:20260425T113347
CREATED:20240529T132922Z
LAST-MODIFIED:20240529T132925Z
UID:10001293-1746604800-1746637200@gardencreek.nbed.ca
SUMMARY:Library Books to be returned
DESCRIPTION:
URL:https://gardencreek.nbed.ca/calendar/library-books-to-be-returned/2025-05-07/
END:VEVENT
BEGIN:VEVENT
DTSTART;TZID=America/Moncton:20250506T080000
DTEND;TZID=America/Moncton:20250506T170000
DTSTAMP:20260425T113347
CREATED:20240529T132922Z
LAST-MODIFIED:20240529T132925Z
UID:10001292-1746518400-1746550800@gardencreek.nbed.ca
SUMMARY:Library Books to be returned
DESCRIPTION:
URL:https://gardencreek.nbed.ca/calendar/library-books-to-be-returned/2025-05-06/
END:VEVENT
BEGIN:VEVENT
DTSTART;TZID=America/Moncton:20250505T080000
DTEND;TZID=America/Moncton:20250505T170000
DTSTAMP:20260425T113347
CREATED:20240529T132922Z
LAST-MODIFIED:20240529T132925Z
UID:10001291-1746432000-1746464400@gardencreek.nbed.ca
SUMMARY:Library Books to be returned
DESCRIPTION:
URL:https://gardencreek.nbed.ca/calendar/library-books-to-be-returned/2025-05-05/
END:VEVENT
BEGIN:VEVENT
DTSTART;TZID=America/Moncton:20250504T080000
DTEND;TZID=America/Moncton:20250504T170000
DTSTAMP:20260425T113347
CREATED:20240529T132922Z
LAST-MODIFIED:20240529T132925Z
UID:10001290-1746345600-1746378000@gardencreek.nbed.ca
SUMMARY:Library Books to be returned
DESCRIPTION:
URL:https://gardencreek.nbed.ca/calendar/library-books-to-be-returned/2025-05-04/
END:VEVENT
BEGIN:VEVENT
DTSTART;TZID=America/Moncton:20250503T080000
DTEND;TZID=America/Moncton:20250503T170000
DTSTAMP:20260425T113347
CREATED:20240529T132922Z
LAST-MODIFIED:20240529T132925Z
UID:10001289-1746259200-1746291600@gardencreek.nbed.ca
SUMMARY:Library Books to be returned
DESCRIPTION:
URL:https://gardencreek.nbed.ca/calendar/library-books-to-be-returned/2025-05-03/
END:VEVENT
BEGIN:VEVENT
DTSTART;TZID=America/Moncton:20250502T080000
DTEND;TZID=America/Moncton:20250502T170000
DTSTAMP:20260425T113347
CREATED:20240529T132922Z
LAST-MODIFIED:20240529T132925Z
UID:10001288-1746172800-1746205200@gardencreek.nbed.ca
SUMMARY:Library Books to be returned
DESCRIPTION:
URL:https://gardencreek.nbed.ca/calendar/library-books-to-be-returned/2025-05-02/
END:VEVENT
BEGIN:VEVENT
DTSTART;TZID=America/Moncton:20250501T080000
DTEND;TZID=America/Moncton:20250501T170000
DTSTAMP:20260425T113347
CREATED:20240529T132922Z
LAST-MODIFIED:20240529T132925Z
UID:10001287-1746086400-1746118800@gardencreek.nbed.ca
SUMMARY:Library Books to be returned
DESCRIPTION:
URL:https://gardencreek.nbed.ca/calendar/library-books-to-be-returned/2025-05-01/
END:VEVENT
END:VCALENDAR