BEGIN:VCALENDAR
VERSION:2.0
PRODID:-//Garden Creek School - ECPv6.15.20//NONSGML v1.0//EN
CALSCALE:GREGORIAN
METHOD:PUBLISH
X-WR-CALNAME:Garden Creek School
X-ORIGINAL-URL:https://gardencreek.nbed.ca
X-WR-CALDESC:Events for Garden Creek School
REFRESH-INTERVAL;VALUE=DURATION:PT1H
X-Robots-Tag:noindex
X-PUBLISHED-TTL:PT1H
BEGIN:VTIMEZONE
TZID:America/Moncton
BEGIN:DAYLIGHT
TZOFFSETFROM:-0400
TZOFFSETTO:-0300
TZNAME:ADT
DTSTART:20260308T060000
END:DAYLIGHT
BEGIN:STANDARD
TZOFFSETFROM:-0300
TZOFFSETTO:-0400
TZNAME:AST
DTSTART:20261101T050000
END:STANDARD
BEGIN:DAYLIGHT
TZOFFSETFROM:-0400
TZOFFSETTO:-0300
TZNAME:ADT
DTSTART:20270314T060000
END:DAYLIGHT
BEGIN:STANDARD
TZOFFSETFROM:-0300
TZOFFSETTO:-0400
TZNAME:AST
DTSTART:20271107T050000
END:STANDARD
BEGIN:DAYLIGHT
TZOFFSETFROM:-0400
TZOFFSETTO:-0300
TZNAME:ADT
DTSTART:20280312T060000
END:DAYLIGHT
BEGIN:STANDARD
TZOFFSETFROM:-0300
TZOFFSETTO:-0400
TZNAME:AST
DTSTART:20281105T050000
END:STANDARD
END:VTIMEZONE
BEGIN:VEVENT
DTSTART;TZID=America/Moncton:20270213T080000
DTEND;TZID=America/Moncton:20270213T170000
DTSTAMP:20260425T104344
CREATED:20240529T132922Z
LAST-MODIFIED:20240529T132925Z
UID:10001940-1802505600-1802538000@gardencreek.nbed.ca
SUMMARY:Library Books to be returned
DESCRIPTION:
URL:https://gardencreek.nbed.ca/calendar/library-books-to-be-returned/2027-02-13/
END:VEVENT
BEGIN:VEVENT
DTSTART;TZID=America/Moncton:20270214T080000
DTEND;TZID=America/Moncton:20270214T170000
DTSTAMP:20260425T104344
CREATED:20240529T132922Z
LAST-MODIFIED:20240529T132925Z
UID:10001941-1802592000-1802624400@gardencreek.nbed.ca
SUMMARY:Library Books to be returned
DESCRIPTION:
URL:https://gardencreek.nbed.ca/calendar/library-books-to-be-returned/2027-02-14/
END:VEVENT
BEGIN:VEVENT
DTSTART;TZID=America/Moncton:20270215T080000
DTEND;TZID=America/Moncton:20270215T170000
DTSTAMP:20260425T104344
CREATED:20240529T132922Z
LAST-MODIFIED:20240529T132925Z
UID:10001942-1802678400-1802710800@gardencreek.nbed.ca
SUMMARY:Library Books to be returned
DESCRIPTION:
URL:https://gardencreek.nbed.ca/calendar/library-books-to-be-returned/2027-02-15/
END:VEVENT
BEGIN:VEVENT
DTSTART;TZID=America/Moncton:20270216T080000
DTEND;TZID=America/Moncton:20270216T170000
DTSTAMP:20260425T104344
CREATED:20240529T132922Z
LAST-MODIFIED:20240529T132925Z
UID:10001943-1802764800-1802797200@gardencreek.nbed.ca
SUMMARY:Library Books to be returned
DESCRIPTION:
URL:https://gardencreek.nbed.ca/calendar/library-books-to-be-returned/2027-02-16/
END:VEVENT
BEGIN:VEVENT
DTSTART;TZID=America/Moncton:20270217T080000
DTEND;TZID=America/Moncton:20270217T170000
DTSTAMP:20260425T104344
CREATED:20240529T132922Z
LAST-MODIFIED:20240529T132925Z
UID:10001944-1802851200-1802883600@gardencreek.nbed.ca
SUMMARY:Library Books to be returned
DESCRIPTION:
URL:https://gardencreek.nbed.ca/calendar/library-books-to-be-returned/2027-02-17/
END:VEVENT
BEGIN:VEVENT
DTSTART;TZID=America/Moncton:20270218T080000
DTEND;TZID=America/Moncton:20270218T170000
DTSTAMP:20260425T104344
CREATED:20240529T132922Z
LAST-MODIFIED:20240529T132925Z
UID:10001945-1802937600-1802970000@gardencreek.nbed.ca
SUMMARY:Library Books to be returned
DESCRIPTION:
URL:https://gardencreek.nbed.ca/calendar/library-books-to-be-returned/2027-02-18/
END:VEVENT
BEGIN:VEVENT
DTSTART;TZID=America/Moncton:20270219T080000
DTEND;TZID=America/Moncton:20270219T170000
DTSTAMP:20260425T104344
CREATED:20240529T132922Z
LAST-MODIFIED:20240529T132925Z
UID:10001946-1803024000-1803056400@gardencreek.nbed.ca
SUMMARY:Library Books to be returned
DESCRIPTION:
URL:https://gardencreek.nbed.ca/calendar/library-books-to-be-returned/2027-02-19/
END:VEVENT
BEGIN:VEVENT
DTSTART;TZID=America/Moncton:20270220T080000
DTEND;TZID=America/Moncton:20270220T170000
DTSTAMP:20260425T104344
CREATED:20240529T132922Z
LAST-MODIFIED:20240529T132925Z
UID:10001947-1803110400-1803142800@gardencreek.nbed.ca
SUMMARY:Library Books to be returned
DESCRIPTION:
URL:https://gardencreek.nbed.ca/calendar/library-books-to-be-returned/2027-02-20/
END:VEVENT
BEGIN:VEVENT
DTSTART;TZID=America/Moncton:20270221T080000
DTEND;TZID=America/Moncton:20270221T170000
DTSTAMP:20260425T104344
CREATED:20240529T132922Z
LAST-MODIFIED:20240529T132925Z
UID:10001948-1803196800-1803229200@gardencreek.nbed.ca
SUMMARY:Library Books to be returned
DESCRIPTION:
URL:https://gardencreek.nbed.ca/calendar/library-books-to-be-returned/2027-02-21/
END:VEVENT
BEGIN:VEVENT
DTSTART;TZID=America/Moncton:20270222T080000
DTEND;TZID=America/Moncton:20270222T170000
DTSTAMP:20260425T104344
CREATED:20240529T132922Z
LAST-MODIFIED:20240529T132925Z
UID:10001949-1803283200-1803315600@gardencreek.nbed.ca
SUMMARY:Library Books to be returned
DESCRIPTION:
URL:https://gardencreek.nbed.ca/calendar/library-books-to-be-returned/2027-02-22/
END:VEVENT
BEGIN:VEVENT
DTSTART;TZID=America/Moncton:20270223T080000
DTEND;TZID=America/Moncton:20270223T170000
DTSTAMP:20260425T104344
CREATED:20240529T132922Z
LAST-MODIFIED:20240529T132925Z
UID:10001950-1803369600-1803402000@gardencreek.nbed.ca
SUMMARY:Library Books to be returned
DESCRIPTION:
URL:https://gardencreek.nbed.ca/calendar/library-books-to-be-returned/2027-02-23/
END:VEVENT
BEGIN:VEVENT
DTSTART;TZID=America/Moncton:20270224T080000
DTEND;TZID=America/Moncton:20270224T170000
DTSTAMP:20260425T104344
CREATED:20240529T132922Z
LAST-MODIFIED:20240529T132925Z
UID:10001951-1803456000-1803488400@gardencreek.nbed.ca
SUMMARY:Library Books to be returned
DESCRIPTION:
URL:https://gardencreek.nbed.ca/calendar/library-books-to-be-returned/2027-02-24/
END:VEVENT
BEGIN:VEVENT
DTSTART;TZID=America/Moncton:20270225T080000
DTEND;TZID=America/Moncton:20270225T170000
DTSTAMP:20260425T104344
CREATED:20240529T132922Z
LAST-MODIFIED:20240529T132925Z
UID:10001952-1803542400-1803574800@gardencreek.nbed.ca
SUMMARY:Library Books to be returned
DESCRIPTION:
URL:https://gardencreek.nbed.ca/calendar/library-books-to-be-returned/2027-02-25/
END:VEVENT
BEGIN:VEVENT
DTSTART;TZID=America/Moncton:20270226T080000
DTEND;TZID=America/Moncton:20270226T170000
DTSTAMP:20260425T104344
CREATED:20240529T132922Z
LAST-MODIFIED:20240529T132925Z
UID:10001953-1803628800-1803661200@gardencreek.nbed.ca
SUMMARY:Library Books to be returned
DESCRIPTION:
URL:https://gardencreek.nbed.ca/calendar/library-books-to-be-returned/2027-02-26/
END:VEVENT
BEGIN:VEVENT
DTSTART;TZID=America/Moncton:20270227T080000
DTEND;TZID=America/Moncton:20270227T170000
DTSTAMP:20260425T104344
CREATED:20240529T132922Z
LAST-MODIFIED:20240529T132925Z
UID:10001954-1803715200-1803747600@gardencreek.nbed.ca
SUMMARY:Library Books to be returned
DESCRIPTION:
URL:https://gardencreek.nbed.ca/calendar/library-books-to-be-returned/2027-02-27/
END:VEVENT
BEGIN:VEVENT
DTSTART;TZID=America/Moncton:20270228T080000
DTEND;TZID=America/Moncton:20270228T170000
DTSTAMP:20260425T104344
CREATED:20240529T132922Z
LAST-MODIFIED:20240529T132925Z
UID:10001955-1803801600-1803834000@gardencreek.nbed.ca
SUMMARY:Library Books to be returned
DESCRIPTION:
URL:https://gardencreek.nbed.ca/calendar/library-books-to-be-returned/2027-02-28/
END:VEVENT
BEGIN:VEVENT
DTSTART;TZID=America/Moncton:20270301T080000
DTEND;TZID=America/Moncton:20270301T170000
DTSTAMP:20260425T104344
CREATED:20240529T132922Z
LAST-MODIFIED:20240529T132925Z
UID:10001956-1803888000-1803920400@gardencreek.nbed.ca
SUMMARY:Library Books to be returned
DESCRIPTION:
URL:https://gardencreek.nbed.ca/calendar/library-books-to-be-returned/2027-03-01/
END:VEVENT
BEGIN:VEVENT
DTSTART;TZID=America/Moncton:20270302T080000
DTEND;TZID=America/Moncton:20270302T170000
DTSTAMP:20260425T104344
CREATED:20240529T132922Z
LAST-MODIFIED:20240529T132925Z
UID:10001957-1803974400-1804006800@gardencreek.nbed.ca
SUMMARY:Library Books to be returned
DESCRIPTION:
URL:https://gardencreek.nbed.ca/calendar/library-books-to-be-returned/2027-03-02/
END:VEVENT
BEGIN:VEVENT
DTSTART;TZID=America/Moncton:20270303T080000
DTEND;TZID=America/Moncton:20270303T170000
DTSTAMP:20260425T104344
CREATED:20240529T132922Z
LAST-MODIFIED:20240529T132925Z
UID:10001958-1804060800-1804093200@gardencreek.nbed.ca
SUMMARY:Library Books to be returned
DESCRIPTION:
URL:https://gardencreek.nbed.ca/calendar/library-books-to-be-returned/2027-03-03/
END:VEVENT
BEGIN:VEVENT
DTSTART;TZID=America/Moncton:20270304T080000
DTEND;TZID=America/Moncton:20270304T170000
DTSTAMP:20260425T104344
CREATED:20240529T132922Z
LAST-MODIFIED:20240529T132925Z
UID:10001959-1804147200-1804179600@gardencreek.nbed.ca
SUMMARY:Library Books to be returned
DESCRIPTION:
URL:https://gardencreek.nbed.ca/calendar/library-books-to-be-returned/2027-03-04/
END:VEVENT
BEGIN:VEVENT
DTSTART;TZID=America/Moncton:20270305T080000
DTEND;TZID=America/Moncton:20270305T170000
DTSTAMP:20260425T104344
CREATED:20240529T132922Z
LAST-MODIFIED:20240529T132925Z
UID:10001960-1804233600-1804266000@gardencreek.nbed.ca
SUMMARY:Library Books to be returned
DESCRIPTION:
URL:https://gardencreek.nbed.ca/calendar/library-books-to-be-returned/2027-03-05/
END:VEVENT
BEGIN:VEVENT
DTSTART;TZID=America/Moncton:20270306T080000
DTEND;TZID=America/Moncton:20270306T170000
DTSTAMP:20260425T104344
CREATED:20240529T132922Z
LAST-MODIFIED:20240529T132925Z
UID:10001961-1804320000-1804352400@gardencreek.nbed.ca
SUMMARY:Library Books to be returned
DESCRIPTION:
URL:https://gardencreek.nbed.ca/calendar/library-books-to-be-returned/2027-03-06/
END:VEVENT
BEGIN:VEVENT
DTSTART;TZID=America/Moncton:20270307T080000
DTEND;TZID=America/Moncton:20270307T170000
DTSTAMP:20260425T104344
CREATED:20240529T132922Z
LAST-MODIFIED:20240529T132925Z
UID:10001962-1804406400-1804438800@gardencreek.nbed.ca
SUMMARY:Library Books to be returned
DESCRIPTION:
URL:https://gardencreek.nbed.ca/calendar/library-books-to-be-returned/2027-03-07/
END:VEVENT
BEGIN:VEVENT
DTSTART;TZID=America/Moncton:20270308T080000
DTEND;TZID=America/Moncton:20270308T170000
DTSTAMP:20260425T104344
CREATED:20240529T132922Z
LAST-MODIFIED:20240529T132925Z
UID:10001963-1804492800-1804525200@gardencreek.nbed.ca
SUMMARY:Library Books to be returned
DESCRIPTION:
URL:https://gardencreek.nbed.ca/calendar/library-books-to-be-returned/2027-03-08/
END:VEVENT
BEGIN:VEVENT
DTSTART;TZID=America/Moncton:20270309T080000
DTEND;TZID=America/Moncton:20270309T170000
DTSTAMP:20260425T104344
CREATED:20240529T132922Z
LAST-MODIFIED:20240529T132925Z
UID:10001964-1804579200-1804611600@gardencreek.nbed.ca
SUMMARY:Library Books to be returned
DESCRIPTION:
URL:https://gardencreek.nbed.ca/calendar/library-books-to-be-returned/2027-03-09/
END:VEVENT
BEGIN:VEVENT
DTSTART;TZID=America/Moncton:20270310T080000
DTEND;TZID=America/Moncton:20270310T170000
DTSTAMP:20260425T104344
CREATED:20240529T132922Z
LAST-MODIFIED:20240529T132925Z
UID:10001965-1804665600-1804698000@gardencreek.nbed.ca
SUMMARY:Library Books to be returned
DESCRIPTION:
URL:https://gardencreek.nbed.ca/calendar/library-books-to-be-returned/2027-03-10/
END:VEVENT
BEGIN:VEVENT
DTSTART;TZID=America/Moncton:20270311T080000
DTEND;TZID=America/Moncton:20270311T170000
DTSTAMP:20260425T104344
CREATED:20240529T132922Z
LAST-MODIFIED:20240529T132925Z
UID:10001966-1804752000-1804784400@gardencreek.nbed.ca
SUMMARY:Library Books to be returned
DESCRIPTION:
URL:https://gardencreek.nbed.ca/calendar/library-books-to-be-returned/2027-03-11/
END:VEVENT
BEGIN:VEVENT
DTSTART;TZID=America/Moncton:20270312T080000
DTEND;TZID=America/Moncton:20270312T170000
DTSTAMP:20260425T104344
CREATED:20240529T132922Z
LAST-MODIFIED:20240529T132925Z
UID:10001967-1804838400-1804870800@gardencreek.nbed.ca
SUMMARY:Library Books to be returned
DESCRIPTION:
URL:https://gardencreek.nbed.ca/calendar/library-books-to-be-returned/2027-03-12/
END:VEVENT
BEGIN:VEVENT
DTSTART;TZID=America/Moncton:20270313T080000
DTEND;TZID=America/Moncton:20270313T170000
DTSTAMP:20260425T104344
CREATED:20240529T132922Z
LAST-MODIFIED:20240529T132925Z
UID:10001968-1804924800-1804957200@gardencreek.nbed.ca
SUMMARY:Library Books to be returned
DESCRIPTION:
URL:https://gardencreek.nbed.ca/calendar/library-books-to-be-returned/2027-03-13/
END:VEVENT
BEGIN:VEVENT
DTSTART;TZID=America/Moncton:20270314T080000
DTEND;TZID=America/Moncton:20270314T170000
DTSTAMP:20260425T104344
CREATED:20240529T132922Z
LAST-MODIFIED:20240529T132925Z
UID:10001969-1805011200-1805043600@gardencreek.nbed.ca
SUMMARY:Library Books to be returned
DESCRIPTION:
URL:https://gardencreek.nbed.ca/calendar/library-books-to-be-returned/2027-03-14/
END:VEVENT
END:VCALENDAR