BEGIN:VCALENDAR
VERSION:2.0
PRODID:-//Garden Creek School - ECPv6.15.20//NONSGML v1.0//EN
CALSCALE:GREGORIAN
METHOD:PUBLISH
X-WR-CALNAME:Garden Creek School
X-ORIGINAL-URL:https://gardencreek.nbed.ca
X-WR-CALDESC:Events for Garden Creek School
REFRESH-INTERVAL;VALUE=DURATION:PT1H
X-Robots-Tag:noindex
X-PUBLISHED-TTL:PT1H
BEGIN:VTIMEZONE
TZID:America/Moncton
BEGIN:DAYLIGHT
TZOFFSETFROM:-0400
TZOFFSETTO:-0300
TZNAME:ADT
DTSTART:20240310T060000
END:DAYLIGHT
BEGIN:STANDARD
TZOFFSETFROM:-0300
TZOFFSETTO:-0400
TZNAME:AST
DTSTART:20241103T050000
END:STANDARD
BEGIN:DAYLIGHT
TZOFFSETFROM:-0400
TZOFFSETTO:-0300
TZNAME:ADT
DTSTART:20250309T060000
END:DAYLIGHT
BEGIN:STANDARD
TZOFFSETFROM:-0300
TZOFFSETTO:-0400
TZNAME:AST
DTSTART:20251102T050000
END:STANDARD
BEGIN:DAYLIGHT
TZOFFSETFROM:-0400
TZOFFSETTO:-0300
TZNAME:ADT
DTSTART:20260308T060000
END:DAYLIGHT
BEGIN:STANDARD
TZOFFSETFROM:-0300
TZOFFSETTO:-0400
TZNAME:AST
DTSTART:20261101T050000
END:STANDARD
END:VTIMEZONE
BEGIN:VEVENT
DTSTART;TZID=America/Moncton:20250324T122500
DTEND;TZID=America/Moncton:20250324T124500
DTSTAMP:20260425T074246
CREATED:20250207T172322Z
LAST-MODIFIED:20250207T173020Z
UID:10002900-1742819100-1742820300@gardencreek.nbed.ca
SUMMARY:Monday barBurrito Hot Lunch (R5)
DESCRIPTION:
URL:https://gardencreek.nbed.ca/calendar/barburrito-hot-lunch/2025-03-24/
END:VEVENT
BEGIN:VEVENT
DTSTART;TZID=America/Moncton:20250324T080000
DTEND;TZID=America/Moncton:20250324T170000
DTSTAMP:20260425T074246
CREATED:20240529T132922Z
LAST-MODIFIED:20240529T132925Z
UID:10001249-1742803200-1742835600@gardencreek.nbed.ca
SUMMARY:Library Books to be returned
DESCRIPTION:
URL:https://gardencreek.nbed.ca/calendar/library-books-to-be-returned/2025-03-24/
END:VEVENT
BEGIN:VEVENT
DTSTART;TZID=America/Moncton:20250323T080000
DTEND;TZID=America/Moncton:20250323T170000
DTSTAMP:20260425T074246
CREATED:20240529T132922Z
LAST-MODIFIED:20240529T132925Z
UID:10001248-1742716800-1742749200@gardencreek.nbed.ca
SUMMARY:Library Books to be returned
DESCRIPTION:
URL:https://gardencreek.nbed.ca/calendar/library-books-to-be-returned/2025-03-23/
END:VEVENT
BEGIN:VEVENT
DTSTART;TZID=America/Moncton:20250322T080000
DTEND;TZID=America/Moncton:20250322T170000
DTSTAMP:20260425T074246
CREATED:20240529T132922Z
LAST-MODIFIED:20240529T132925Z
UID:10001247-1742630400-1742662800@gardencreek.nbed.ca
SUMMARY:Library Books to be returned
DESCRIPTION:
URL:https://gardencreek.nbed.ca/calendar/library-books-to-be-returned/2025-03-22/
END:VEVENT
BEGIN:VEVENT
DTSTART;TZID=America/Moncton:20250321T122500
DTEND;TZID=America/Moncton:20250321T124500
DTSTAMP:20260425T074246
CREATED:20250207T175101Z
LAST-MODIFIED:20250207T175102Z
UID:10002938-1742559900-1742561100@gardencreek.nbed.ca
SUMMARY:Friday Porters Hot Lunch (R5)
DESCRIPTION:
URL:https://gardencreek.nbed.ca/calendar/friday-porters-hot-lunch-r5/2025-03-21/
END:VEVENT
BEGIN:VEVENT
DTSTART;TZID=America/Moncton:20250321T080000
DTEND;TZID=America/Moncton:20250321T170000
DTSTAMP:20260425T074246
CREATED:20240529T132922Z
LAST-MODIFIED:20240529T132925Z
UID:10001246-1742544000-1742576400@gardencreek.nbed.ca
SUMMARY:Library Books to be returned
DESCRIPTION:
URL:https://gardencreek.nbed.ca/calendar/library-books-to-be-returned/2025-03-21/
END:VEVENT
BEGIN:VEVENT
DTSTART;TZID=America/Moncton:20250320T122500
DTEND;TZID=America/Moncton:20250320T124500
DTSTAMP:20260425T074246
CREATED:20250207T174940Z
LAST-MODIFIED:20250207T174941Z
UID:10002932-1742473500-1742474700@gardencreek.nbed.ca
SUMMARY:Thursday Mary Browns Hot Lunch (R5)
DESCRIPTION:
URL:https://gardencreek.nbed.ca/calendar/thursday-mary-browns-hot-lunch-r5/2025-03-20/
CATEGORIES:Food
END:VEVENT
BEGIN:VEVENT
DTSTART;TZID=America/Moncton:20250320T080000
DTEND;TZID=America/Moncton:20250320T170000
DTSTAMP:20260425T074246
CREATED:20250131T155331Z
LAST-MODIFIED:20250131T155333Z
UID:10002883-1742457600-1742490000@gardencreek.nbed.ca
SUMMARY:Thursday Mary Browns Hot Lunch
DESCRIPTION:
URL:https://gardencreek.nbed.ca/calendar/thursday-mary-browns-hot-lunch/2025-03-20/
END:VEVENT
BEGIN:VEVENT
DTSTART;TZID=America/Moncton:20250320T080000
DTEND;TZID=America/Moncton:20250320T170000
DTSTAMP:20260425T074246
CREATED:20240529T132922Z
LAST-MODIFIED:20240529T132925Z
UID:10001245-1742457600-1742490000@gardencreek.nbed.ca
SUMMARY:Library Books to be returned
DESCRIPTION:
URL:https://gardencreek.nbed.ca/calendar/library-books-to-be-returned/2025-03-20/
END:VEVENT
BEGIN:VEVENT
DTSTART;TZID=America/Moncton:20250319T080000
DTEND;TZID=America/Moncton:20250319T170000
DTSTAMP:20260425T074246
CREATED:20240529T132922Z
LAST-MODIFIED:20240529T132925Z
UID:10001244-1742371200-1742403600@gardencreek.nbed.ca
SUMMARY:Library Books to be returned
DESCRIPTION:
URL:https://gardencreek.nbed.ca/calendar/library-books-to-be-returned/2025-03-19/
END:VEVENT
BEGIN:VEVENT
DTSTART;TZID=America/Moncton:20250318T143500
DTEND;TZID=America/Moncton:20250318T153500
DTSTAMP:20260425T074246
CREATED:20250219T180741Z
LAST-MODIFIED:20250219T180742Z
UID:10002942-1742308500-1742312100@gardencreek.nbed.ca
SUMMARY:Start of Snapology
DESCRIPTION:
URL:https://gardencreek.nbed.ca/calendar/start-of-snapology/2025-03-18/
CATEGORIES:Extracurricular
END:VEVENT
BEGIN:VEVENT
DTSTART;TZID=America/Moncton:20250318T122500
DTEND;TZID=America/Moncton:20250318T124500
DTSTAMP:20260425T074246
CREATED:20250207T174745Z
LAST-MODIFIED:20250207T174746Z
UID:10002926-1742300700-1742301900@gardencreek.nbed.ca
SUMMARY:Tuesday Pizza Pizza Hot Lunch (R5)
DESCRIPTION:
URL:https://gardencreek.nbed.ca/calendar/tuesday-pizza-pizza-hot-lunch-r5/2025-03-18/
END:VEVENT
BEGIN:VEVENT
DTSTART;TZID=America/Moncton:20250318T080000
DTEND;TZID=America/Moncton:20250318T170000
DTSTAMP:20260425T074246
CREATED:20240529T132922Z
LAST-MODIFIED:20240529T132925Z
UID:10001243-1742284800-1742317200@gardencreek.nbed.ca
SUMMARY:Library Books to be returned
DESCRIPTION:
URL:https://gardencreek.nbed.ca/calendar/library-books-to-be-returned/2025-03-18/
END:VEVENT
BEGIN:VEVENT
DTSTART;TZID=America/Moncton:20250317T122500
DTEND;TZID=America/Moncton:20250317T124500
DTSTAMP:20260425T074246
CREATED:20250207T172322Z
LAST-MODIFIED:20250207T173020Z
UID:10002899-1742214300-1742215500@gardencreek.nbed.ca
SUMMARY:Monday barBurrito Hot Lunch (R5)
DESCRIPTION:
URL:https://gardencreek.nbed.ca/calendar/barburrito-hot-lunch/2025-03-17/
END:VEVENT
BEGIN:VEVENT
DTSTART;TZID=America/Moncton:20250317T080000
DTEND;TZID=America/Moncton:20250317T170000
DTSTAMP:20260425T074246
CREATED:20240529T132922Z
LAST-MODIFIED:20240529T132925Z
UID:10001242-1742198400-1742230800@gardencreek.nbed.ca
SUMMARY:Library Books to be returned
DESCRIPTION:
URL:https://gardencreek.nbed.ca/calendar/library-books-to-be-returned/2025-03-17/
END:VEVENT
BEGIN:VEVENT
DTSTART;TZID=America/Moncton:20250316T080000
DTEND;TZID=America/Moncton:20250316T170000
DTSTAMP:20260425T074246
CREATED:20240529T132922Z
LAST-MODIFIED:20240529T132925Z
UID:10001241-1742112000-1742144400@gardencreek.nbed.ca
SUMMARY:Library Books to be returned
DESCRIPTION:
URL:https://gardencreek.nbed.ca/calendar/library-books-to-be-returned/2025-03-16/
END:VEVENT
BEGIN:VEVENT
DTSTART;TZID=America/Moncton:20250315T080000
DTEND;TZID=America/Moncton:20250315T170000
DTSTAMP:20260425T074246
CREATED:20240529T132922Z
LAST-MODIFIED:20240529T132925Z
UID:10001240-1742025600-1742058000@gardencreek.nbed.ca
SUMMARY:Library Books to be returned
DESCRIPTION:
URL:https://gardencreek.nbed.ca/calendar/library-books-to-be-returned/2025-03-15/
END:VEVENT
BEGIN:VEVENT
DTSTART;TZID=America/Moncton:20250314T080000
DTEND;TZID=America/Moncton:20250314T170000
DTSTAMP:20260425T074246
CREATED:20240529T132922Z
LAST-MODIFIED:20240529T132925Z
UID:10001239-1741939200-1741971600@gardencreek.nbed.ca
SUMMARY:Library Books to be returned
DESCRIPTION:
URL:https://gardencreek.nbed.ca/calendar/library-books-to-be-returned/2025-03-14/
END:VEVENT
BEGIN:VEVENT
DTSTART;TZID=America/Moncton:20250313T080000
DTEND;TZID=America/Moncton:20250313T170000
DTSTAMP:20260425T074246
CREATED:20240529T132922Z
LAST-MODIFIED:20240529T132925Z
UID:10001238-1741852800-1741885200@gardencreek.nbed.ca
SUMMARY:Library Books to be returned
DESCRIPTION:
URL:https://gardencreek.nbed.ca/calendar/library-books-to-be-returned/2025-03-13/
END:VEVENT
BEGIN:VEVENT
DTSTART;TZID=America/Moncton:20250312T080000
DTEND;TZID=America/Moncton:20250312T170000
DTSTAMP:20260425T074246
CREATED:20240529T132922Z
LAST-MODIFIED:20240529T132925Z
UID:10001237-1741766400-1741798800@gardencreek.nbed.ca
SUMMARY:Library Books to be returned
DESCRIPTION:
URL:https://gardencreek.nbed.ca/calendar/library-books-to-be-returned/2025-03-12/
END:VEVENT
BEGIN:VEVENT
DTSTART;TZID=America/Moncton:20250311T113000
DTEND;TZID=America/Moncton:20250311T140000
DTSTAMP:20260425T074246
CREATED:20250219T181331Z
LAST-MODIFIED:20250219T181332Z
UID:10002947-1741692600-1741701600@gardencreek.nbed.ca
SUMMARY:The Alphabet of Awesome Science (Playhouse)
DESCRIPTION:
URL:https://gardencreek.nbed.ca/calendar/the-alphabet-of-awesome-science-playhouse/
CATEGORIES:Academics
END:VEVENT
BEGIN:VEVENT
DTSTART;TZID=America/Moncton:20250311T080000
DTEND;TZID=America/Moncton:20250311T170000
DTSTAMP:20260425T074246
CREATED:20240529T132922Z
LAST-MODIFIED:20240529T132925Z
UID:10001236-1741680000-1741712400@gardencreek.nbed.ca
SUMMARY:Library Books to be returned
DESCRIPTION:
URL:https://gardencreek.nbed.ca/calendar/library-books-to-be-returned/2025-03-11/
END:VEVENT
BEGIN:VEVENT
DTSTART;TZID=America/Moncton:20250310T080000
DTEND;TZID=America/Moncton:20250310T170000
DTSTAMP:20260425T074246
CREATED:20240529T132922Z
LAST-MODIFIED:20240529T132925Z
UID:10001235-1741593600-1741626000@gardencreek.nbed.ca
SUMMARY:Library Books to be returned
DESCRIPTION:
URL:https://gardencreek.nbed.ca/calendar/library-books-to-be-returned/2025-03-10/
END:VEVENT
BEGIN:VEVENT
DTSTART;TZID=America/Moncton:20250310T075000
DTEND;TZID=America/Moncton:20250310T143000
DTSTAMP:20260425T074246
CREATED:20250207T172040Z
LAST-MODIFIED:20250207T172042Z
UID:10002898-1741593000-1741617000@gardencreek.nbed.ca
SUMMARY:1st Day Back to School after March Break
DESCRIPTION:
URL:https://gardencreek.nbed.ca/calendar/1st-day-back-to-school-after-march-break/
END:VEVENT
BEGIN:VEVENT
DTSTART;TZID=America/Moncton:20250309T080000
DTEND;TZID=America/Moncton:20250309T170000
DTSTAMP:20260425T074246
CREATED:20250207T185623Z
LAST-MODIFIED:20250207T185625Z
UID:10002941-1741507200-1741539600@gardencreek.nbed.ca
SUMMARY:Daylight Savings Time Begins
DESCRIPTION:
URL:https://gardencreek.nbed.ca/calendar/daylight-savings-time-begins-3/
END:VEVENT
BEGIN:VEVENT
DTSTART;TZID=America/Moncton:20250309T080000
DTEND;TZID=America/Moncton:20250309T170000
DTSTAMP:20260425T074246
CREATED:20240529T132922Z
LAST-MODIFIED:20240529T132925Z
UID:10001234-1741507200-1741539600@gardencreek.nbed.ca
SUMMARY:Library Books to be returned
DESCRIPTION:
URL:https://gardencreek.nbed.ca/calendar/library-books-to-be-returned/2025-03-09/
END:VEVENT
BEGIN:VEVENT
DTSTART;TZID=America/Moncton:20250308T080000
DTEND;TZID=America/Moncton:20250308T170000
DTSTAMP:20260425T074246
CREATED:20240529T132922Z
LAST-MODIFIED:20240529T132925Z
UID:10001233-1741420800-1741453200@gardencreek.nbed.ca
SUMMARY:Library Books to be returned
DESCRIPTION:
URL:https://gardencreek.nbed.ca/calendar/library-books-to-be-returned/2025-03-08/
END:VEVENT
BEGIN:VEVENT
DTSTART;TZID=America/Moncton:20250307T080000
DTEND;TZID=America/Moncton:20250307T170000
DTSTAMP:20260425T074246
CREATED:20240529T132922Z
LAST-MODIFIED:20240529T132925Z
UID:10001232-1741334400-1741366800@gardencreek.nbed.ca
SUMMARY:Library Books to be returned
DESCRIPTION:
URL:https://gardencreek.nbed.ca/calendar/library-books-to-be-returned/2025-03-07/
END:VEVENT
BEGIN:VEVENT
DTSTART;TZID=America/Moncton:20250306T080000
DTEND;TZID=America/Moncton:20250306T170000
DTSTAMP:20260425T074246
CREATED:20240529T132922Z
LAST-MODIFIED:20240529T132925Z
UID:10001231-1741248000-1741280400@gardencreek.nbed.ca
SUMMARY:Library Books to be returned
DESCRIPTION:
URL:https://gardencreek.nbed.ca/calendar/library-books-to-be-returned/2025-03-06/
END:VEVENT
BEGIN:VEVENT
DTSTART;TZID=America/Moncton:20250305T080000
DTEND;TZID=America/Moncton:20250305T170000
DTSTAMP:20260425T074246
CREATED:20240529T132922Z
LAST-MODIFIED:20240529T132925Z
UID:10001230-1741161600-1741194000@gardencreek.nbed.ca
SUMMARY:Library Books to be returned
DESCRIPTION:
URL:https://gardencreek.nbed.ca/calendar/library-books-to-be-returned/2025-03-05/
END:VEVENT
END:VCALENDAR