BEGIN:VCALENDAR
VERSION:2.0
PRODID:-//Garden Creek School - ECPv6.15.20//NONSGML v1.0//EN
CALSCALE:GREGORIAN
METHOD:PUBLISH
X-WR-CALNAME:Garden Creek School
X-ORIGINAL-URL:https://gardencreek.nbed.ca
X-WR-CALDESC:Events for Garden Creek School
REFRESH-INTERVAL;VALUE=DURATION:PT1H
X-Robots-Tag:noindex
X-PUBLISHED-TTL:PT1H
BEGIN:VTIMEZONE
TZID:America/Moncton
BEGIN:DAYLIGHT
TZOFFSETFROM:-0400
TZOFFSETTO:-0300
TZNAME:ADT
DTSTART:20230312T060000
END:DAYLIGHT
BEGIN:STANDARD
TZOFFSETFROM:-0300
TZOFFSETTO:-0400
TZNAME:AST
DTSTART:20231105T050000
END:STANDARD
BEGIN:DAYLIGHT
TZOFFSETFROM:-0400
TZOFFSETTO:-0300
TZNAME:ADT
DTSTART:20240310T060000
END:DAYLIGHT
BEGIN:STANDARD
TZOFFSETFROM:-0300
TZOFFSETTO:-0400
TZNAME:AST
DTSTART:20241103T050000
END:STANDARD
BEGIN:DAYLIGHT
TZOFFSETFROM:-0400
TZOFFSETTO:-0300
TZNAME:ADT
DTSTART:20250309T060000
END:DAYLIGHT
BEGIN:STANDARD
TZOFFSETFROM:-0300
TZOFFSETTO:-0400
TZNAME:AST
DTSTART:20251102T050000
END:STANDARD
BEGIN:DAYLIGHT
TZOFFSETFROM:-0400
TZOFFSETTO:-0300
TZNAME:ADT
DTSTART:20260308T060000
END:DAYLIGHT
BEGIN:STANDARD
TZOFFSETFROM:-0300
TZOFFSETTO:-0400
TZNAME:AST
DTSTART:20261101T050000
END:STANDARD
END:VTIMEZONE
BEGIN:VEVENT
DTSTART;TZID=America/Moncton:20250115T080000
DTEND;TZID=America/Moncton:20250115T170000
DTSTAMP:20260425T152643
CREATED:20240529T132922Z
LAST-MODIFIED:20240529T132925Z
UID:10001181-1736928000-1736960400@gardencreek.nbed.ca
SUMMARY:Library Books to be returned
DESCRIPTION:
URL:https://gardencreek.nbed.ca/calendar/library-books-to-be-returned/2025-01-15/
END:VEVENT
BEGIN:VEVENT
DTSTART;TZID=America/Moncton:20250114T080000
DTEND;TZID=America/Moncton:20250114T170000
DTSTAMP:20260425T152643
CREATED:20240529T132922Z
LAST-MODIFIED:20240529T132925Z
UID:10001180-1736841600-1736874000@gardencreek.nbed.ca
SUMMARY:Library Books to be returned
DESCRIPTION:
URL:https://gardencreek.nbed.ca/calendar/library-books-to-be-returned/2025-01-14/
END:VEVENT
BEGIN:VEVENT
DTSTART;TZID=America/Moncton:20250113T080000
DTEND;TZID=America/Moncton:20250113T170000
DTSTAMP:20260425T152643
CREATED:20240529T132922Z
LAST-MODIFIED:20240529T132925Z
UID:10001179-1736755200-1736787600@gardencreek.nbed.ca
SUMMARY:Library Books to be returned
DESCRIPTION:
URL:https://gardencreek.nbed.ca/calendar/library-books-to-be-returned/2025-01-13/
END:VEVENT
BEGIN:VEVENT
DTSTART;TZID=America/Moncton:20250112T080000
DTEND;TZID=America/Moncton:20250112T170000
DTSTAMP:20260425T152643
CREATED:20240529T132922Z
LAST-MODIFIED:20240529T132925Z
UID:10001178-1736668800-1736701200@gardencreek.nbed.ca
SUMMARY:Library Books to be returned
DESCRIPTION:
URL:https://gardencreek.nbed.ca/calendar/library-books-to-be-returned/2025-01-12/
END:VEVENT
BEGIN:VEVENT
DTSTART;TZID=America/Moncton:20250111T080000
DTEND;TZID=America/Moncton:20250111T170000
DTSTAMP:20260425T152643
CREATED:20240529T132922Z
LAST-MODIFIED:20240529T132925Z
UID:10001177-1736582400-1736614800@gardencreek.nbed.ca
SUMMARY:Library Books to be returned
DESCRIPTION:
URL:https://gardencreek.nbed.ca/calendar/library-books-to-be-returned/2025-01-11/
END:VEVENT
BEGIN:VEVENT
DTSTART;TZID=America/Moncton:20250110T080000
DTEND;TZID=America/Moncton:20250110T170000
DTSTAMP:20260425T152643
CREATED:20240529T132922Z
LAST-MODIFIED:20240529T132925Z
UID:10001176-1736496000-1736528400@gardencreek.nbed.ca
SUMMARY:Library Books to be returned
DESCRIPTION:
URL:https://gardencreek.nbed.ca/calendar/library-books-to-be-returned/2025-01-10/
END:VEVENT
BEGIN:VEVENT
DTSTART;TZID=America/Moncton:20250109T080000
DTEND;TZID=America/Moncton:20250109T170000
DTSTAMP:20260425T152643
CREATED:20240529T132922Z
LAST-MODIFIED:20240529T132925Z
UID:10001175-1736409600-1736442000@gardencreek.nbed.ca
SUMMARY:Library Books to be returned
DESCRIPTION:
URL:https://gardencreek.nbed.ca/calendar/library-books-to-be-returned/2025-01-09/
END:VEVENT
BEGIN:VEVENT
DTSTART;TZID=America/Moncton:20250108T080000
DTEND;TZID=America/Moncton:20250108T170000
DTSTAMP:20260425T152643
CREATED:20240529T132922Z
LAST-MODIFIED:20240529T132925Z
UID:10001174-1736323200-1736355600@gardencreek.nbed.ca
SUMMARY:Library Books to be returned
DESCRIPTION:
URL:https://gardencreek.nbed.ca/calendar/library-books-to-be-returned/2025-01-08/
END:VEVENT
BEGIN:VEVENT
DTSTART;TZID=America/Moncton:20250107T080000
DTEND;TZID=America/Moncton:20250107T170000
DTSTAMP:20260425T152643
CREATED:20240529T132922Z
LAST-MODIFIED:20240529T132925Z
UID:10001173-1736236800-1736269200@gardencreek.nbed.ca
SUMMARY:Library Books to be returned
DESCRIPTION:
URL:https://gardencreek.nbed.ca/calendar/library-books-to-be-returned/2025-01-07/
END:VEVENT
BEGIN:VEVENT
DTSTART;TZID=America/Moncton:20250106T080000
DTEND;TZID=America/Moncton:20250106T170000
DTSTAMP:20260425T152643
CREATED:20240529T132922Z
LAST-MODIFIED:20240529T132925Z
UID:10001172-1736150400-1736182800@gardencreek.nbed.ca
SUMMARY:Library Books to be returned
DESCRIPTION:
URL:https://gardencreek.nbed.ca/calendar/library-books-to-be-returned/2025-01-06/
END:VEVENT
BEGIN:VEVENT
DTSTART;TZID=America/Moncton:20250105T080000
DTEND;TZID=America/Moncton:20250105T170000
DTSTAMP:20260425T152643
CREATED:20240529T132922Z
LAST-MODIFIED:20240529T132925Z
UID:10001171-1736064000-1736096400@gardencreek.nbed.ca
SUMMARY:Library Books to be returned
DESCRIPTION:
URL:https://gardencreek.nbed.ca/calendar/library-books-to-be-returned/2025-01-05/
END:VEVENT
BEGIN:VEVENT
DTSTART;TZID=America/Moncton:20250104T080000
DTEND;TZID=America/Moncton:20250104T170000
DTSTAMP:20260425T152643
CREATED:20240529T132922Z
LAST-MODIFIED:20240529T132925Z
UID:10001170-1735977600-1736010000@gardencreek.nbed.ca
SUMMARY:Library Books to be returned
DESCRIPTION:
URL:https://gardencreek.nbed.ca/calendar/library-books-to-be-returned/2025-01-04/
END:VEVENT
BEGIN:VEVENT
DTSTART;TZID=America/Moncton:20250103T080000
DTEND;TZID=America/Moncton:20250103T170000
DTSTAMP:20260425T152643
CREATED:20240529T132922Z
LAST-MODIFIED:20240529T132925Z
UID:10001169-1735891200-1735923600@gardencreek.nbed.ca
SUMMARY:Library Books to be returned
DESCRIPTION:
URL:https://gardencreek.nbed.ca/calendar/library-books-to-be-returned/2025-01-03/
END:VEVENT
BEGIN:VEVENT
DTSTART;TZID=America/Moncton:20250102T080000
DTEND;TZID=America/Moncton:20250102T170000
DTSTAMP:20260425T152643
CREATED:20240529T132922Z
LAST-MODIFIED:20240529T132925Z
UID:10001168-1735804800-1735837200@gardencreek.nbed.ca
SUMMARY:Library Books to be returned
DESCRIPTION:
URL:https://gardencreek.nbed.ca/calendar/library-books-to-be-returned/2025-01-02/
END:VEVENT
BEGIN:VEVENT
DTSTART;TZID=America/Moncton:20250101T080000
DTEND;TZID=America/Moncton:20250101T170000
DTSTAMP:20260425T152643
CREATED:20240529T132922Z
LAST-MODIFIED:20240529T132925Z
UID:10001167-1735718400-1735750800@gardencreek.nbed.ca
SUMMARY:Library Books to be returned
DESCRIPTION:
URL:https://gardencreek.nbed.ca/calendar/library-books-to-be-returned/2025-01-01/
END:VEVENT
BEGIN:VEVENT
DTSTART;TZID=America/Moncton:20241231T080000
DTEND;TZID=America/Moncton:20241231T170000
DTSTAMP:20260425T152643
CREATED:20240529T132922Z
LAST-MODIFIED:20240529T132925Z
UID:10001166-1735632000-1735664400@gardencreek.nbed.ca
SUMMARY:Library Books to be returned
DESCRIPTION:
URL:https://gardencreek.nbed.ca/calendar/library-books-to-be-returned/2024-12-31/
END:VEVENT
BEGIN:VEVENT
DTSTART;TZID=America/Moncton:20241230T080000
DTEND;TZID=America/Moncton:20241230T170000
DTSTAMP:20260425T152643
CREATED:20240529T132922Z
LAST-MODIFIED:20240529T132925Z
UID:10001165-1735545600-1735578000@gardencreek.nbed.ca
SUMMARY:Library Books to be returned
DESCRIPTION:
URL:https://gardencreek.nbed.ca/calendar/library-books-to-be-returned/2024-12-30/
END:VEVENT
BEGIN:VEVENT
DTSTART;TZID=America/Moncton:20241229T080000
DTEND;TZID=America/Moncton:20241229T170000
DTSTAMP:20260425T152643
CREATED:20240529T132922Z
LAST-MODIFIED:20240529T132925Z
UID:10001164-1735459200-1735491600@gardencreek.nbed.ca
SUMMARY:Library Books to be returned
DESCRIPTION:
URL:https://gardencreek.nbed.ca/calendar/library-books-to-be-returned/2024-12-29/
END:VEVENT
BEGIN:VEVENT
DTSTART;TZID=America/Moncton:20241228T080000
DTEND;TZID=America/Moncton:20241228T170000
DTSTAMP:20260425T152643
CREATED:20240529T132922Z
LAST-MODIFIED:20240529T132925Z
UID:10001163-1735372800-1735405200@gardencreek.nbed.ca
SUMMARY:Library Books to be returned
DESCRIPTION:
URL:https://gardencreek.nbed.ca/calendar/library-books-to-be-returned/2024-12-28/
END:VEVENT
BEGIN:VEVENT
DTSTART;TZID=America/Moncton:20241227T080000
DTEND;TZID=America/Moncton:20241227T170000
DTSTAMP:20260425T152643
CREATED:20240529T132922Z
LAST-MODIFIED:20240529T132925Z
UID:10001162-1735286400-1735318800@gardencreek.nbed.ca
SUMMARY:Library Books to be returned
DESCRIPTION:
URL:https://gardencreek.nbed.ca/calendar/library-books-to-be-returned/2024-12-27/
END:VEVENT
BEGIN:VEVENT
DTSTART;TZID=America/Moncton:20241226T080000
DTEND;TZID=America/Moncton:20241226T170000
DTSTAMP:20260425T152643
CREATED:20240529T132922Z
LAST-MODIFIED:20240529T132925Z
UID:10001161-1735200000-1735232400@gardencreek.nbed.ca
SUMMARY:Library Books to be returned
DESCRIPTION:
URL:https://gardencreek.nbed.ca/calendar/library-books-to-be-returned/2024-12-26/
END:VEVENT
BEGIN:VEVENT
DTSTART;TZID=America/Moncton:20241225T080000
DTEND;TZID=America/Moncton:20241225T170000
DTSTAMP:20260425T152643
CREATED:20240529T132922Z
LAST-MODIFIED:20240529T132925Z
UID:10001160-1735113600-1735146000@gardencreek.nbed.ca
SUMMARY:Library Books to be returned
DESCRIPTION:
URL:https://gardencreek.nbed.ca/calendar/library-books-to-be-returned/2024-12-25/
END:VEVENT
BEGIN:VEVENT
DTSTART;TZID=America/Moncton:20241224T080000
DTEND;TZID=America/Moncton:20241224T170000
DTSTAMP:20260425T152643
CREATED:20240529T132922Z
LAST-MODIFIED:20240529T132925Z
UID:10001159-1735027200-1735059600@gardencreek.nbed.ca
SUMMARY:Library Books to be returned
DESCRIPTION:
URL:https://gardencreek.nbed.ca/calendar/library-books-to-be-returned/2024-12-24/
END:VEVENT
BEGIN:VEVENT
DTSTART;TZID=America/Moncton:20241223T080000
DTEND;TZID=America/Moncton:20241223T170000
DTSTAMP:20260425T152643
CREATED:20240529T132922Z
LAST-MODIFIED:20240529T132925Z
UID:10001158-1734940800-1734973200@gardencreek.nbed.ca
SUMMARY:Library Books to be returned
DESCRIPTION:
URL:https://gardencreek.nbed.ca/calendar/library-books-to-be-returned/2024-12-23/
END:VEVENT
BEGIN:VEVENT
DTSTART;TZID=America/Moncton:20241222T080000
DTEND;TZID=America/Moncton:20241222T170000
DTSTAMP:20260425T152643
CREATED:20240529T132922Z
LAST-MODIFIED:20240529T132925Z
UID:10001157-1734854400-1734886800@gardencreek.nbed.ca
SUMMARY:Library Books to be returned
DESCRIPTION:
URL:https://gardencreek.nbed.ca/calendar/library-books-to-be-returned/2024-12-22/
END:VEVENT
BEGIN:VEVENT
DTSTART;TZID=America/Moncton:20241221T080000
DTEND;TZID=America/Moncton:20241221T170000
DTSTAMP:20260425T152643
CREATED:20240529T132922Z
LAST-MODIFIED:20240529T132925Z
UID:10001156-1734768000-1734800400@gardencreek.nbed.ca
SUMMARY:Library Books to be returned
DESCRIPTION:
URL:https://gardencreek.nbed.ca/calendar/library-books-to-be-returned/2024-12-21/
END:VEVENT
BEGIN:VEVENT
DTSTART;TZID=America/Moncton:20241220T080000
DTEND;TZID=America/Moncton:20241220T170000
DTSTAMP:20260425T152643
CREATED:20240529T132922Z
LAST-MODIFIED:20240529T132925Z
UID:10001155-1734681600-1734714000@gardencreek.nbed.ca
SUMMARY:Library Books to be returned
DESCRIPTION:
URL:https://gardencreek.nbed.ca/calendar/library-books-to-be-returned/2024-12-20/
END:VEVENT
BEGIN:VEVENT
DTSTART;TZID=America/Moncton:20241220T080000
DTEND;TZID=America/Moncton:20241220T143000
DTSTAMP:20260425T152643
CREATED:20241204T180644Z
LAST-MODIFIED:20241204T180645Z
UID:10002850-1734681600-1734705000@gardencreek.nbed.ca
SUMMARY:Last Day of School for the Holidays
DESCRIPTION:
URL:https://gardencreek.nbed.ca/calendar/last-day-of-school-for-the-holidays/
END:VEVENT
BEGIN:VEVENT
DTSTART;TZID=America/Moncton:20241219T090000
DTEND;TZID=America/Moncton:20241219T120000
DTSTAMP:20260425T152643
CREATED:20241204T180254Z
LAST-MODIFIED:20241204T180255Z
UID:10002847-1734598800-1734609600@gardencreek.nbed.ca
SUMMARY:Holiday Concert-Snow Date
DESCRIPTION:
URL:https://gardencreek.nbed.ca/calendar/holiday-concert-snow-date-3/
END:VEVENT
BEGIN:VEVENT
DTSTART;TZID=America/Moncton:20241219T080000
DTEND;TZID=America/Moncton:20241219T170000
DTSTAMP:20260425T152643
CREATED:20240529T132922Z
LAST-MODIFIED:20240529T132925Z
UID:10001154-1734595200-1734627600@gardencreek.nbed.ca
SUMMARY:Library Books to be returned
DESCRIPTION:
URL:https://gardencreek.nbed.ca/calendar/library-books-to-be-returned/2024-12-19/
END:VEVENT
END:VCALENDAR