BEGIN:VCALENDAR
VERSION:2.0
PRODID:-//Garden Creek School - ECPv6.15.20//NONSGML v1.0//EN
CALSCALE:GREGORIAN
METHOD:PUBLISH
X-WR-CALNAME:Garden Creek School
X-ORIGINAL-URL:https://gardencreek.nbed.ca
X-WR-CALDESC:Events for Garden Creek School
REFRESH-INTERVAL;VALUE=DURATION:PT1H
X-Robots-Tag:noindex
X-PUBLISHED-TTL:PT1H
BEGIN:VTIMEZONE
TZID:America/Moncton
BEGIN:DAYLIGHT
TZOFFSETFROM:-0400
TZOFFSETTO:-0300
TZNAME:ADT
DTSTART:20240310T060000
END:DAYLIGHT
BEGIN:STANDARD
TZOFFSETFROM:-0300
TZOFFSETTO:-0400
TZNAME:AST
DTSTART:20241103T050000
END:STANDARD
BEGIN:DAYLIGHT
TZOFFSETFROM:-0400
TZOFFSETTO:-0300
TZNAME:ADT
DTSTART:20250309T060000
END:DAYLIGHT
BEGIN:STANDARD
TZOFFSETFROM:-0300
TZOFFSETTO:-0400
TZNAME:AST
DTSTART:20251102T050000
END:STANDARD
BEGIN:DAYLIGHT
TZOFFSETFROM:-0400
TZOFFSETTO:-0300
TZNAME:ADT
DTSTART:20260308T060000
END:DAYLIGHT
BEGIN:STANDARD
TZOFFSETFROM:-0300
TZOFFSETTO:-0400
TZNAME:AST
DTSTART:20261101T050000
END:STANDARD
END:VTIMEZONE
BEGIN:VEVENT
DTSTART;TZID=America/Moncton:20250414T122500
DTEND;TZID=America/Moncton:20250414T124500
DTSTAMP:20260425T123909
CREATED:20250207T172322Z
LAST-MODIFIED:20250207T173020Z
UID:10002903-1744633500-1744634700@gardencreek.nbed.ca
SUMMARY:Monday barBurrito Hot Lunch (R5)
DESCRIPTION:
URL:https://gardencreek.nbed.ca/calendar/barburrito-hot-lunch/2025-04-14/
END:VEVENT
BEGIN:VEVENT
DTSTART;TZID=America/Moncton:20250414T080000
DTEND;TZID=America/Moncton:20250414T170000
DTSTAMP:20260425T123909
CREATED:20240529T132922Z
LAST-MODIFIED:20240529T132925Z
UID:10001270-1744617600-1744650000@gardencreek.nbed.ca
SUMMARY:Library Books to be returned
DESCRIPTION:
URL:https://gardencreek.nbed.ca/calendar/library-books-to-be-returned/2025-04-14/
END:VEVENT
BEGIN:VEVENT
DTSTART;TZID=America/Moncton:20250413T080000
DTEND;TZID=America/Moncton:20250413T170000
DTSTAMP:20260425T123909
CREATED:20240529T132922Z
LAST-MODIFIED:20240529T132925Z
UID:10001269-1744531200-1744563600@gardencreek.nbed.ca
SUMMARY:Library Books to be returned
DESCRIPTION:
URL:https://gardencreek.nbed.ca/calendar/library-books-to-be-returned/2025-04-13/
END:VEVENT
BEGIN:VEVENT
DTSTART;TZID=America/Moncton:20250412T080000
DTEND;TZID=America/Moncton:20250412T170000
DTSTAMP:20260425T123909
CREATED:20240529T132922Z
LAST-MODIFIED:20240529T132925Z
UID:10001268-1744444800-1744477200@gardencreek.nbed.ca
SUMMARY:Library Books to be returned
DESCRIPTION:
URL:https://gardencreek.nbed.ca/calendar/library-books-to-be-returned/2025-04-12/
END:VEVENT
BEGIN:VEVENT
DTSTART;TZID=America/Moncton:20250411T080000
DTEND;TZID=America/Moncton:20250411T170000
DTSTAMP:20260425T123909
CREATED:20240529T132922Z
LAST-MODIFIED:20240529T132925Z
UID:10001267-1744358400-1744390800@gardencreek.nbed.ca
SUMMARY:Library Books to be returned
DESCRIPTION:
URL:https://gardencreek.nbed.ca/calendar/library-books-to-be-returned/2025-04-11/
END:VEVENT
BEGIN:VEVENT
DTSTART;TZID=America/Moncton:20250410T122500
DTEND;TZID=America/Moncton:20250410T124500
DTSTAMP:20260425T123909
CREATED:20250207T174940Z
LAST-MODIFIED:20250207T174941Z
UID:10002935-1744287900-1744289100@gardencreek.nbed.ca
SUMMARY:Thursday Mary Browns Hot Lunch (R5)
DESCRIPTION:
URL:https://gardencreek.nbed.ca/calendar/thursday-mary-browns-hot-lunch-r5/2025-04-10/
CATEGORIES:Food
END:VEVENT
BEGIN:VEVENT
DTSTART;TZID=America/Moncton:20250410T080000
DTEND;TZID=America/Moncton:20250410T170000
DTSTAMP:20260425T123909
CREATED:20250131T155331Z
LAST-MODIFIED:20250131T155333Z
UID:10002886-1744272000-1744304400@gardencreek.nbed.ca
SUMMARY:Thursday Mary Browns Hot Lunch
DESCRIPTION:
URL:https://gardencreek.nbed.ca/calendar/thursday-mary-browns-hot-lunch/2025-04-10/
END:VEVENT
BEGIN:VEVENT
DTSTART;TZID=America/Moncton:20250410T080000
DTEND;TZID=America/Moncton:20250410T170000
DTSTAMP:20260425T123909
CREATED:20240529T132922Z
LAST-MODIFIED:20240529T132925Z
UID:10001266-1744272000-1744304400@gardencreek.nbed.ca
SUMMARY:Library Books to be returned
DESCRIPTION:
URL:https://gardencreek.nbed.ca/calendar/library-books-to-be-returned/2025-04-10/
END:VEVENT
BEGIN:VEVENT
DTSTART;TZID=America/Moncton:20250409T080000
DTEND;TZID=America/Moncton:20250409T170000
DTSTAMP:20260425T123909
CREATED:20240529T132922Z
LAST-MODIFIED:20240529T132925Z
UID:10001265-1744185600-1744218000@gardencreek.nbed.ca
SUMMARY:Library Books to be returned
DESCRIPTION:
URL:https://gardencreek.nbed.ca/calendar/library-books-to-be-returned/2025-04-09/
END:VEVENT
BEGIN:VEVENT
DTSTART;TZID=America/Moncton:20250408T143500
DTEND;TZID=America/Moncton:20250408T153500
DTSTAMP:20260425T123909
CREATED:20250219T180741Z
LAST-MODIFIED:20250219T180742Z
UID:10002945-1744122900-1744126500@gardencreek.nbed.ca
SUMMARY:Start of Snapology
DESCRIPTION:
URL:https://gardencreek.nbed.ca/calendar/start-of-snapology/2025-04-08/
CATEGORIES:Extracurricular
END:VEVENT
BEGIN:VEVENT
DTSTART;TZID=America/Moncton:20250408T122500
DTEND;TZID=America/Moncton:20250408T124500
DTSTAMP:20260425T123909
CREATED:20250207T174745Z
LAST-MODIFIED:20250207T174746Z
UID:10002929-1744115100-1744116300@gardencreek.nbed.ca
SUMMARY:Tuesday Pizza Pizza Hot Lunch (R5)
DESCRIPTION:
URL:https://gardencreek.nbed.ca/calendar/tuesday-pizza-pizza-hot-lunch-r5/2025-04-08/
END:VEVENT
BEGIN:VEVENT
DTSTART;TZID=America/Moncton:20250408T080000
DTEND;TZID=America/Moncton:20250408T170000
DTSTAMP:20260425T123910
CREATED:20240529T132922Z
LAST-MODIFIED:20240529T132925Z
UID:10001264-1744099200-1744131600@gardencreek.nbed.ca
SUMMARY:Library Books to be returned
DESCRIPTION:
URL:https://gardencreek.nbed.ca/calendar/library-books-to-be-returned/2025-04-08/
END:VEVENT
BEGIN:VEVENT
DTSTART;TZID=America/Moncton:20250407T122500
DTEND;TZID=America/Moncton:20250407T124500
DTSTAMP:20260425T123910
CREATED:20250207T172322Z
LAST-MODIFIED:20250207T173020Z
UID:10002902-1744028700-1744029900@gardencreek.nbed.ca
SUMMARY:Monday barBurrito Hot Lunch (R5)
DESCRIPTION:
URL:https://gardencreek.nbed.ca/calendar/barburrito-hot-lunch/2025-04-07/
END:VEVENT
BEGIN:VEVENT
DTSTART;TZID=America/Moncton:20250407T080000
DTEND;TZID=America/Moncton:20250407T170000
DTSTAMP:20260425T123910
CREATED:20240529T132922Z
LAST-MODIFIED:20240529T132925Z
UID:10001263-1744012800-1744045200@gardencreek.nbed.ca
SUMMARY:Library Books to be returned
DESCRIPTION:
URL:https://gardencreek.nbed.ca/calendar/library-books-to-be-returned/2025-04-07/
END:VEVENT
BEGIN:VEVENT
DTSTART;TZID=America/Moncton:20250406T080000
DTEND;TZID=America/Moncton:20250406T170000
DTSTAMP:20260425T123910
CREATED:20240529T132922Z
LAST-MODIFIED:20240529T132925Z
UID:10001262-1743926400-1743958800@gardencreek.nbed.ca
SUMMARY:Library Books to be returned
DESCRIPTION:
URL:https://gardencreek.nbed.ca/calendar/library-books-to-be-returned/2025-04-06/
END:VEVENT
BEGIN:VEVENT
DTSTART;TZID=America/Moncton:20250405T080000
DTEND;TZID=America/Moncton:20250405T170000
DTSTAMP:20260425T123910
CREATED:20240529T132922Z
LAST-MODIFIED:20240529T132925Z
UID:10001261-1743840000-1743872400@gardencreek.nbed.ca
SUMMARY:Library Books to be returned
DESCRIPTION:
URL:https://gardencreek.nbed.ca/calendar/library-books-to-be-returned/2025-04-05/
END:VEVENT
BEGIN:VEVENT
DTSTART;TZID=America/Moncton:20250404T122500
DTEND;TZID=America/Moncton:20250404T124500
DTSTAMP:20260425T123910
CREATED:20250207T175230Z
LAST-MODIFIED:20250207T175232Z
UID:10002939-1743769500-1743770700@gardencreek.nbed.ca
SUMMARY:Friday Porters Hot Lunch (R5)
DESCRIPTION:
URL:https://gardencreek.nbed.ca/calendar/friday-porters-hot-lunch-r5-2/
CATEGORIES:Food
END:VEVENT
BEGIN:VEVENT
DTSTART;TZID=America/Moncton:20250404T080000
DTEND;TZID=America/Moncton:20250404T170000
DTSTAMP:20260425T123910
CREATED:20240529T132922Z
LAST-MODIFIED:20240529T132925Z
UID:10001260-1743753600-1743786000@gardencreek.nbed.ca
SUMMARY:Library Books to be returned
DESCRIPTION:
URL:https://gardencreek.nbed.ca/calendar/library-books-to-be-returned/2025-04-04/
END:VEVENT
BEGIN:VEVENT
DTSTART;TZID=America/Moncton:20250403T122500
DTEND;TZID=America/Moncton:20250403T124500
DTSTAMP:20260425T123910
CREATED:20250207T174940Z
LAST-MODIFIED:20250207T174941Z
UID:10002934-1743683100-1743684300@gardencreek.nbed.ca
SUMMARY:Thursday Mary Browns Hot Lunch (R5)
DESCRIPTION:
URL:https://gardencreek.nbed.ca/calendar/thursday-mary-browns-hot-lunch-r5/2025-04-03/
CATEGORIES:Food
END:VEVENT
BEGIN:VEVENT
DTSTART;TZID=America/Moncton:20250403T080000
DTEND;TZID=America/Moncton:20250403T170000
DTSTAMP:20260425T123910
CREATED:20250131T155331Z
LAST-MODIFIED:20250131T155333Z
UID:10002885-1743667200-1743699600@gardencreek.nbed.ca
SUMMARY:Thursday Mary Browns Hot Lunch
DESCRIPTION:
URL:https://gardencreek.nbed.ca/calendar/thursday-mary-browns-hot-lunch/2025-04-03/
END:VEVENT
BEGIN:VEVENT
DTSTART;TZID=America/Moncton:20250403T080000
DTEND;TZID=America/Moncton:20250403T170000
DTSTAMP:20260425T123910
CREATED:20240529T132922Z
LAST-MODIFIED:20240529T132925Z
UID:10001259-1743667200-1743699600@gardencreek.nbed.ca
SUMMARY:Library Books to be returned
DESCRIPTION:
URL:https://gardencreek.nbed.ca/calendar/library-books-to-be-returned/2025-04-03/
END:VEVENT
BEGIN:VEVENT
DTSTART;TZID=America/Moncton:20250402T080000
DTEND;TZID=America/Moncton:20250402T170000
DTSTAMP:20260425T123910
CREATED:20240529T132922Z
LAST-MODIFIED:20240529T132925Z
UID:10001258-1743580800-1743613200@gardencreek.nbed.ca
SUMMARY:Library Books to be returned
DESCRIPTION:
URL:https://gardencreek.nbed.ca/calendar/library-books-to-be-returned/2025-04-02/
END:VEVENT
BEGIN:VEVENT
DTSTART;TZID=America/Moncton:20250401T143500
DTEND;TZID=America/Moncton:20250401T153500
DTSTAMP:20260425T123910
CREATED:20250219T180741Z
LAST-MODIFIED:20250219T180742Z
UID:10002944-1743518100-1743521700@gardencreek.nbed.ca
SUMMARY:Start of Snapology
DESCRIPTION:
URL:https://gardencreek.nbed.ca/calendar/start-of-snapology/2025-04-01/
CATEGORIES:Extracurricular
END:VEVENT
BEGIN:VEVENT
DTSTART;TZID=America/Moncton:20250401T122500
DTEND;TZID=America/Moncton:20250401T124500
DTSTAMP:20260425T123910
CREATED:20250207T174745Z
LAST-MODIFIED:20250207T174746Z
UID:10002928-1743510300-1743511500@gardencreek.nbed.ca
SUMMARY:Tuesday Pizza Pizza Hot Lunch (R5)
DESCRIPTION:
URL:https://gardencreek.nbed.ca/calendar/tuesday-pizza-pizza-hot-lunch-r5/2025-04-01/
END:VEVENT
BEGIN:VEVENT
DTSTART;TZID=America/Moncton:20250401T080000
DTEND;TZID=America/Moncton:20250401T170000
DTSTAMP:20260425T123910
CREATED:20240529T132922Z
LAST-MODIFIED:20240529T132925Z
UID:10001257-1743494400-1743526800@gardencreek.nbed.ca
SUMMARY:Library Books to be returned
DESCRIPTION:
URL:https://gardencreek.nbed.ca/calendar/library-books-to-be-returned/2025-04-01/
END:VEVENT
BEGIN:VEVENT
DTSTART;TZID=America/Moncton:20250331T122500
DTEND;TZID=America/Moncton:20250331T124500
DTSTAMP:20260425T123910
CREATED:20250207T172322Z
LAST-MODIFIED:20250207T173020Z
UID:10002901-1743423900-1743425100@gardencreek.nbed.ca
SUMMARY:Monday barBurrito Hot Lunch (R5)
DESCRIPTION:
URL:https://gardencreek.nbed.ca/calendar/barburrito-hot-lunch/2025-03-31/
END:VEVENT
BEGIN:VEVENT
DTSTART;TZID=America/Moncton:20250331T080000
DTEND;TZID=America/Moncton:20250331T170000
DTSTAMP:20260425T123910
CREATED:20240529T132922Z
LAST-MODIFIED:20240529T132925Z
UID:10001256-1743408000-1743440400@gardencreek.nbed.ca
SUMMARY:Library Books to be returned
DESCRIPTION:
URL:https://gardencreek.nbed.ca/calendar/library-books-to-be-returned/2025-03-31/
END:VEVENT
BEGIN:VEVENT
DTSTART;TZID=America/Moncton:20250330T080000
DTEND;TZID=America/Moncton:20250330T170000
DTSTAMP:20260425T123910
CREATED:20240529T132922Z
LAST-MODIFIED:20240529T132925Z
UID:10001255-1743321600-1743354000@gardencreek.nbed.ca
SUMMARY:Library Books to be returned
DESCRIPTION:
URL:https://gardencreek.nbed.ca/calendar/library-books-to-be-returned/2025-03-30/
END:VEVENT
BEGIN:VEVENT
DTSTART;TZID=America/Moncton:20250329T080000
DTEND;TZID=America/Moncton:20250329T170000
DTSTAMP:20260425T123910
CREATED:20240529T132922Z
LAST-MODIFIED:20240529T132925Z
UID:10001254-1743235200-1743267600@gardencreek.nbed.ca
SUMMARY:Library Books to be returned
DESCRIPTION:
URL:https://gardencreek.nbed.ca/calendar/library-books-to-be-returned/2025-03-29/
END:VEVENT
BEGIN:VEVENT
DTSTART;TZID=America/Moncton:20250328T080000
DTEND;TZID=America/Moncton:20250328T170000
DTSTAMP:20260425T123910
CREATED:20240529T132922Z
LAST-MODIFIED:20240529T132925Z
UID:10001253-1743148800-1743181200@gardencreek.nbed.ca
SUMMARY:Library Books to be returned
DESCRIPTION:
URL:https://gardencreek.nbed.ca/calendar/library-books-to-be-returned/2025-03-28/
END:VEVENT
END:VCALENDAR