BEGIN:VCALENDAR
VERSION:2.0
PRODID:-//Garden Creek School - ECPv6.15.20//NONSGML v1.0//EN
CALSCALE:GREGORIAN
METHOD:PUBLISH
X-WR-CALNAME:Garden Creek School
X-ORIGINAL-URL:https://gardencreek.nbed.ca
X-WR-CALDESC:Events for Garden Creek School
REFRESH-INTERVAL;VALUE=DURATION:PT1H
X-Robots-Tag:noindex
X-PUBLISHED-TTL:PT1H
BEGIN:VTIMEZONE
TZID:America/Moncton
BEGIN:DAYLIGHT
TZOFFSETFROM:-0400
TZOFFSETTO:-0300
TZNAME:ADT
DTSTART:20260308T060000
END:DAYLIGHT
BEGIN:STANDARD
TZOFFSETFROM:-0300
TZOFFSETTO:-0400
TZNAME:AST
DTSTART:20261101T050000
END:STANDARD
BEGIN:DAYLIGHT
TZOFFSETFROM:-0400
TZOFFSETTO:-0300
TZNAME:ADT
DTSTART:20270314T060000
END:DAYLIGHT
BEGIN:STANDARD
TZOFFSETFROM:-0300
TZOFFSETTO:-0400
TZNAME:AST
DTSTART:20271107T050000
END:STANDARD
BEGIN:DAYLIGHT
TZOFFSETFROM:-0400
TZOFFSETTO:-0300
TZNAME:ADT
DTSTART:20280312T060000
END:DAYLIGHT
BEGIN:STANDARD
TZOFFSETFROM:-0300
TZOFFSETTO:-0400
TZNAME:AST
DTSTART:20281105T050000
END:STANDARD
END:VTIMEZONE
BEGIN:VEVENT
DTSTART;TZID=America/Moncton:20270925T080000
DTEND;TZID=America/Moncton:20270925T170000
DTSTAMP:20260425T134044
CREATED:20240529T132922Z
LAST-MODIFIED:20240529T132925Z
UID:10002164-1821859200-1821891600@gardencreek.nbed.ca
SUMMARY:Library Books to be returned
DESCRIPTION:
URL:https://gardencreek.nbed.ca/calendar/library-books-to-be-returned/2027-09-25/
END:VEVENT
BEGIN:VEVENT
DTSTART;TZID=America/Moncton:20270926T080000
DTEND;TZID=America/Moncton:20270926T170000
DTSTAMP:20260425T134044
CREATED:20240529T132922Z
LAST-MODIFIED:20240529T132925Z
UID:10002165-1821945600-1821978000@gardencreek.nbed.ca
SUMMARY:Library Books to be returned
DESCRIPTION:
URL:https://gardencreek.nbed.ca/calendar/library-books-to-be-returned/2027-09-26/
END:VEVENT
BEGIN:VEVENT
DTSTART;TZID=America/Moncton:20270927T080000
DTEND;TZID=America/Moncton:20270927T170000
DTSTAMP:20260425T134044
CREATED:20240529T132922Z
LAST-MODIFIED:20240529T132925Z
UID:10002166-1822032000-1822064400@gardencreek.nbed.ca
SUMMARY:Library Books to be returned
DESCRIPTION:
URL:https://gardencreek.nbed.ca/calendar/library-books-to-be-returned/2027-09-27/
END:VEVENT
BEGIN:VEVENT
DTSTART;TZID=America/Moncton:20270928T080000
DTEND;TZID=America/Moncton:20270928T170000
DTSTAMP:20260425T134044
CREATED:20240529T132922Z
LAST-MODIFIED:20240529T132925Z
UID:10002167-1822118400-1822150800@gardencreek.nbed.ca
SUMMARY:Library Books to be returned
DESCRIPTION:
URL:https://gardencreek.nbed.ca/calendar/library-books-to-be-returned/2027-09-28/
END:VEVENT
BEGIN:VEVENT
DTSTART;TZID=America/Moncton:20270929T080000
DTEND;TZID=America/Moncton:20270929T170000
DTSTAMP:20260425T134044
CREATED:20240529T132922Z
LAST-MODIFIED:20240529T132925Z
UID:10002168-1822204800-1822237200@gardencreek.nbed.ca
SUMMARY:Library Books to be returned
DESCRIPTION:
URL:https://gardencreek.nbed.ca/calendar/library-books-to-be-returned/2027-09-29/
END:VEVENT
BEGIN:VEVENT
DTSTART;TZID=America/Moncton:20270930T080000
DTEND;TZID=America/Moncton:20270930T170000
DTSTAMP:20260425T134044
CREATED:20240529T132922Z
LAST-MODIFIED:20240529T132925Z
UID:10002169-1822291200-1822323600@gardencreek.nbed.ca
SUMMARY:Library Books to be returned
DESCRIPTION:
URL:https://gardencreek.nbed.ca/calendar/library-books-to-be-returned/2027-09-30/
END:VEVENT
BEGIN:VEVENT
DTSTART;TZID=America/Moncton:20271001T080000
DTEND;TZID=America/Moncton:20271001T170000
DTSTAMP:20260425T134044
CREATED:20240529T132922Z
LAST-MODIFIED:20240529T132925Z
UID:10002170-1822377600-1822410000@gardencreek.nbed.ca
SUMMARY:Library Books to be returned
DESCRIPTION:
URL:https://gardencreek.nbed.ca/calendar/library-books-to-be-returned/2027-10-01/
END:VEVENT
BEGIN:VEVENT
DTSTART;TZID=America/Moncton:20271002T080000
DTEND;TZID=America/Moncton:20271002T170000
DTSTAMP:20260425T134044
CREATED:20240529T132922Z
LAST-MODIFIED:20240529T132925Z
UID:10002171-1822464000-1822496400@gardencreek.nbed.ca
SUMMARY:Library Books to be returned
DESCRIPTION:
URL:https://gardencreek.nbed.ca/calendar/library-books-to-be-returned/2027-10-02/
END:VEVENT
BEGIN:VEVENT
DTSTART;TZID=America/Moncton:20271003T080000
DTEND;TZID=America/Moncton:20271003T170000
DTSTAMP:20260425T134044
CREATED:20240529T132922Z
LAST-MODIFIED:20240529T132925Z
UID:10002172-1822550400-1822582800@gardencreek.nbed.ca
SUMMARY:Library Books to be returned
DESCRIPTION:
URL:https://gardencreek.nbed.ca/calendar/library-books-to-be-returned/2027-10-03/
END:VEVENT
BEGIN:VEVENT
DTSTART;TZID=America/Moncton:20271004T080000
DTEND;TZID=America/Moncton:20271004T170000
DTSTAMP:20260425T134044
CREATED:20240529T132922Z
LAST-MODIFIED:20240529T132925Z
UID:10002173-1822636800-1822669200@gardencreek.nbed.ca
SUMMARY:Library Books to be returned
DESCRIPTION:
URL:https://gardencreek.nbed.ca/calendar/library-books-to-be-returned/2027-10-04/
END:VEVENT
BEGIN:VEVENT
DTSTART;TZID=America/Moncton:20271005T080000
DTEND;TZID=America/Moncton:20271005T170000
DTSTAMP:20260425T134044
CREATED:20240529T132922Z
LAST-MODIFIED:20240529T132925Z
UID:10002174-1822723200-1822755600@gardencreek.nbed.ca
SUMMARY:Library Books to be returned
DESCRIPTION:
URL:https://gardencreek.nbed.ca/calendar/library-books-to-be-returned/2027-10-05/
END:VEVENT
BEGIN:VEVENT
DTSTART;TZID=America/Moncton:20271006T080000
DTEND;TZID=America/Moncton:20271006T170000
DTSTAMP:20260425T134044
CREATED:20240529T132922Z
LAST-MODIFIED:20240529T132925Z
UID:10002175-1822809600-1822842000@gardencreek.nbed.ca
SUMMARY:Library Books to be returned
DESCRIPTION:
URL:https://gardencreek.nbed.ca/calendar/library-books-to-be-returned/2027-10-06/
END:VEVENT
BEGIN:VEVENT
DTSTART;TZID=America/Moncton:20271007T080000
DTEND;TZID=America/Moncton:20271007T170000
DTSTAMP:20260425T134044
CREATED:20240529T132922Z
LAST-MODIFIED:20240529T132925Z
UID:10002176-1822896000-1822928400@gardencreek.nbed.ca
SUMMARY:Library Books to be returned
DESCRIPTION:
URL:https://gardencreek.nbed.ca/calendar/library-books-to-be-returned/2027-10-07/
END:VEVENT
BEGIN:VEVENT
DTSTART;TZID=America/Moncton:20271008T080000
DTEND;TZID=America/Moncton:20271008T170000
DTSTAMP:20260425T134044
CREATED:20240529T132922Z
LAST-MODIFIED:20240529T132925Z
UID:10002177-1822982400-1823014800@gardencreek.nbed.ca
SUMMARY:Library Books to be returned
DESCRIPTION:
URL:https://gardencreek.nbed.ca/calendar/library-books-to-be-returned/2027-10-08/
END:VEVENT
BEGIN:VEVENT
DTSTART;TZID=America/Moncton:20271009T080000
DTEND;TZID=America/Moncton:20271009T170000
DTSTAMP:20260425T134044
CREATED:20240529T132922Z
LAST-MODIFIED:20240529T132925Z
UID:10002178-1823068800-1823101200@gardencreek.nbed.ca
SUMMARY:Library Books to be returned
DESCRIPTION:
URL:https://gardencreek.nbed.ca/calendar/library-books-to-be-returned/2027-10-09/
END:VEVENT
BEGIN:VEVENT
DTSTART;TZID=America/Moncton:20271010T080000
DTEND;TZID=America/Moncton:20271010T170000
DTSTAMP:20260425T134044
CREATED:20240529T132922Z
LAST-MODIFIED:20240529T132925Z
UID:10002179-1823155200-1823187600@gardencreek.nbed.ca
SUMMARY:Library Books to be returned
DESCRIPTION:
URL:https://gardencreek.nbed.ca/calendar/library-books-to-be-returned/2027-10-10/
END:VEVENT
BEGIN:VEVENT
DTSTART;TZID=America/Moncton:20271011T080000
DTEND;TZID=America/Moncton:20271011T170000
DTSTAMP:20260425T134044
CREATED:20240529T132922Z
LAST-MODIFIED:20240529T132925Z
UID:10002180-1823241600-1823274000@gardencreek.nbed.ca
SUMMARY:Library Books to be returned
DESCRIPTION:
URL:https://gardencreek.nbed.ca/calendar/library-books-to-be-returned/2027-10-11/
END:VEVENT
BEGIN:VEVENT
DTSTART;TZID=America/Moncton:20271012T080000
DTEND;TZID=America/Moncton:20271012T170000
DTSTAMP:20260425T134044
CREATED:20240529T132922Z
LAST-MODIFIED:20240529T132925Z
UID:10002181-1823328000-1823360400@gardencreek.nbed.ca
SUMMARY:Library Books to be returned
DESCRIPTION:
URL:https://gardencreek.nbed.ca/calendar/library-books-to-be-returned/2027-10-12/
END:VEVENT
BEGIN:VEVENT
DTSTART;TZID=America/Moncton:20271013T080000
DTEND;TZID=America/Moncton:20271013T170000
DTSTAMP:20260425T134044
CREATED:20240529T132922Z
LAST-MODIFIED:20240529T132925Z
UID:10002182-1823414400-1823446800@gardencreek.nbed.ca
SUMMARY:Library Books to be returned
DESCRIPTION:
URL:https://gardencreek.nbed.ca/calendar/library-books-to-be-returned/2027-10-13/
END:VEVENT
BEGIN:VEVENT
DTSTART;TZID=America/Moncton:20271014T080000
DTEND;TZID=America/Moncton:20271014T170000
DTSTAMP:20260425T134044
CREATED:20240529T132922Z
LAST-MODIFIED:20240529T132925Z
UID:10002183-1823500800-1823533200@gardencreek.nbed.ca
SUMMARY:Library Books to be returned
DESCRIPTION:
URL:https://gardencreek.nbed.ca/calendar/library-books-to-be-returned/2027-10-14/
END:VEVENT
BEGIN:VEVENT
DTSTART;TZID=America/Moncton:20271015T080000
DTEND;TZID=America/Moncton:20271015T170000
DTSTAMP:20260425T134044
CREATED:20240529T132922Z
LAST-MODIFIED:20240529T132925Z
UID:10002184-1823587200-1823619600@gardencreek.nbed.ca
SUMMARY:Library Books to be returned
DESCRIPTION:
URL:https://gardencreek.nbed.ca/calendar/library-books-to-be-returned/2027-10-15/
END:VEVENT
BEGIN:VEVENT
DTSTART;TZID=America/Moncton:20271016T080000
DTEND;TZID=America/Moncton:20271016T170000
DTSTAMP:20260425T134044
CREATED:20240529T132922Z
LAST-MODIFIED:20240529T132925Z
UID:10002185-1823673600-1823706000@gardencreek.nbed.ca
SUMMARY:Library Books to be returned
DESCRIPTION:
URL:https://gardencreek.nbed.ca/calendar/library-books-to-be-returned/2027-10-16/
END:VEVENT
BEGIN:VEVENT
DTSTART;TZID=America/Moncton:20271017T080000
DTEND;TZID=America/Moncton:20271017T170000
DTSTAMP:20260425T134044
CREATED:20240529T132922Z
LAST-MODIFIED:20240529T132925Z
UID:10002186-1823760000-1823792400@gardencreek.nbed.ca
SUMMARY:Library Books to be returned
DESCRIPTION:
URL:https://gardencreek.nbed.ca/calendar/library-books-to-be-returned/2027-10-17/
END:VEVENT
BEGIN:VEVENT
DTSTART;TZID=America/Moncton:20271018T080000
DTEND;TZID=America/Moncton:20271018T170000
DTSTAMP:20260425T134044
CREATED:20240529T132922Z
LAST-MODIFIED:20240529T132925Z
UID:10002187-1823846400-1823878800@gardencreek.nbed.ca
SUMMARY:Library Books to be returned
DESCRIPTION:
URL:https://gardencreek.nbed.ca/calendar/library-books-to-be-returned/2027-10-18/
END:VEVENT
BEGIN:VEVENT
DTSTART;TZID=America/Moncton:20271019T080000
DTEND;TZID=America/Moncton:20271019T170000
DTSTAMP:20260425T134044
CREATED:20240529T132922Z
LAST-MODIFIED:20240529T132925Z
UID:10002188-1823932800-1823965200@gardencreek.nbed.ca
SUMMARY:Library Books to be returned
DESCRIPTION:
URL:https://gardencreek.nbed.ca/calendar/library-books-to-be-returned/2027-10-19/
END:VEVENT
BEGIN:VEVENT
DTSTART;TZID=America/Moncton:20271020T080000
DTEND;TZID=America/Moncton:20271020T170000
DTSTAMP:20260425T134044
CREATED:20240529T132922Z
LAST-MODIFIED:20240529T132925Z
UID:10002189-1824019200-1824051600@gardencreek.nbed.ca
SUMMARY:Library Books to be returned
DESCRIPTION:
URL:https://gardencreek.nbed.ca/calendar/library-books-to-be-returned/2027-10-20/
END:VEVENT
BEGIN:VEVENT
DTSTART;TZID=America/Moncton:20271021T080000
DTEND;TZID=America/Moncton:20271021T170000
DTSTAMP:20260425T134044
CREATED:20240529T132922Z
LAST-MODIFIED:20240529T132925Z
UID:10002190-1824105600-1824138000@gardencreek.nbed.ca
SUMMARY:Library Books to be returned
DESCRIPTION:
URL:https://gardencreek.nbed.ca/calendar/library-books-to-be-returned/2027-10-21/
END:VEVENT
BEGIN:VEVENT
DTSTART;TZID=America/Moncton:20271022T080000
DTEND;TZID=America/Moncton:20271022T170000
DTSTAMP:20260425T134044
CREATED:20240529T132922Z
LAST-MODIFIED:20240529T132925Z
UID:10002191-1824192000-1824224400@gardencreek.nbed.ca
SUMMARY:Library Books to be returned
DESCRIPTION:
URL:https://gardencreek.nbed.ca/calendar/library-books-to-be-returned/2027-10-22/
END:VEVENT
BEGIN:VEVENT
DTSTART;TZID=America/Moncton:20271023T080000
DTEND;TZID=America/Moncton:20271023T170000
DTSTAMP:20260425T134044
CREATED:20240529T132922Z
LAST-MODIFIED:20240529T132925Z
UID:10002192-1824278400-1824310800@gardencreek.nbed.ca
SUMMARY:Library Books to be returned
DESCRIPTION:
URL:https://gardencreek.nbed.ca/calendar/library-books-to-be-returned/2027-10-23/
END:VEVENT
BEGIN:VEVENT
DTSTART;TZID=America/Moncton:20271024T080000
DTEND;TZID=America/Moncton:20271024T170000
DTSTAMP:20260425T134044
CREATED:20240529T132922Z
LAST-MODIFIED:20240529T132925Z
UID:10002193-1824364800-1824397200@gardencreek.nbed.ca
SUMMARY:Library Books to be returned
DESCRIPTION:
URL:https://gardencreek.nbed.ca/calendar/library-books-to-be-returned/2027-10-24/
END:VEVENT
END:VCALENDAR