BEGIN:VCALENDAR
VERSION:2.0
PRODID:-//Garden Creek School - ECPv6.15.20//NONSGML v1.0//EN
CALSCALE:GREGORIAN
METHOD:PUBLISH
X-ORIGINAL-URL:https://gardencreek.nbed.ca
X-WR-CALDESC:Events for Garden Creek School
REFRESH-INTERVAL;VALUE=DURATION:PT1H
X-Robots-Tag:noindex
X-PUBLISHED-TTL:PT1H
BEGIN:VTIMEZONE
TZID:America/Moncton
BEGIN:DAYLIGHT
TZOFFSETFROM:-0400
TZOFFSETTO:-0300
TZNAME:ADT
DTSTART:20260308T060000
END:DAYLIGHT
BEGIN:STANDARD
TZOFFSETFROM:-0300
TZOFFSETTO:-0400
TZNAME:AST
DTSTART:20261101T050000
END:STANDARD
BEGIN:DAYLIGHT
TZOFFSETFROM:-0400
TZOFFSETTO:-0300
TZNAME:ADT
DTSTART:20270314T060000
END:DAYLIGHT
BEGIN:STANDARD
TZOFFSETFROM:-0300
TZOFFSETTO:-0400
TZNAME:AST
DTSTART:20271107T050000
END:STANDARD
BEGIN:DAYLIGHT
TZOFFSETFROM:-0400
TZOFFSETTO:-0300
TZNAME:ADT
DTSTART:20280312T060000
END:DAYLIGHT
BEGIN:STANDARD
TZOFFSETFROM:-0300
TZOFFSETTO:-0400
TZNAME:AST
DTSTART:20281105T050000
END:STANDARD
END:VTIMEZONE
BEGIN:VEVENT
DTSTART;TZID=America/Moncton:20270425T080000
DTEND;TZID=America/Moncton:20270425T170000
DTSTAMP:20260425T132000
CREATED:20240529T132922Z
LAST-MODIFIED:20240529T132925Z
UID:10002011-1808640000-1808672400@gardencreek.nbed.ca
SUMMARY:Library Books to be returned
DESCRIPTION:
URL:https://gardencreek.nbed.ca/calendar/library-books-to-be-returned/2027-04-25/
END:VEVENT
BEGIN:VEVENT
DTSTART;TZID=America/Moncton:20270426T080000
DTEND;TZID=America/Moncton:20270426T170000
DTSTAMP:20260425T132000
CREATED:20240529T132922Z
LAST-MODIFIED:20240529T132925Z
UID:10002012-1808726400-1808758800@gardencreek.nbed.ca
SUMMARY:Library Books to be returned
DESCRIPTION:
URL:https://gardencreek.nbed.ca/calendar/library-books-to-be-returned/2027-04-26/
END:VEVENT
BEGIN:VEVENT
DTSTART;TZID=America/Moncton:20270427T080000
DTEND;TZID=America/Moncton:20270427T170000
DTSTAMP:20260425T132000
CREATED:20240529T132922Z
LAST-MODIFIED:20240529T132925Z
UID:10002013-1808812800-1808845200@gardencreek.nbed.ca
SUMMARY:Library Books to be returned
DESCRIPTION:
URL:https://gardencreek.nbed.ca/calendar/library-books-to-be-returned/2027-04-27/
END:VEVENT
BEGIN:VEVENT
DTSTART;TZID=America/Moncton:20270428T080000
DTEND;TZID=America/Moncton:20270428T170000
DTSTAMP:20260425T132000
CREATED:20240529T132922Z
LAST-MODIFIED:20240529T132925Z
UID:10002014-1808899200-1808931600@gardencreek.nbed.ca
SUMMARY:Library Books to be returned
DESCRIPTION:
URL:https://gardencreek.nbed.ca/calendar/library-books-to-be-returned/2027-04-28/
END:VEVENT
BEGIN:VEVENT
DTSTART;TZID=America/Moncton:20270429T080000
DTEND;TZID=America/Moncton:20270429T170000
DTSTAMP:20260425T132000
CREATED:20240529T132922Z
LAST-MODIFIED:20240529T132925Z
UID:10002015-1808985600-1809018000@gardencreek.nbed.ca
SUMMARY:Library Books to be returned
DESCRIPTION:
URL:https://gardencreek.nbed.ca/calendar/library-books-to-be-returned/2027-04-29/
END:VEVENT
BEGIN:VEVENT
DTSTART;TZID=America/Moncton:20270430T080000
DTEND;TZID=America/Moncton:20270430T170000
DTSTAMP:20260425T132000
CREATED:20240529T132922Z
LAST-MODIFIED:20240529T132925Z
UID:10002016-1809072000-1809104400@gardencreek.nbed.ca
SUMMARY:Library Books to be returned
DESCRIPTION:
URL:https://gardencreek.nbed.ca/calendar/library-books-to-be-returned/2027-04-30/
END:VEVENT
BEGIN:VEVENT
DTSTART;TZID=America/Moncton:20270501T080000
DTEND;TZID=America/Moncton:20270501T170000
DTSTAMP:20260425T132000
CREATED:20240529T132922Z
LAST-MODIFIED:20240529T132925Z
UID:10002017-1809158400-1809190800@gardencreek.nbed.ca
SUMMARY:Library Books to be returned
DESCRIPTION:
URL:https://gardencreek.nbed.ca/calendar/library-books-to-be-returned/2027-05-01/
END:VEVENT
BEGIN:VEVENT
DTSTART;TZID=America/Moncton:20270502T080000
DTEND;TZID=America/Moncton:20270502T170000
DTSTAMP:20260425T132000
CREATED:20240529T132922Z
LAST-MODIFIED:20240529T132925Z
UID:10002018-1809244800-1809277200@gardencreek.nbed.ca
SUMMARY:Library Books to be returned
DESCRIPTION:
URL:https://gardencreek.nbed.ca/calendar/library-books-to-be-returned/2027-05-02/
END:VEVENT
BEGIN:VEVENT
DTSTART;TZID=America/Moncton:20270503T080000
DTEND;TZID=America/Moncton:20270503T170000
DTSTAMP:20260425T132000
CREATED:20240529T132922Z
LAST-MODIFIED:20240529T132925Z
UID:10002019-1809331200-1809363600@gardencreek.nbed.ca
SUMMARY:Library Books to be returned
DESCRIPTION:
URL:https://gardencreek.nbed.ca/calendar/library-books-to-be-returned/2027-05-03/
END:VEVENT
BEGIN:VEVENT
DTSTART;TZID=America/Moncton:20270504T080000
DTEND;TZID=America/Moncton:20270504T170000
DTSTAMP:20260425T132000
CREATED:20240529T132922Z
LAST-MODIFIED:20240529T132925Z
UID:10002020-1809417600-1809450000@gardencreek.nbed.ca
SUMMARY:Library Books to be returned
DESCRIPTION:
URL:https://gardencreek.nbed.ca/calendar/library-books-to-be-returned/2027-05-04/
END:VEVENT
BEGIN:VEVENT
DTSTART;TZID=America/Moncton:20270505T080000
DTEND;TZID=America/Moncton:20270505T170000
DTSTAMP:20260425T132000
CREATED:20240529T132922Z
LAST-MODIFIED:20240529T132925Z
UID:10002021-1809504000-1809536400@gardencreek.nbed.ca
SUMMARY:Library Books to be returned
DESCRIPTION:
URL:https://gardencreek.nbed.ca/calendar/library-books-to-be-returned/2027-05-05/
END:VEVENT
BEGIN:VEVENT
DTSTART;TZID=America/Moncton:20270506T080000
DTEND;TZID=America/Moncton:20270506T170000
DTSTAMP:20260425T132000
CREATED:20240529T132922Z
LAST-MODIFIED:20240529T132925Z
UID:10002022-1809590400-1809622800@gardencreek.nbed.ca
SUMMARY:Library Books to be returned
DESCRIPTION:
URL:https://gardencreek.nbed.ca/calendar/library-books-to-be-returned/2027-05-06/
END:VEVENT
BEGIN:VEVENT
DTSTART;TZID=America/Moncton:20270507T080000
DTEND;TZID=America/Moncton:20270507T170000
DTSTAMP:20260425T132000
CREATED:20240529T132922Z
LAST-MODIFIED:20240529T132925Z
UID:10002023-1809676800-1809709200@gardencreek.nbed.ca
SUMMARY:Library Books to be returned
DESCRIPTION:
URL:https://gardencreek.nbed.ca/calendar/library-books-to-be-returned/2027-05-07/
END:VEVENT
BEGIN:VEVENT
DTSTART;TZID=America/Moncton:20270508T080000
DTEND;TZID=America/Moncton:20270508T170000
DTSTAMP:20260425T132000
CREATED:20240529T132922Z
LAST-MODIFIED:20240529T132925Z
UID:10002024-1809763200-1809795600@gardencreek.nbed.ca
SUMMARY:Library Books to be returned
DESCRIPTION:
URL:https://gardencreek.nbed.ca/calendar/library-books-to-be-returned/2027-05-08/
END:VEVENT
BEGIN:VEVENT
DTSTART;TZID=America/Moncton:20270509T080000
DTEND;TZID=America/Moncton:20270509T170000
DTSTAMP:20260425T132000
CREATED:20240529T132922Z
LAST-MODIFIED:20240529T132925Z
UID:10002025-1809849600-1809882000@gardencreek.nbed.ca
SUMMARY:Library Books to be returned
DESCRIPTION:
URL:https://gardencreek.nbed.ca/calendar/library-books-to-be-returned/2027-05-09/
END:VEVENT
BEGIN:VEVENT
DTSTART;TZID=America/Moncton:20270510T080000
DTEND;TZID=America/Moncton:20270510T170000
DTSTAMP:20260425T132000
CREATED:20240529T132922Z
LAST-MODIFIED:20240529T132925Z
UID:10002026-1809936000-1809968400@gardencreek.nbed.ca
SUMMARY:Library Books to be returned
DESCRIPTION:
URL:https://gardencreek.nbed.ca/calendar/library-books-to-be-returned/2027-05-10/
END:VEVENT
BEGIN:VEVENT
DTSTART;TZID=America/Moncton:20270511T080000
DTEND;TZID=America/Moncton:20270511T170000
DTSTAMP:20260425T132000
CREATED:20240529T132922Z
LAST-MODIFIED:20240529T132925Z
UID:10002027-1810022400-1810054800@gardencreek.nbed.ca
SUMMARY:Library Books to be returned
DESCRIPTION:
URL:https://gardencreek.nbed.ca/calendar/library-books-to-be-returned/2027-05-11/
END:VEVENT
BEGIN:VEVENT
DTSTART;TZID=America/Moncton:20270512T080000
DTEND;TZID=America/Moncton:20270512T170000
DTSTAMP:20260425T132000
CREATED:20240529T132922Z
LAST-MODIFIED:20240529T132925Z
UID:10002028-1810108800-1810141200@gardencreek.nbed.ca
SUMMARY:Library Books to be returned
DESCRIPTION:
URL:https://gardencreek.nbed.ca/calendar/library-books-to-be-returned/2027-05-12/
END:VEVENT
BEGIN:VEVENT
DTSTART;TZID=America/Moncton:20270513T080000
DTEND;TZID=America/Moncton:20270513T170000
DTSTAMP:20260425T132000
CREATED:20240529T132922Z
LAST-MODIFIED:20240529T132925Z
UID:10002029-1810195200-1810227600@gardencreek.nbed.ca
SUMMARY:Library Books to be returned
DESCRIPTION:
URL:https://gardencreek.nbed.ca/calendar/library-books-to-be-returned/2027-05-13/
END:VEVENT
BEGIN:VEVENT
DTSTART;TZID=America/Moncton:20270514T080000
DTEND;TZID=America/Moncton:20270514T170000
DTSTAMP:20260425T132000
CREATED:20240529T132922Z
LAST-MODIFIED:20240529T132925Z
UID:10002030-1810281600-1810314000@gardencreek.nbed.ca
SUMMARY:Library Books to be returned
DESCRIPTION:
URL:https://gardencreek.nbed.ca/calendar/library-books-to-be-returned/2027-05-14/
END:VEVENT
BEGIN:VEVENT
DTSTART;TZID=America/Moncton:20270515T080000
DTEND;TZID=America/Moncton:20270515T170000
DTSTAMP:20260425T132000
CREATED:20240529T132922Z
LAST-MODIFIED:20240529T132925Z
UID:10002031-1810368000-1810400400@gardencreek.nbed.ca
SUMMARY:Library Books to be returned
DESCRIPTION:
URL:https://gardencreek.nbed.ca/calendar/library-books-to-be-returned/2027-05-15/
END:VEVENT
BEGIN:VEVENT
DTSTART;TZID=America/Moncton:20270516T080000
DTEND;TZID=America/Moncton:20270516T170000
DTSTAMP:20260425T132000
CREATED:20240529T132922Z
LAST-MODIFIED:20240529T132925Z
UID:10002032-1810454400-1810486800@gardencreek.nbed.ca
SUMMARY:Library Books to be returned
DESCRIPTION:
URL:https://gardencreek.nbed.ca/calendar/library-books-to-be-returned/2027-05-16/
END:VEVENT
BEGIN:VEVENT
DTSTART;TZID=America/Moncton:20270517T080000
DTEND;TZID=America/Moncton:20270517T170000
DTSTAMP:20260425T132000
CREATED:20240529T132922Z
LAST-MODIFIED:20240529T132925Z
UID:10002033-1810540800-1810573200@gardencreek.nbed.ca
SUMMARY:Library Books to be returned
DESCRIPTION:
URL:https://gardencreek.nbed.ca/calendar/library-books-to-be-returned/2027-05-17/
END:VEVENT
BEGIN:VEVENT
DTSTART;TZID=America/Moncton:20270518T080000
DTEND;TZID=America/Moncton:20270518T170000
DTSTAMP:20260425T132000
CREATED:20240529T132922Z
LAST-MODIFIED:20240529T132925Z
UID:10002034-1810627200-1810659600@gardencreek.nbed.ca
SUMMARY:Library Books to be returned
DESCRIPTION:
URL:https://gardencreek.nbed.ca/calendar/library-books-to-be-returned/2027-05-18/
END:VEVENT
BEGIN:VEVENT
DTSTART;TZID=America/Moncton:20270519T080000
DTEND;TZID=America/Moncton:20270519T170000
DTSTAMP:20260425T132000
CREATED:20240529T132922Z
LAST-MODIFIED:20240529T132925Z
UID:10002035-1810713600-1810746000@gardencreek.nbed.ca
SUMMARY:Library Books to be returned
DESCRIPTION:
URL:https://gardencreek.nbed.ca/calendar/library-books-to-be-returned/2027-05-19/
END:VEVENT
BEGIN:VEVENT
DTSTART;TZID=America/Moncton:20270520T080000
DTEND;TZID=America/Moncton:20270520T170000
DTSTAMP:20260425T132000
CREATED:20240529T132922Z
LAST-MODIFIED:20240529T132925Z
UID:10002036-1810800000-1810832400@gardencreek.nbed.ca
SUMMARY:Library Books to be returned
DESCRIPTION:
URL:https://gardencreek.nbed.ca/calendar/library-books-to-be-returned/2027-05-20/
END:VEVENT
BEGIN:VEVENT
DTSTART;TZID=America/Moncton:20270521T080000
DTEND;TZID=America/Moncton:20270521T170000
DTSTAMP:20260425T132000
CREATED:20240529T132922Z
LAST-MODIFIED:20240529T132925Z
UID:10002037-1810886400-1810918800@gardencreek.nbed.ca
SUMMARY:Library Books to be returned
DESCRIPTION:
URL:https://gardencreek.nbed.ca/calendar/library-books-to-be-returned/2027-05-21/
END:VEVENT
BEGIN:VEVENT
DTSTART;TZID=America/Moncton:20270522T080000
DTEND;TZID=America/Moncton:20270522T170000
DTSTAMP:20260425T132000
CREATED:20240529T132922Z
LAST-MODIFIED:20240529T132925Z
UID:10002038-1810972800-1811005200@gardencreek.nbed.ca
SUMMARY:Library Books to be returned
DESCRIPTION:
URL:https://gardencreek.nbed.ca/calendar/library-books-to-be-returned/2027-05-22/
END:VEVENT
BEGIN:VEVENT
DTSTART;TZID=America/Moncton:20270523T080000
DTEND;TZID=America/Moncton:20270523T170000
DTSTAMP:20260425T132000
CREATED:20240529T132922Z
LAST-MODIFIED:20240529T132925Z
UID:10002039-1811059200-1811091600@gardencreek.nbed.ca
SUMMARY:Library Books to be returned
DESCRIPTION:
URL:https://gardencreek.nbed.ca/calendar/library-books-to-be-returned/2027-05-23/
END:VEVENT
BEGIN:VEVENT
DTSTART;TZID=America/Moncton:20270524T080000
DTEND;TZID=America/Moncton:20270524T170000
DTSTAMP:20260425T132000
CREATED:20240529T132922Z
LAST-MODIFIED:20240529T132925Z
UID:10002040-1811145600-1811178000@gardencreek.nbed.ca
SUMMARY:Library Books to be returned
DESCRIPTION:
URL:https://gardencreek.nbed.ca/calendar/library-books-to-be-returned/2027-05-24/
END:VEVENT
END:VCALENDAR