BEGIN:VCALENDAR
VERSION:2.0
PRODID:-//Garden Creek School - ECPv6.15.20//NONSGML v1.0//EN
CALSCALE:GREGORIAN
METHOD:PUBLISH
X-ORIGINAL-URL:https://gardencreek.nbed.ca
X-WR-CALDESC:Events for Garden Creek School
REFRESH-INTERVAL;VALUE=DURATION:PT1H
X-Robots-Tag:noindex
X-PUBLISHED-TTL:PT1H
BEGIN:VTIMEZONE
TZID:America/Moncton
BEGIN:DAYLIGHT
TZOFFSETFROM:-0400
TZOFFSETTO:-0300
TZNAME:ADT
DTSTART:20260308T060000
END:DAYLIGHT
BEGIN:STANDARD
TZOFFSETFROM:-0300
TZOFFSETTO:-0400
TZNAME:AST
DTSTART:20261101T050000
END:STANDARD
BEGIN:DAYLIGHT
TZOFFSETFROM:-0400
TZOFFSETTO:-0300
TZNAME:ADT
DTSTART:20270314T060000
END:DAYLIGHT
BEGIN:STANDARD
TZOFFSETFROM:-0300
TZOFFSETTO:-0400
TZNAME:AST
DTSTART:20271107T050000
END:STANDARD
BEGIN:DAYLIGHT
TZOFFSETFROM:-0400
TZOFFSETTO:-0300
TZNAME:ADT
DTSTART:20280312T060000
END:DAYLIGHT
BEGIN:STANDARD
TZOFFSETFROM:-0300
TZOFFSETTO:-0400
TZNAME:AST
DTSTART:20281105T050000
END:STANDARD
END:VTIMEZONE
BEGIN:VEVENT
DTSTART;TZID=America/Moncton:20270726T080000
DTEND;TZID=America/Moncton:20270726T170000
DTSTAMP:20260425T093709
CREATED:20240529T132922Z
LAST-MODIFIED:20240529T132925Z
UID:10002103-1816588800-1816621200@gardencreek.nbed.ca
SUMMARY:Library Books to be returned
DESCRIPTION:
URL:https://gardencreek.nbed.ca/calendar/library-books-to-be-returned/2027-07-26/
END:VEVENT
BEGIN:VEVENT
DTSTART;TZID=America/Moncton:20270727T080000
DTEND;TZID=America/Moncton:20270727T170000
DTSTAMP:20260425T093709
CREATED:20240529T132922Z
LAST-MODIFIED:20240529T132925Z
UID:10002104-1816675200-1816707600@gardencreek.nbed.ca
SUMMARY:Library Books to be returned
DESCRIPTION:
URL:https://gardencreek.nbed.ca/calendar/library-books-to-be-returned/2027-07-27/
END:VEVENT
BEGIN:VEVENT
DTSTART;TZID=America/Moncton:20270728T080000
DTEND;TZID=America/Moncton:20270728T170000
DTSTAMP:20260425T093709
CREATED:20240529T132922Z
LAST-MODIFIED:20240529T132925Z
UID:10002105-1816761600-1816794000@gardencreek.nbed.ca
SUMMARY:Library Books to be returned
DESCRIPTION:
URL:https://gardencreek.nbed.ca/calendar/library-books-to-be-returned/2027-07-28/
END:VEVENT
BEGIN:VEVENT
DTSTART;TZID=America/Moncton:20270729T080000
DTEND;TZID=America/Moncton:20270729T170000
DTSTAMP:20260425T093709
CREATED:20240529T132922Z
LAST-MODIFIED:20240529T132925Z
UID:10002106-1816848000-1816880400@gardencreek.nbed.ca
SUMMARY:Library Books to be returned
DESCRIPTION:
URL:https://gardencreek.nbed.ca/calendar/library-books-to-be-returned/2027-07-29/
END:VEVENT
BEGIN:VEVENT
DTSTART;TZID=America/Moncton:20270730T080000
DTEND;TZID=America/Moncton:20270730T170000
DTSTAMP:20260425T093709
CREATED:20240529T132922Z
LAST-MODIFIED:20240529T132925Z
UID:10002107-1816934400-1816966800@gardencreek.nbed.ca
SUMMARY:Library Books to be returned
DESCRIPTION:
URL:https://gardencreek.nbed.ca/calendar/library-books-to-be-returned/2027-07-30/
END:VEVENT
BEGIN:VEVENT
DTSTART;TZID=America/Moncton:20270731T080000
DTEND;TZID=America/Moncton:20270731T170000
DTSTAMP:20260425T093709
CREATED:20240529T132922Z
LAST-MODIFIED:20240529T132925Z
UID:10002108-1817020800-1817053200@gardencreek.nbed.ca
SUMMARY:Library Books to be returned
DESCRIPTION:
URL:https://gardencreek.nbed.ca/calendar/library-books-to-be-returned/2027-07-31/
END:VEVENT
BEGIN:VEVENT
DTSTART;TZID=America/Moncton:20270801T080000
DTEND;TZID=America/Moncton:20270801T170000
DTSTAMP:20260425T093709
CREATED:20240529T132922Z
LAST-MODIFIED:20240529T132925Z
UID:10002109-1817107200-1817139600@gardencreek.nbed.ca
SUMMARY:Library Books to be returned
DESCRIPTION:
URL:https://gardencreek.nbed.ca/calendar/library-books-to-be-returned/2027-08-01/
END:VEVENT
BEGIN:VEVENT
DTSTART;TZID=America/Moncton:20270802T080000
DTEND;TZID=America/Moncton:20270802T170000
DTSTAMP:20260425T093709
CREATED:20240529T132922Z
LAST-MODIFIED:20240529T132925Z
UID:10002110-1817193600-1817226000@gardencreek.nbed.ca
SUMMARY:Library Books to be returned
DESCRIPTION:
URL:https://gardencreek.nbed.ca/calendar/library-books-to-be-returned/2027-08-02/
END:VEVENT
BEGIN:VEVENT
DTSTART;TZID=America/Moncton:20270803T080000
DTEND;TZID=America/Moncton:20270803T170000
DTSTAMP:20260425T093709
CREATED:20240529T132922Z
LAST-MODIFIED:20240529T132925Z
UID:10002111-1817280000-1817312400@gardencreek.nbed.ca
SUMMARY:Library Books to be returned
DESCRIPTION:
URL:https://gardencreek.nbed.ca/calendar/library-books-to-be-returned/2027-08-03/
END:VEVENT
BEGIN:VEVENT
DTSTART;TZID=America/Moncton:20270804T080000
DTEND;TZID=America/Moncton:20270804T170000
DTSTAMP:20260425T093709
CREATED:20240529T132922Z
LAST-MODIFIED:20240529T132925Z
UID:10002112-1817366400-1817398800@gardencreek.nbed.ca
SUMMARY:Library Books to be returned
DESCRIPTION:
URL:https://gardencreek.nbed.ca/calendar/library-books-to-be-returned/2027-08-04/
END:VEVENT
BEGIN:VEVENT
DTSTART;TZID=America/Moncton:20270805T080000
DTEND;TZID=America/Moncton:20270805T170000
DTSTAMP:20260425T093709
CREATED:20240529T132922Z
LAST-MODIFIED:20240529T132925Z
UID:10002113-1817452800-1817485200@gardencreek.nbed.ca
SUMMARY:Library Books to be returned
DESCRIPTION:
URL:https://gardencreek.nbed.ca/calendar/library-books-to-be-returned/2027-08-05/
END:VEVENT
BEGIN:VEVENT
DTSTART;TZID=America/Moncton:20270806T080000
DTEND;TZID=America/Moncton:20270806T170000
DTSTAMP:20260425T093709
CREATED:20240529T132922Z
LAST-MODIFIED:20240529T132925Z
UID:10002114-1817539200-1817571600@gardencreek.nbed.ca
SUMMARY:Library Books to be returned
DESCRIPTION:
URL:https://gardencreek.nbed.ca/calendar/library-books-to-be-returned/2027-08-06/
END:VEVENT
BEGIN:VEVENT
DTSTART;TZID=America/Moncton:20270807T080000
DTEND;TZID=America/Moncton:20270807T170000
DTSTAMP:20260425T093709
CREATED:20240529T132922Z
LAST-MODIFIED:20240529T132925Z
UID:10002115-1817625600-1817658000@gardencreek.nbed.ca
SUMMARY:Library Books to be returned
DESCRIPTION:
URL:https://gardencreek.nbed.ca/calendar/library-books-to-be-returned/2027-08-07/
END:VEVENT
BEGIN:VEVENT
DTSTART;TZID=America/Moncton:20270808T080000
DTEND;TZID=America/Moncton:20270808T170000
DTSTAMP:20260425T093709
CREATED:20240529T132922Z
LAST-MODIFIED:20240529T132925Z
UID:10002116-1817712000-1817744400@gardencreek.nbed.ca
SUMMARY:Library Books to be returned
DESCRIPTION:
URL:https://gardencreek.nbed.ca/calendar/library-books-to-be-returned/2027-08-08/
END:VEVENT
BEGIN:VEVENT
DTSTART;TZID=America/Moncton:20270809T080000
DTEND;TZID=America/Moncton:20270809T170000
DTSTAMP:20260425T093709
CREATED:20240529T132922Z
LAST-MODIFIED:20240529T132925Z
UID:10002117-1817798400-1817830800@gardencreek.nbed.ca
SUMMARY:Library Books to be returned
DESCRIPTION:
URL:https://gardencreek.nbed.ca/calendar/library-books-to-be-returned/2027-08-09/
END:VEVENT
BEGIN:VEVENT
DTSTART;TZID=America/Moncton:20270810T080000
DTEND;TZID=America/Moncton:20270810T170000
DTSTAMP:20260425T093709
CREATED:20240529T132922Z
LAST-MODIFIED:20240529T132925Z
UID:10002118-1817884800-1817917200@gardencreek.nbed.ca
SUMMARY:Library Books to be returned
DESCRIPTION:
URL:https://gardencreek.nbed.ca/calendar/library-books-to-be-returned/2027-08-10/
END:VEVENT
BEGIN:VEVENT
DTSTART;TZID=America/Moncton:20270811T080000
DTEND;TZID=America/Moncton:20270811T170000
DTSTAMP:20260425T093709
CREATED:20240529T132922Z
LAST-MODIFIED:20240529T132925Z
UID:10002119-1817971200-1818003600@gardencreek.nbed.ca
SUMMARY:Library Books to be returned
DESCRIPTION:
URL:https://gardencreek.nbed.ca/calendar/library-books-to-be-returned/2027-08-11/
END:VEVENT
BEGIN:VEVENT
DTSTART;TZID=America/Moncton:20270812T080000
DTEND;TZID=America/Moncton:20270812T170000
DTSTAMP:20260425T093709
CREATED:20240529T132922Z
LAST-MODIFIED:20240529T132925Z
UID:10002120-1818057600-1818090000@gardencreek.nbed.ca
SUMMARY:Library Books to be returned
DESCRIPTION:
URL:https://gardencreek.nbed.ca/calendar/library-books-to-be-returned/2027-08-12/
END:VEVENT
BEGIN:VEVENT
DTSTART;TZID=America/Moncton:20270813T080000
DTEND;TZID=America/Moncton:20270813T170000
DTSTAMP:20260425T093709
CREATED:20240529T132922Z
LAST-MODIFIED:20240529T132925Z
UID:10002121-1818144000-1818176400@gardencreek.nbed.ca
SUMMARY:Library Books to be returned
DESCRIPTION:
URL:https://gardencreek.nbed.ca/calendar/library-books-to-be-returned/2027-08-13/
END:VEVENT
BEGIN:VEVENT
DTSTART;TZID=America/Moncton:20270814T080000
DTEND;TZID=America/Moncton:20270814T170000
DTSTAMP:20260425T093709
CREATED:20240529T132922Z
LAST-MODIFIED:20240529T132925Z
UID:10002122-1818230400-1818262800@gardencreek.nbed.ca
SUMMARY:Library Books to be returned
DESCRIPTION:
URL:https://gardencreek.nbed.ca/calendar/library-books-to-be-returned/2027-08-14/
END:VEVENT
BEGIN:VEVENT
DTSTART;TZID=America/Moncton:20270815T080000
DTEND;TZID=America/Moncton:20270815T170000
DTSTAMP:20260425T093709
CREATED:20240529T132922Z
LAST-MODIFIED:20240529T132925Z
UID:10002123-1818316800-1818349200@gardencreek.nbed.ca
SUMMARY:Library Books to be returned
DESCRIPTION:
URL:https://gardencreek.nbed.ca/calendar/library-books-to-be-returned/2027-08-15/
END:VEVENT
BEGIN:VEVENT
DTSTART;TZID=America/Moncton:20270816T080000
DTEND;TZID=America/Moncton:20270816T170000
DTSTAMP:20260425T093709
CREATED:20240529T132922Z
LAST-MODIFIED:20240529T132925Z
UID:10002124-1818403200-1818435600@gardencreek.nbed.ca
SUMMARY:Library Books to be returned
DESCRIPTION:
URL:https://gardencreek.nbed.ca/calendar/library-books-to-be-returned/2027-08-16/
END:VEVENT
BEGIN:VEVENT
DTSTART;TZID=America/Moncton:20270817T080000
DTEND;TZID=America/Moncton:20270817T170000
DTSTAMP:20260425T093709
CREATED:20240529T132922Z
LAST-MODIFIED:20240529T132925Z
UID:10002125-1818489600-1818522000@gardencreek.nbed.ca
SUMMARY:Library Books to be returned
DESCRIPTION:
URL:https://gardencreek.nbed.ca/calendar/library-books-to-be-returned/2027-08-17/
END:VEVENT
BEGIN:VEVENT
DTSTART;TZID=America/Moncton:20270818T080000
DTEND;TZID=America/Moncton:20270818T170000
DTSTAMP:20260425T093709
CREATED:20240529T132922Z
LAST-MODIFIED:20240529T132925Z
UID:10002126-1818576000-1818608400@gardencreek.nbed.ca
SUMMARY:Library Books to be returned
DESCRIPTION:
URL:https://gardencreek.nbed.ca/calendar/library-books-to-be-returned/2027-08-18/
END:VEVENT
BEGIN:VEVENT
DTSTART;TZID=America/Moncton:20270819T080000
DTEND;TZID=America/Moncton:20270819T170000
DTSTAMP:20260425T093709
CREATED:20240529T132922Z
LAST-MODIFIED:20240529T132925Z
UID:10002127-1818662400-1818694800@gardencreek.nbed.ca
SUMMARY:Library Books to be returned
DESCRIPTION:
URL:https://gardencreek.nbed.ca/calendar/library-books-to-be-returned/2027-08-19/
END:VEVENT
BEGIN:VEVENT
DTSTART;TZID=America/Moncton:20270820T080000
DTEND;TZID=America/Moncton:20270820T170000
DTSTAMP:20260425T093709
CREATED:20240529T132922Z
LAST-MODIFIED:20240529T132925Z
UID:10002128-1818748800-1818781200@gardencreek.nbed.ca
SUMMARY:Library Books to be returned
DESCRIPTION:
URL:https://gardencreek.nbed.ca/calendar/library-books-to-be-returned/2027-08-20/
END:VEVENT
BEGIN:VEVENT
DTSTART;TZID=America/Moncton:20270821T080000
DTEND;TZID=America/Moncton:20270821T170000
DTSTAMP:20260425T093709
CREATED:20240529T132922Z
LAST-MODIFIED:20240529T132925Z
UID:10002129-1818835200-1818867600@gardencreek.nbed.ca
SUMMARY:Library Books to be returned
DESCRIPTION:
URL:https://gardencreek.nbed.ca/calendar/library-books-to-be-returned/2027-08-21/
END:VEVENT
BEGIN:VEVENT
DTSTART;TZID=America/Moncton:20270822T080000
DTEND;TZID=America/Moncton:20270822T170000
DTSTAMP:20260425T093709
CREATED:20240529T132922Z
LAST-MODIFIED:20240529T132925Z
UID:10002130-1818921600-1818954000@gardencreek.nbed.ca
SUMMARY:Library Books to be returned
DESCRIPTION:
URL:https://gardencreek.nbed.ca/calendar/library-books-to-be-returned/2027-08-22/
END:VEVENT
BEGIN:VEVENT
DTSTART;TZID=America/Moncton:20270823T080000
DTEND;TZID=America/Moncton:20270823T170000
DTSTAMP:20260425T093709
CREATED:20240529T132922Z
LAST-MODIFIED:20240529T132925Z
UID:10002131-1819008000-1819040400@gardencreek.nbed.ca
SUMMARY:Library Books to be returned
DESCRIPTION:
URL:https://gardencreek.nbed.ca/calendar/library-books-to-be-returned/2027-08-23/
END:VEVENT
BEGIN:VEVENT
DTSTART;TZID=America/Moncton:20270824T080000
DTEND;TZID=America/Moncton:20270824T170000
DTSTAMP:20260425T093709
CREATED:20240529T132922Z
LAST-MODIFIED:20240529T132925Z
UID:10002132-1819094400-1819126800@gardencreek.nbed.ca
SUMMARY:Library Books to be returned
DESCRIPTION:
URL:https://gardencreek.nbed.ca/calendar/library-books-to-be-returned/2027-08-24/
END:VEVENT
END:VCALENDAR