BEGIN:VCALENDAR
VERSION:2.0
PRODID:-//Garden Creek School - ECPv6.15.20//NONSGML v1.0//EN
CALSCALE:GREGORIAN
METHOD:PUBLISH
X-ORIGINAL-URL:https://gardencreek.nbed.ca
X-WR-CALDESC:Events for Garden Creek School
REFRESH-INTERVAL;VALUE=DURATION:PT1H
X-Robots-Tag:noindex
X-PUBLISHED-TTL:PT1H
BEGIN:VTIMEZONE
TZID:America/Moncton
BEGIN:DAYLIGHT
TZOFFSETFROM:-0400
TZOFFSETTO:-0300
TZNAME:ADT
DTSTART:20260308T060000
END:DAYLIGHT
BEGIN:STANDARD
TZOFFSETFROM:-0300
TZOFFSETTO:-0400
TZNAME:AST
DTSTART:20261101T050000
END:STANDARD
BEGIN:DAYLIGHT
TZOFFSETFROM:-0400
TZOFFSETTO:-0300
TZNAME:ADT
DTSTART:20270314T060000
END:DAYLIGHT
BEGIN:STANDARD
TZOFFSETFROM:-0300
TZOFFSETTO:-0400
TZNAME:AST
DTSTART:20271107T050000
END:STANDARD
BEGIN:DAYLIGHT
TZOFFSETFROM:-0400
TZOFFSETTO:-0300
TZNAME:ADT
DTSTART:20280312T060000
END:DAYLIGHT
BEGIN:STANDARD
TZOFFSETFROM:-0300
TZOFFSETTO:-0400
TZNAME:AST
DTSTART:20281105T050000
END:STANDARD
END:VTIMEZONE
BEGIN:VEVENT
DTSTART;TZID=America/Moncton:20270707T080000
DTEND;TZID=America/Moncton:20270707T170000
DTSTAMP:20260425T093709
CREATED:20240529T132922Z
LAST-MODIFIED:20240529T132925Z
UID:10002084-1814947200-1814979600@gardencreek.nbed.ca
SUMMARY:Library Books to be returned
DESCRIPTION:
URL:https://gardencreek.nbed.ca/calendar/library-books-to-be-returned/2027-07-07/
END:VEVENT
BEGIN:VEVENT
DTSTART;TZID=America/Moncton:20270708T080000
DTEND;TZID=America/Moncton:20270708T170000
DTSTAMP:20260425T093709
CREATED:20240529T132922Z
LAST-MODIFIED:20240529T132925Z
UID:10002085-1815033600-1815066000@gardencreek.nbed.ca
SUMMARY:Library Books to be returned
DESCRIPTION:
URL:https://gardencreek.nbed.ca/calendar/library-books-to-be-returned/2027-07-08/
END:VEVENT
BEGIN:VEVENT
DTSTART;TZID=America/Moncton:20270709T080000
DTEND;TZID=America/Moncton:20270709T170000
DTSTAMP:20260425T093709
CREATED:20240529T132922Z
LAST-MODIFIED:20240529T132925Z
UID:10002086-1815120000-1815152400@gardencreek.nbed.ca
SUMMARY:Library Books to be returned
DESCRIPTION:
URL:https://gardencreek.nbed.ca/calendar/library-books-to-be-returned/2027-07-09/
END:VEVENT
BEGIN:VEVENT
DTSTART;TZID=America/Moncton:20270710T080000
DTEND;TZID=America/Moncton:20270710T170000
DTSTAMP:20260425T093709
CREATED:20240529T132922Z
LAST-MODIFIED:20240529T132925Z
UID:10002087-1815206400-1815238800@gardencreek.nbed.ca
SUMMARY:Library Books to be returned
DESCRIPTION:
URL:https://gardencreek.nbed.ca/calendar/library-books-to-be-returned/2027-07-10/
END:VEVENT
BEGIN:VEVENT
DTSTART;TZID=America/Moncton:20270711T080000
DTEND;TZID=America/Moncton:20270711T170000
DTSTAMP:20260425T093709
CREATED:20240529T132922Z
LAST-MODIFIED:20240529T132925Z
UID:10002088-1815292800-1815325200@gardencreek.nbed.ca
SUMMARY:Library Books to be returned
DESCRIPTION:
URL:https://gardencreek.nbed.ca/calendar/library-books-to-be-returned/2027-07-11/
END:VEVENT
BEGIN:VEVENT
DTSTART;TZID=America/Moncton:20270712T080000
DTEND;TZID=America/Moncton:20270712T170000
DTSTAMP:20260425T093709
CREATED:20240529T132922Z
LAST-MODIFIED:20240529T132925Z
UID:10002089-1815379200-1815411600@gardencreek.nbed.ca
SUMMARY:Library Books to be returned
DESCRIPTION:
URL:https://gardencreek.nbed.ca/calendar/library-books-to-be-returned/2027-07-12/
END:VEVENT
BEGIN:VEVENT
DTSTART;TZID=America/Moncton:20270713T080000
DTEND;TZID=America/Moncton:20270713T170000
DTSTAMP:20260425T093709
CREATED:20240529T132922Z
LAST-MODIFIED:20240529T132925Z
UID:10002090-1815465600-1815498000@gardencreek.nbed.ca
SUMMARY:Library Books to be returned
DESCRIPTION:
URL:https://gardencreek.nbed.ca/calendar/library-books-to-be-returned/2027-07-13/
END:VEVENT
BEGIN:VEVENT
DTSTART;TZID=America/Moncton:20270714T080000
DTEND;TZID=America/Moncton:20270714T170000
DTSTAMP:20260425T093709
CREATED:20240529T132922Z
LAST-MODIFIED:20240529T132925Z
UID:10002091-1815552000-1815584400@gardencreek.nbed.ca
SUMMARY:Library Books to be returned
DESCRIPTION:
URL:https://gardencreek.nbed.ca/calendar/library-books-to-be-returned/2027-07-14/
END:VEVENT
BEGIN:VEVENT
DTSTART;TZID=America/Moncton:20270715T080000
DTEND;TZID=America/Moncton:20270715T170000
DTSTAMP:20260425T093709
CREATED:20240529T132922Z
LAST-MODIFIED:20240529T132925Z
UID:10002092-1815638400-1815670800@gardencreek.nbed.ca
SUMMARY:Library Books to be returned
DESCRIPTION:
URL:https://gardencreek.nbed.ca/calendar/library-books-to-be-returned/2027-07-15/
END:VEVENT
BEGIN:VEVENT
DTSTART;TZID=America/Moncton:20270716T080000
DTEND;TZID=America/Moncton:20270716T170000
DTSTAMP:20260425T093709
CREATED:20240529T132922Z
LAST-MODIFIED:20240529T132925Z
UID:10002093-1815724800-1815757200@gardencreek.nbed.ca
SUMMARY:Library Books to be returned
DESCRIPTION:
URL:https://gardencreek.nbed.ca/calendar/library-books-to-be-returned/2027-07-16/
END:VEVENT
BEGIN:VEVENT
DTSTART;TZID=America/Moncton:20270717T080000
DTEND;TZID=America/Moncton:20270717T170000
DTSTAMP:20260425T093709
CREATED:20240529T132922Z
LAST-MODIFIED:20240529T132925Z
UID:10002094-1815811200-1815843600@gardencreek.nbed.ca
SUMMARY:Library Books to be returned
DESCRIPTION:
URL:https://gardencreek.nbed.ca/calendar/library-books-to-be-returned/2027-07-17/
END:VEVENT
BEGIN:VEVENT
DTSTART;TZID=America/Moncton:20270718T080000
DTEND;TZID=America/Moncton:20270718T170000
DTSTAMP:20260425T093709
CREATED:20240529T132922Z
LAST-MODIFIED:20240529T132925Z
UID:10002095-1815897600-1815930000@gardencreek.nbed.ca
SUMMARY:Library Books to be returned
DESCRIPTION:
URL:https://gardencreek.nbed.ca/calendar/library-books-to-be-returned/2027-07-18/
END:VEVENT
BEGIN:VEVENT
DTSTART;TZID=America/Moncton:20270719T080000
DTEND;TZID=America/Moncton:20270719T170000
DTSTAMP:20260425T093709
CREATED:20240529T132922Z
LAST-MODIFIED:20240529T132925Z
UID:10002096-1815984000-1816016400@gardencreek.nbed.ca
SUMMARY:Library Books to be returned
DESCRIPTION:
URL:https://gardencreek.nbed.ca/calendar/library-books-to-be-returned/2027-07-19/
END:VEVENT
BEGIN:VEVENT
DTSTART;TZID=America/Moncton:20270720T080000
DTEND;TZID=America/Moncton:20270720T170000
DTSTAMP:20260425T093709
CREATED:20240529T132922Z
LAST-MODIFIED:20240529T132925Z
UID:10002097-1816070400-1816102800@gardencreek.nbed.ca
SUMMARY:Library Books to be returned
DESCRIPTION:
URL:https://gardencreek.nbed.ca/calendar/library-books-to-be-returned/2027-07-20/
END:VEVENT
BEGIN:VEVENT
DTSTART;TZID=America/Moncton:20270721T080000
DTEND;TZID=America/Moncton:20270721T170000
DTSTAMP:20260425T093709
CREATED:20240529T132922Z
LAST-MODIFIED:20240529T132925Z
UID:10002098-1816156800-1816189200@gardencreek.nbed.ca
SUMMARY:Library Books to be returned
DESCRIPTION:
URL:https://gardencreek.nbed.ca/calendar/library-books-to-be-returned/2027-07-21/
END:VEVENT
BEGIN:VEVENT
DTSTART;TZID=America/Moncton:20270722T080000
DTEND;TZID=America/Moncton:20270722T170000
DTSTAMP:20260425T093709
CREATED:20240529T132922Z
LAST-MODIFIED:20240529T132925Z
UID:10002099-1816243200-1816275600@gardencreek.nbed.ca
SUMMARY:Library Books to be returned
DESCRIPTION:
URL:https://gardencreek.nbed.ca/calendar/library-books-to-be-returned/2027-07-22/
END:VEVENT
BEGIN:VEVENT
DTSTART;TZID=America/Moncton:20270723T080000
DTEND;TZID=America/Moncton:20270723T170000
DTSTAMP:20260425T093709
CREATED:20240529T132922Z
LAST-MODIFIED:20240529T132925Z
UID:10002100-1816329600-1816362000@gardencreek.nbed.ca
SUMMARY:Library Books to be returned
DESCRIPTION:
URL:https://gardencreek.nbed.ca/calendar/library-books-to-be-returned/2027-07-23/
END:VEVENT
BEGIN:VEVENT
DTSTART;TZID=America/Moncton:20270724T080000
DTEND;TZID=America/Moncton:20270724T170000
DTSTAMP:20260425T093709
CREATED:20240529T132922Z
LAST-MODIFIED:20240529T132925Z
UID:10002101-1816416000-1816448400@gardencreek.nbed.ca
SUMMARY:Library Books to be returned
DESCRIPTION:
URL:https://gardencreek.nbed.ca/calendar/library-books-to-be-returned/2027-07-24/
END:VEVENT
BEGIN:VEVENT
DTSTART;TZID=America/Moncton:20270725T080000
DTEND;TZID=America/Moncton:20270725T170000
DTSTAMP:20260425T093709
CREATED:20240529T132922Z
LAST-MODIFIED:20240529T132925Z
UID:10002102-1816502400-1816534800@gardencreek.nbed.ca
SUMMARY:Library Books to be returned
DESCRIPTION:
URL:https://gardencreek.nbed.ca/calendar/library-books-to-be-returned/2027-07-25/
END:VEVENT
BEGIN:VEVENT
DTSTART;TZID=America/Moncton:20270726T080000
DTEND;TZID=America/Moncton:20270726T170000
DTSTAMP:20260425T093709
CREATED:20240529T132922Z
LAST-MODIFIED:20240529T132925Z
UID:10002103-1816588800-1816621200@gardencreek.nbed.ca
SUMMARY:Library Books to be returned
DESCRIPTION:
URL:https://gardencreek.nbed.ca/calendar/library-books-to-be-returned/2027-07-26/
END:VEVENT
BEGIN:VEVENT
DTSTART;TZID=America/Moncton:20270727T080000
DTEND;TZID=America/Moncton:20270727T170000
DTSTAMP:20260425T093709
CREATED:20240529T132922Z
LAST-MODIFIED:20240529T132925Z
UID:10002104-1816675200-1816707600@gardencreek.nbed.ca
SUMMARY:Library Books to be returned
DESCRIPTION:
URL:https://gardencreek.nbed.ca/calendar/library-books-to-be-returned/2027-07-27/
END:VEVENT
BEGIN:VEVENT
DTSTART;TZID=America/Moncton:20270728T080000
DTEND;TZID=America/Moncton:20270728T170000
DTSTAMP:20260425T093709
CREATED:20240529T132922Z
LAST-MODIFIED:20240529T132925Z
UID:10002105-1816761600-1816794000@gardencreek.nbed.ca
SUMMARY:Library Books to be returned
DESCRIPTION:
URL:https://gardencreek.nbed.ca/calendar/library-books-to-be-returned/2027-07-28/
END:VEVENT
BEGIN:VEVENT
DTSTART;TZID=America/Moncton:20270729T080000
DTEND;TZID=America/Moncton:20270729T170000
DTSTAMP:20260425T093709
CREATED:20240529T132922Z
LAST-MODIFIED:20240529T132925Z
UID:10002106-1816848000-1816880400@gardencreek.nbed.ca
SUMMARY:Library Books to be returned
DESCRIPTION:
URL:https://gardencreek.nbed.ca/calendar/library-books-to-be-returned/2027-07-29/
END:VEVENT
BEGIN:VEVENT
DTSTART;TZID=America/Moncton:20270730T080000
DTEND;TZID=America/Moncton:20270730T170000
DTSTAMP:20260425T093709
CREATED:20240529T132922Z
LAST-MODIFIED:20240529T132925Z
UID:10002107-1816934400-1816966800@gardencreek.nbed.ca
SUMMARY:Library Books to be returned
DESCRIPTION:
URL:https://gardencreek.nbed.ca/calendar/library-books-to-be-returned/2027-07-30/
END:VEVENT
BEGIN:VEVENT
DTSTART;TZID=America/Moncton:20270731T080000
DTEND;TZID=America/Moncton:20270731T170000
DTSTAMP:20260425T093709
CREATED:20240529T132922Z
LAST-MODIFIED:20240529T132925Z
UID:10002108-1817020800-1817053200@gardencreek.nbed.ca
SUMMARY:Library Books to be returned
DESCRIPTION:
URL:https://gardencreek.nbed.ca/calendar/library-books-to-be-returned/2027-07-31/
END:VEVENT
BEGIN:VEVENT
DTSTART;TZID=America/Moncton:20270801T080000
DTEND;TZID=America/Moncton:20270801T170000
DTSTAMP:20260425T093709
CREATED:20240529T132922Z
LAST-MODIFIED:20240529T132925Z
UID:10002109-1817107200-1817139600@gardencreek.nbed.ca
SUMMARY:Library Books to be returned
DESCRIPTION:
URL:https://gardencreek.nbed.ca/calendar/library-books-to-be-returned/2027-08-01/
END:VEVENT
BEGIN:VEVENT
DTSTART;TZID=America/Moncton:20270802T080000
DTEND;TZID=America/Moncton:20270802T170000
DTSTAMP:20260425T093709
CREATED:20240529T132922Z
LAST-MODIFIED:20240529T132925Z
UID:10002110-1817193600-1817226000@gardencreek.nbed.ca
SUMMARY:Library Books to be returned
DESCRIPTION:
URL:https://gardencreek.nbed.ca/calendar/library-books-to-be-returned/2027-08-02/
END:VEVENT
BEGIN:VEVENT
DTSTART;TZID=America/Moncton:20270803T080000
DTEND;TZID=America/Moncton:20270803T170000
DTSTAMP:20260425T093709
CREATED:20240529T132922Z
LAST-MODIFIED:20240529T132925Z
UID:10002111-1817280000-1817312400@gardencreek.nbed.ca
SUMMARY:Library Books to be returned
DESCRIPTION:
URL:https://gardencreek.nbed.ca/calendar/library-books-to-be-returned/2027-08-03/
END:VEVENT
BEGIN:VEVENT
DTSTART;TZID=America/Moncton:20270804T080000
DTEND;TZID=America/Moncton:20270804T170000
DTSTAMP:20260425T093709
CREATED:20240529T132922Z
LAST-MODIFIED:20240529T132925Z
UID:10002112-1817366400-1817398800@gardencreek.nbed.ca
SUMMARY:Library Books to be returned
DESCRIPTION:
URL:https://gardencreek.nbed.ca/calendar/library-books-to-be-returned/2027-08-04/
END:VEVENT
BEGIN:VEVENT
DTSTART;TZID=America/Moncton:20270805T080000
DTEND;TZID=America/Moncton:20270805T170000
DTSTAMP:20260425T093709
CREATED:20240529T132922Z
LAST-MODIFIED:20240529T132925Z
UID:10002113-1817452800-1817485200@gardencreek.nbed.ca
SUMMARY:Library Books to be returned
DESCRIPTION:
URL:https://gardencreek.nbed.ca/calendar/library-books-to-be-returned/2027-08-05/
END:VEVENT
END:VCALENDAR