BEGIN:VCALENDAR
VERSION:2.0
PRODID:-//Garden Creek School - ECPv6.15.20//NONSGML v1.0//EN
CALSCALE:GREGORIAN
METHOD:PUBLISH
X-WR-CALNAME:Garden Creek School
X-ORIGINAL-URL:https://gardencreek.nbed.ca
X-WR-CALDESC:Events for Garden Creek School
REFRESH-INTERVAL;VALUE=DURATION:PT1H
X-Robots-Tag:noindex
X-PUBLISHED-TTL:PT1H
BEGIN:VTIMEZONE
TZID:America/Moncton
BEGIN:DAYLIGHT
TZOFFSETFROM:-0400
TZOFFSETTO:-0300
TZNAME:ADT
DTSTART:20230312T060000
END:DAYLIGHT
BEGIN:STANDARD
TZOFFSETFROM:-0300
TZOFFSETTO:-0400
TZNAME:AST
DTSTART:20231105T050000
END:STANDARD
BEGIN:DAYLIGHT
TZOFFSETFROM:-0400
TZOFFSETTO:-0300
TZNAME:ADT
DTSTART:20240310T060000
END:DAYLIGHT
BEGIN:STANDARD
TZOFFSETFROM:-0300
TZOFFSETTO:-0400
TZNAME:AST
DTSTART:20241103T050000
END:STANDARD
BEGIN:DAYLIGHT
TZOFFSETFROM:-0400
TZOFFSETTO:-0300
TZNAME:ADT
DTSTART:20250309T060000
END:DAYLIGHT
BEGIN:STANDARD
TZOFFSETFROM:-0300
TZOFFSETTO:-0400
TZNAME:AST
DTSTART:20251102T050000
END:STANDARD
END:VTIMEZONE
BEGIN:VEVENT
DTSTART;TZID=America/Moncton:20241201T080000
DTEND;TZID=America/Moncton:20241201T170000
DTSTAMP:20260426T005357
CREATED:20240529T132922Z
LAST-MODIFIED:20240529T132925Z
UID:10001136-1733040000-1733072400@gardencreek.nbed.ca
SUMMARY:Library Books to be returned
DESCRIPTION:
URL:https://gardencreek.nbed.ca/calendar/library-books-to-be-returned/2024-12-01/
END:VEVENT
BEGIN:VEVENT
DTSTART;TZID=America/Moncton:20241130T110000
DTEND;TZID=America/Moncton:20241130T230000
DTSTAMP:20260426T005357
CREATED:20241031T123255Z
LAST-MODIFIED:20241031T123256Z
UID:10002833-1732964400-1733007600@gardencreek.nbed.ca
SUMMARY:Holiday Bazaar
DESCRIPTION:
URL:https://gardencreek.nbed.ca/calendar/holiday-bazaar/
END:VEVENT
BEGIN:VEVENT
DTSTART;TZID=America/Moncton:20241130T080000
DTEND;TZID=America/Moncton:20241130T170000
DTSTAMP:20260426T005357
CREATED:20240529T132922Z
LAST-MODIFIED:20240529T132925Z
UID:10001135-1732953600-1732986000@gardencreek.nbed.ca
SUMMARY:Library Books to be returned
DESCRIPTION:
URL:https://gardencreek.nbed.ca/calendar/library-books-to-be-returned/2024-11-30/
END:VEVENT
BEGIN:VEVENT
DTSTART;TZID=America/Moncton:20241129T122500
DTEND;TZID=America/Moncton:20241129T124500
DTSTAMP:20260426T005357
CREATED:20241031T122611Z
LAST-MODIFIED:20241031T124755Z
UID:10002830-1732883100-1732884300@gardencreek.nbed.ca
SUMMARY:Porter's Diner Hot lunch (Start of R3)
DESCRIPTION:
URL:https://gardencreek.nbed.ca/calendar/porters-diner-hot-lunch-start-of-r3/
CATEGORIES:Food
END:VEVENT
BEGIN:VEVENT
DTSTART;TZID=America/Moncton:20241129T080000
DTEND;TZID=America/Moncton:20241129T170000
DTSTAMP:20260426T005357
CREATED:20240529T132922Z
LAST-MODIFIED:20240529T132925Z
UID:10001134-1732867200-1732899600@gardencreek.nbed.ca
SUMMARY:Library Books to be returned
DESCRIPTION:
URL:https://gardencreek.nbed.ca/calendar/library-books-to-be-returned/2024-11-29/
END:VEVENT
BEGIN:VEVENT
DTSTART;TZID=America/Moncton:20241128T122500
DTEND;TZID=America/Moncton:20241128T124500
DTSTAMP:20260426T005357
CREATED:20241029T174606Z
LAST-MODIFIED:20241029T174607Z
UID:10002821-1732796700-1732797900@gardencreek.nbed.ca
SUMMARY:Mary Browns Hot Lunch (R3)
DESCRIPTION:
URL:https://gardencreek.nbed.ca/calendar/mary-browns-hot-lunch-r3/
CATEGORIES:Food
END:VEVENT
BEGIN:VEVENT
DTSTART;TZID=America/Moncton:20241128T080000
DTEND;TZID=America/Moncton:20241128T170000
DTSTAMP:20260426T005357
CREATED:20240529T132922Z
LAST-MODIFIED:20240529T132925Z
UID:10001133-1732780800-1732813200@gardencreek.nbed.ca
SUMMARY:Library Books to be returned
DESCRIPTION:
URL:https://gardencreek.nbed.ca/calendar/library-books-to-be-returned/2024-11-28/
END:VEVENT
BEGIN:VEVENT
DTSTART;TZID=America/Moncton:20241127T080000
DTEND;TZID=America/Moncton:20241127T170000
DTSTAMP:20260426T005357
CREATED:20240529T132922Z
LAST-MODIFIED:20240529T132925Z
UID:10001132-1732694400-1732726800@gardencreek.nbed.ca
SUMMARY:Library Books to be returned
DESCRIPTION:
URL:https://gardencreek.nbed.ca/calendar/library-books-to-be-returned/2024-11-27/
END:VEVENT
BEGIN:VEVENT
DTSTART;TZID=America/Moncton:20241126T122500
DTEND;TZID=America/Moncton:20241126T124500
DTSTAMP:20260426T005357
CREATED:20241029T172743Z
LAST-MODIFIED:20241029T172745Z
UID:10002811-1732623900-1732625100@gardencreek.nbed.ca
SUMMARY:Pizza Pizza Hot Lunch (R3)
DESCRIPTION:
URL:https://gardencreek.nbed.ca/calendar/pizza-pizza-hot-lunch-r3/
CATEGORIES:Food
END:VEVENT
BEGIN:VEVENT
DTSTART;TZID=America/Moncton:20241126T080000
DTEND;TZID=America/Moncton:20241126T170000
DTSTAMP:20260426T005357
CREATED:20240529T132922Z
LAST-MODIFIED:20240529T132925Z
UID:10001131-1732608000-1732640400@gardencreek.nbed.ca
SUMMARY:Library Books to be returned
DESCRIPTION:
URL:https://gardencreek.nbed.ca/calendar/library-books-to-be-returned/2024-11-26/
END:VEVENT
BEGIN:VEVENT
DTSTART;TZID=America/Moncton:20241125T122500
DTEND;TZID=America/Moncton:20241125T124500
DTSTAMP:20260426T005357
CREATED:20241029T145711Z
LAST-MODIFIED:20241029T145712Z
UID:10002800-1732537500-1732538700@gardencreek.nbed.ca
SUMMARY:Subway Hot Lunch (R3)
DESCRIPTION:
URL:https://gardencreek.nbed.ca/calendar/subway-hot-lunch-r3/
CATEGORIES:Food
END:VEVENT
BEGIN:VEVENT
DTSTART;TZID=America/Moncton:20241125T080000
DTEND;TZID=America/Moncton:20241125T170000
DTSTAMP:20260426T005357
CREATED:20240529T132922Z
LAST-MODIFIED:20240529T132925Z
UID:10001130-1732521600-1732554000@gardencreek.nbed.ca
SUMMARY:Library Books to be returned
DESCRIPTION:
URL:https://gardencreek.nbed.ca/calendar/library-books-to-be-returned/2024-11-25/
END:VEVENT
BEGIN:VEVENT
DTSTART;TZID=America/Moncton:20241124T080000
DTEND;TZID=America/Moncton:20241124T170000
DTSTAMP:20260426T005357
CREATED:20240529T132922Z
LAST-MODIFIED:20240529T132925Z
UID:10001129-1732435200-1732467600@gardencreek.nbed.ca
SUMMARY:Library Books to be returned
DESCRIPTION:
URL:https://gardencreek.nbed.ca/calendar/library-books-to-be-returned/2024-11-24/
END:VEVENT
BEGIN:VEVENT
DTSTART;TZID=America/Moncton:20241123T080000
DTEND;TZID=America/Moncton:20241123T170000
DTSTAMP:20260426T005357
CREATED:20240529T132922Z
LAST-MODIFIED:20240529T132925Z
UID:10001128-1732348800-1732381200@gardencreek.nbed.ca
SUMMARY:Library Books to be returned
DESCRIPTION:
URL:https://gardencreek.nbed.ca/calendar/library-books-to-be-returned/2024-11-23/
END:VEVENT
BEGIN:VEVENT
DTSTART;TZID=America/Moncton:20241122T080000
DTEND;TZID=America/Moncton:20241122T170000
DTSTAMP:20260426T005357
CREATED:20240529T132922Z
LAST-MODIFIED:20240529T132925Z
UID:10001127-1732262400-1732294800@gardencreek.nbed.ca
SUMMARY:Library Books to be returned
DESCRIPTION:
URL:https://gardencreek.nbed.ca/calendar/library-books-to-be-returned/2024-11-22/
END:VEVENT
BEGIN:VEVENT
DTSTART;TZID=America/Moncton:20241122T080000
DTEND;TZID=America/Moncton:20241122T150000
DTSTAMP:20260426T005357
CREATED:20241031T121608Z
LAST-MODIFIED:20241031T121610Z
UID:10002827-1732262400-1732287600@gardencreek.nbed.ca
SUMMARY:No School (Report Card Preparations)
DESCRIPTION:
URL:https://gardencreek.nbed.ca/calendar/no-school-report-card-preparations/
END:VEVENT
BEGIN:VEVENT
DTSTART;TZID=America/Moncton:20241121T122500
DTEND;TZID=America/Moncton:20241121T124500
DTSTAMP:20260426T005357
CREATED:20241029T174514Z
LAST-MODIFIED:20241029T174515Z
UID:10002820-1732191900-1732193100@gardencreek.nbed.ca
SUMMARY:Mary Browns Hot Lunch (Start of R3)
DESCRIPTION:
URL:https://gardencreek.nbed.ca/calendar/mary-browns-hot-lunch-start-of-r3/
END:VEVENT
BEGIN:VEVENT
DTSTART;TZID=America/Moncton:20241121T080000
DTEND;TZID=America/Moncton:20241121T170000
DTSTAMP:20260426T005357
CREATED:20240529T132922Z
LAST-MODIFIED:20240529T132925Z
UID:10001126-1732176000-1732208400@gardencreek.nbed.ca
SUMMARY:Library Books to be returned
DESCRIPTION:
URL:https://gardencreek.nbed.ca/calendar/library-books-to-be-returned/2024-11-21/
END:VEVENT
BEGIN:VEVENT
DTSTART;TZID=America/Moncton:20241120T080000
DTEND;TZID=America/Moncton:20241120T170000
DTSTAMP:20260426T005357
CREATED:20240529T132922Z
LAST-MODIFIED:20240529T132925Z
UID:10001125-1732089600-1732122000@gardencreek.nbed.ca
SUMMARY:Library Books to be returned
DESCRIPTION:
URL:https://gardencreek.nbed.ca/calendar/library-books-to-be-returned/2024-11-20/
END:VEVENT
BEGIN:VEVENT
DTSTART;TZID=America/Moncton:20241119T122500
DTEND;TZID=America/Moncton:20241119T124500
DTSTAMP:20260426T005357
CREATED:20241029T172707Z
LAST-MODIFIED:20241029T172709Z
UID:10002810-1732019100-1732020300@gardencreek.nbed.ca
SUMMARY:Pizza Pizza Hot Lunch (Start of Round 3)
DESCRIPTION:
URL:https://gardencreek.nbed.ca/calendar/pizza-pizza-hot-lunch-start-of-round-3/
CATEGORIES:Food
END:VEVENT
BEGIN:VEVENT
DTSTART;TZID=America/Moncton:20241119T080000
DTEND;TZID=America/Moncton:20241119T170000
DTSTAMP:20260426T005357
CREATED:20240529T132922Z
LAST-MODIFIED:20240529T132925Z
UID:10001124-1732003200-1732035600@gardencreek.nbed.ca
SUMMARY:Library Books to be returned
DESCRIPTION:
URL:https://gardencreek.nbed.ca/calendar/library-books-to-be-returned/2024-11-19/
END:VEVENT
BEGIN:VEVENT
DTSTART;TZID=America/Moncton:20241118T122500
DTEND;TZID=America/Moncton:20241118T124500
DTSTAMP:20260426T005357
CREATED:20241029T145314Z
LAST-MODIFIED:20241029T145316Z
UID:10002799-1731932700-1731933900@gardencreek.nbed.ca
SUMMARY:Subway Hot Lunch (Start of R3)
DESCRIPTION:
URL:https://gardencreek.nbed.ca/calendar/subway-hot-lunch-start-of-r3/
CATEGORIES:Food
END:VEVENT
BEGIN:VEVENT
DTSTART;TZID=America/Moncton:20241118T080000
DTEND;TZID=America/Moncton:20241122T170000
DTSTAMP:20260426T005357
CREATED:20241029T173846Z
LAST-MODIFIED:20241029T173848Z
UID:10002816-1731916800-1732294800@gardencreek.nbed.ca
SUMMARY:Diversity and Respect Week
DESCRIPTION:
URL:https://gardencreek.nbed.ca/calendar/diversity-and-respect-week-3/
END:VEVENT
BEGIN:VEVENT
DTSTART;TZID=America/Moncton:20241118T080000
DTEND;TZID=America/Moncton:20241122T170000
DTSTAMP:20260426T005357
CREATED:20241029T145106Z
LAST-MODIFIED:20241029T145107Z
UID:10002797-1731916800-1732294800@gardencreek.nbed.ca
SUMMARY:Diversity and Respect Week
DESCRIPTION:
URL:https://gardencreek.nbed.ca/calendar/diversity-and-respect-week-2/
END:VEVENT
BEGIN:VEVENT
DTSTART;TZID=America/Moncton:20241118T080000
DTEND;TZID=America/Moncton:20241118T170000
DTSTAMP:20260426T005358
CREATED:20240529T132922Z
LAST-MODIFIED:20240529T132925Z
UID:10001123-1731916800-1731949200@gardencreek.nbed.ca
SUMMARY:Library Books to be returned
DESCRIPTION:
URL:https://gardencreek.nbed.ca/calendar/library-books-to-be-returned/2024-11-18/
END:VEVENT
BEGIN:VEVENT
DTSTART;TZID=America/Moncton:20241117T080000
DTEND;TZID=America/Moncton:20241117T170000
DTSTAMP:20260426T005358
CREATED:20240529T132922Z
LAST-MODIFIED:20240529T132925Z
UID:10001122-1731830400-1731862800@gardencreek.nbed.ca
SUMMARY:Library Books to be returned
DESCRIPTION:
URL:https://gardencreek.nbed.ca/calendar/library-books-to-be-returned/2024-11-17/
END:VEVENT
BEGIN:VEVENT
DTSTART;TZID=America/Moncton:20241116T080000
DTEND;TZID=America/Moncton:20241116T170000
DTSTAMP:20260426T005358
CREATED:20240529T132922Z
LAST-MODIFIED:20240529T132925Z
UID:10001121-1731744000-1731776400@gardencreek.nbed.ca
SUMMARY:Library Books to be returned
DESCRIPTION:
URL:https://gardencreek.nbed.ca/calendar/library-books-to-be-returned/2024-11-16/
END:VEVENT
BEGIN:VEVENT
DTSTART;TZID=America/Moncton:20241116T080000
DTEND;TZID=America/Moncton:20241116T110000
DTSTAMP:20260426T005358
CREATED:20241029T150905Z
LAST-MODIFIED:20241029T150907Z
UID:10002804-1731744000-1731754800@gardencreek.nbed.ca
SUMMARY:Bottle Drive (School Ground)
DESCRIPTION:
URL:https://gardencreek.nbed.ca/calendar/bottle-drive-school-ground/
END:VEVENT
BEGIN:VEVENT
DTSTART;TZID=America/Moncton:20241115T122500
DTEND;TZID=America/Moncton:20241115T124500
DTSTAMP:20260426T005358
CREATED:20241031T122321Z
LAST-MODIFIED:20241031T122323Z
UID:10002829-1731673500-1731674700@gardencreek.nbed.ca
SUMMARY:Porter's Diner Hot Lunch (Last Day of R2)
DESCRIPTION:
URL:https://gardencreek.nbed.ca/calendar/porters-diner-hot-lunch-last-day-of-r2/
CATEGORIES:Food
END:VEVENT
BEGIN:VEVENT
DTSTART;TZID=America/Moncton:20241115T080000
DTEND;TZID=America/Moncton:20241115T170000
DTSTAMP:20260426T005358
CREATED:20240529T132922Z
LAST-MODIFIED:20240529T132925Z
UID:10001120-1731657600-1731690000@gardencreek.nbed.ca
SUMMARY:Library Books to be returned
DESCRIPTION:
URL:https://gardencreek.nbed.ca/calendar/library-books-to-be-returned/2024-11-15/
END:VEVENT
END:VCALENDAR