BEGIN:VCALENDAR
VERSION:2.0
PRODID:-//Garden Creek School - ECPv6.15.20//NONSGML v1.0//EN
CALSCALE:GREGORIAN
METHOD:PUBLISH
X-WR-CALNAME:Garden Creek School
X-ORIGINAL-URL:https://gardencreek.nbed.ca
X-WR-CALDESC:Events for Garden Creek School
REFRESH-INTERVAL;VALUE=DURATION:PT1H
X-Robots-Tag:noindex
X-PUBLISHED-TTL:PT1H
BEGIN:VTIMEZONE
TZID:America/Moncton
BEGIN:DAYLIGHT
TZOFFSETFROM:-0400
TZOFFSETTO:-0300
TZNAME:ADT
DTSTART:20230312T060000
END:DAYLIGHT
BEGIN:STANDARD
TZOFFSETFROM:-0300
TZOFFSETTO:-0400
TZNAME:AST
DTSTART:20231105T050000
END:STANDARD
BEGIN:DAYLIGHT
TZOFFSETFROM:-0400
TZOFFSETTO:-0300
TZNAME:ADT
DTSTART:20240310T060000
END:DAYLIGHT
BEGIN:STANDARD
TZOFFSETFROM:-0300
TZOFFSETTO:-0400
TZNAME:AST
DTSTART:20241103T050000
END:STANDARD
BEGIN:DAYLIGHT
TZOFFSETFROM:-0400
TZOFFSETTO:-0300
TZNAME:ADT
DTSTART:20250309T060000
END:DAYLIGHT
BEGIN:STANDARD
TZOFFSETFROM:-0300
TZOFFSETTO:-0400
TZNAME:AST
DTSTART:20251102T050000
END:STANDARD
END:VTIMEZONE
BEGIN:VEVENT
DTSTART;TZID=America/Moncton:20241213T122500
DTEND;TZID=America/Moncton:20241213T124500
DTSTAMP:20260426T000004
CREATED:20241031T122914Z
LAST-MODIFIED:20241031T122915Z
UID:10002832-1734092700-1734093900@gardencreek.nbed.ca
SUMMARY:Porter's Diner Hot Lunch (Last Day of R3)
DESCRIPTION:
URL:https://gardencreek.nbed.ca/calendar/porters-diner-hot-lunch-last-day-of-r3/
CATEGORIES:Food
END:VEVENT
BEGIN:VEVENT
DTSTART;TZID=America/Moncton:20241213T080000
DTEND;TZID=America/Moncton:20241213T170000
DTSTAMP:20260426T000004
CREATED:20240529T132922Z
LAST-MODIFIED:20240529T132925Z
UID:10001148-1734076800-1734109200@gardencreek.nbed.ca
SUMMARY:Library Books to be returned
DESCRIPTION:
URL:https://gardencreek.nbed.ca/calendar/library-books-to-be-returned/2024-12-13/
END:VEVENT
BEGIN:VEVENT
DTSTART;TZID=America/Moncton:20241212T122500
DTEND;TZID=America/Moncton:20241212T124500
DTSTAMP:20260426T000004
CREATED:20241029T174742Z
LAST-MODIFIED:20241029T174744Z
UID:10002823-1734006300-1734007500@gardencreek.nbed.ca
SUMMARY:Mary Browns Hot Lunch (Last Day of Round 3)
DESCRIPTION:
URL:https://gardencreek.nbed.ca/calendar/mary-browns-hot-lunch-last-day-of-round-3/
CATEGORIES:Food
END:VEVENT
BEGIN:VEVENT
DTSTART;TZID=America/Moncton:20241212T095500
DTEND;TZID=America/Moncton:20241212T101000
DTSTAMP:20260426T000004
CREATED:20241204T180104Z
LAST-MODIFIED:20241204T180106Z
UID:10002844-1733997300-1733998200@gardencreek.nbed.ca
SUMMARY:Grade 3-5 Choir
DESCRIPTION:
URL:https://gardencreek.nbed.ca/calendar/grade-3-5-choir/
END:VEVENT
BEGIN:VEVENT
DTSTART;TZID=America/Moncton:20241212T080000
DTEND;TZID=America/Moncton:20241212T170000
DTSTAMP:20260426T000004
CREATED:20240529T132922Z
LAST-MODIFIED:20240529T132925Z
UID:10001147-1733990400-1734022800@gardencreek.nbed.ca
SUMMARY:Library Books to be returned
DESCRIPTION:
URL:https://gardencreek.nbed.ca/calendar/library-books-to-be-returned/2024-12-12/
END:VEVENT
BEGIN:VEVENT
DTSTART;TZID=America/Moncton:20241211T080000
DTEND;TZID=America/Moncton:20241211T170000
DTSTAMP:20260426T000004
CREATED:20240529T132922Z
LAST-MODIFIED:20240529T132925Z
UID:10001146-1733904000-1733936400@gardencreek.nbed.ca
SUMMARY:Library Books to be returned
DESCRIPTION:
URL:https://gardencreek.nbed.ca/calendar/library-books-to-be-returned/2024-12-11/
END:VEVENT
BEGIN:VEVENT
DTSTART;TZID=America/Moncton:20241210T183000
DTEND;TZID=America/Moncton:20241210T193000
DTSTAMP:20260426T000004
CREATED:20241204T175930Z
LAST-MODIFIED:20241204T175931Z
UID:10002841-1733855400-1733859000@gardencreek.nbed.ca
SUMMARY:Home & School Meeting
DESCRIPTION:
URL:https://gardencreek.nbed.ca/calendar/home-school-meeting-2/
END:VEVENT
BEGIN:VEVENT
DTSTART;TZID=America/Moncton:20241210T122500
DTEND;TZID=America/Moncton:20241210T124500
DTSTAMP:20260426T000004
CREATED:20241029T172921Z
LAST-MODIFIED:20241029T172923Z
UID:10002813-1733833500-1733834700@gardencreek.nbed.ca
SUMMARY:Pizza Pizza Hot Lunch (R3)
DESCRIPTION:
URL:https://gardencreek.nbed.ca/calendar/pizza-pizza-hot-lunch-r3-3/
CATEGORIES:Food
END:VEVENT
BEGIN:VEVENT
DTSTART;TZID=America/Moncton:20241210T115500
DTEND;TZID=America/Moncton:20241210T122500
DTSTAMP:20260426T000004
CREATED:20241204T180222Z
LAST-MODIFIED:20241204T180224Z
UID:10002846-1733831700-1733833500@gardencreek.nbed.ca
SUMMARY:K-2 Choir
DESCRIPTION:
URL:https://gardencreek.nbed.ca/calendar/k-2-choir-12/
END:VEVENT
BEGIN:VEVENT
DTSTART;TZID=America/Moncton:20241210T115500
DTEND;TZID=America/Moncton:20241210T122500
DTSTAMP:20260426T000004
CREATED:20241204T175852Z
LAST-MODIFIED:20241204T175854Z
UID:10002840-1733831700-1733833500@gardencreek.nbed.ca
SUMMARY:Drama Club
DESCRIPTION:
URL:https://gardencreek.nbed.ca/calendar/drama-club-2/
END:VEVENT
BEGIN:VEVENT
DTSTART;TZID=America/Moncton:20241210T080000
DTEND;TZID=America/Moncton:20241210T170000
DTSTAMP:20260426T000004
CREATED:20240529T132922Z
LAST-MODIFIED:20240529T132925Z
UID:10001145-1733817600-1733850000@gardencreek.nbed.ca
SUMMARY:Library Books to be returned
DESCRIPTION:
URL:https://gardencreek.nbed.ca/calendar/library-books-to-be-returned/2024-12-10/
END:VEVENT
BEGIN:VEVENT
DTSTART;TZID=America/Moncton:20241209T122500
DTEND;TZID=America/Moncton:20241209T124500
DTSTAMP:20260426T000004
CREATED:20241029T145859Z
LAST-MODIFIED:20241029T145902Z
UID:10002802-1733747100-1733748300@gardencreek.nbed.ca
SUMMARY:Subway Hot Lunch (R3)
DESCRIPTION:
URL:https://gardencreek.nbed.ca/calendar/subway-hot-lunch-r3-3/
CATEGORIES:Food
END:VEVENT
BEGIN:VEVENT
DTSTART;TZID=America/Moncton:20241209T080000
DTEND;TZID=America/Moncton:20241209T170000
DTSTAMP:20260426T000004
CREATED:20240529T132922Z
LAST-MODIFIED:20240529T132925Z
UID:10001144-1733731200-1733763600@gardencreek.nbed.ca
SUMMARY:Library Books to be returned
DESCRIPTION:
URL:https://gardencreek.nbed.ca/calendar/library-books-to-be-returned/2024-12-09/
END:VEVENT
BEGIN:VEVENT
DTSTART;TZID=America/Moncton:20241208T080000
DTEND;TZID=America/Moncton:20241208T170000
DTSTAMP:20260426T000005
CREATED:20240529T132922Z
LAST-MODIFIED:20240529T132925Z
UID:10001143-1733644800-1733677200@gardencreek.nbed.ca
SUMMARY:Library Books to be returned
DESCRIPTION:
URL:https://gardencreek.nbed.ca/calendar/library-books-to-be-returned/2024-12-08/
END:VEVENT
BEGIN:VEVENT
DTSTART;TZID=America/Moncton:20241207T080000
DTEND;TZID=America/Moncton:20241207T170000
DTSTAMP:20260426T000005
CREATED:20240529T132922Z
LAST-MODIFIED:20240529T132925Z
UID:10001142-1733558400-1733590800@gardencreek.nbed.ca
SUMMARY:Library Books to be returned
DESCRIPTION:
URL:https://gardencreek.nbed.ca/calendar/library-books-to-be-returned/2024-12-07/
END:VEVENT
BEGIN:VEVENT
DTSTART;TZID=America/Moncton:20241206T121500
DTEND;TZID=America/Moncton:20241206T124500
DTSTAMP:20260426T000005
CREATED:20241031T122659Z
LAST-MODIFIED:20241031T122726Z
UID:10002831-1733487300-1733489100@gardencreek.nbed.ca
SUMMARY:Porter's Diner Hot Lunch (R3)
DESCRIPTION:
URL:https://gardencreek.nbed.ca/calendar/porters-diner-r3/
CATEGORIES:Food
END:VEVENT
BEGIN:VEVENT
DTSTART;TZID=America/Moncton:20241206T080000
DTEND;TZID=America/Moncton:20241206T170000
DTSTAMP:20260426T000005
CREATED:20240529T132922Z
LAST-MODIFIED:20240529T132925Z
UID:10001141-1733472000-1733504400@gardencreek.nbed.ca
SUMMARY:Library Books to be returned
DESCRIPTION:
URL:https://gardencreek.nbed.ca/calendar/library-books-to-be-returned/2024-12-06/
END:VEVENT
BEGIN:VEVENT
DTSTART;TZID=America/Moncton:20241206T080000
DTEND;TZID=America/Moncton:20241206T120000
DTSTAMP:20260426T000005
CREATED:20241204T180357Z
LAST-MODIFIED:20241204T180358Z
UID:10002849-1733472000-1733486400@gardencreek.nbed.ca
SUMMARY:Parent-Teacher Conference-No School
DESCRIPTION:
URL:https://gardencreek.nbed.ca/calendar/parent-teacher-conference-no-school/
END:VEVENT
BEGIN:VEVENT
DTSTART;TZID=America/Moncton:20241205T153000
DTEND;TZID=America/Moncton:20241205T190000
DTSTAMP:20260426T000005
CREATED:20241204T180330Z
LAST-MODIFIED:20241204T180331Z
UID:10002848-1733412600-1733425200@gardencreek.nbed.ca
SUMMARY:Parent-Teacher Conference
DESCRIPTION:
URL:https://gardencreek.nbed.ca/calendar/parent-teacher-conference-3/
END:VEVENT
BEGIN:VEVENT
DTSTART;TZID=America/Moncton:20241205T122500
DTEND;TZID=America/Moncton:20241205T124500
DTSTAMP:20260426T000005
CREATED:20241029T174648Z
LAST-MODIFIED:20241029T174649Z
UID:10002822-1733401500-1733402700@gardencreek.nbed.ca
SUMMARY:Mary Browns Hot Lunch (R3)
DESCRIPTION:
URL:https://gardencreek.nbed.ca/calendar/mary-browns-hot-lunch-r3-2/
CATEGORIES:Food
END:VEVENT
BEGIN:VEVENT
DTSTART;TZID=America/Moncton:20241205T095500
DTEND;TZID=America/Moncton:20241205T101000
DTSTAMP:20260426T000005
CREATED:20241204T180034Z
LAST-MODIFIED:20241204T180035Z
UID:10002843-1733392500-1733393400@gardencreek.nbed.ca
SUMMARY:Gr. 3-5 Choir
DESCRIPTION:
URL:https://gardencreek.nbed.ca/calendar/gr-3-5-choir-5/
END:VEVENT
BEGIN:VEVENT
DTSTART;TZID=America/Moncton:20241205T080000
DTEND;TZID=America/Moncton:20241205T170000
DTSTAMP:20260426T000005
CREATED:20240529T132922Z
LAST-MODIFIED:20240529T132925Z
UID:10001140-1733385600-1733418000@gardencreek.nbed.ca
SUMMARY:Library Books to be returned
DESCRIPTION:
URL:https://gardencreek.nbed.ca/calendar/library-books-to-be-returned/2024-12-05/
END:VEVENT
BEGIN:VEVENT
DTSTART;TZID=America/Moncton:20241204T080000
DTEND;TZID=America/Moncton:20241204T170000
DTSTAMP:20260426T000005
CREATED:20240529T132922Z
LAST-MODIFIED:20240529T132925Z
UID:10001139-1733299200-1733331600@gardencreek.nbed.ca
SUMMARY:Library Books to be returned
DESCRIPTION:
URL:https://gardencreek.nbed.ca/calendar/library-books-to-be-returned/2024-12-04/
END:VEVENT
BEGIN:VEVENT
DTSTART;TZID=America/Moncton:20241203T122500
DTEND;TZID=America/Moncton:20241203T124500
DTSTAMP:20260426T000005
CREATED:20241029T172843Z
LAST-MODIFIED:20241029T172845Z
UID:10002812-1733228700-1733229900@gardencreek.nbed.ca
SUMMARY:Pizza Pizza Hot Lunch (R3)
DESCRIPTION:
URL:https://gardencreek.nbed.ca/calendar/pizza-pizza-hot-lunch-r3-2/
CATEGORIES:Food
END:VEVENT
BEGIN:VEVENT
DTSTART;TZID=America/Moncton:20241203T115500
DTEND;TZID=America/Moncton:20241203T122500
DTSTAMP:20260426T000005
CREATED:20241204T180158Z
LAST-MODIFIED:20241204T180200Z
UID:10002845-1733226900-1733228700@gardencreek.nbed.ca
SUMMARY:K-2 Choir
DESCRIPTION:
URL:https://gardencreek.nbed.ca/calendar/k-2-choir-11/
END:VEVENT
BEGIN:VEVENT
DTSTART;TZID=America/Moncton:20241203T115500
DTEND;TZID=America/Moncton:20241203T122500
DTSTAMP:20260426T000005
CREATED:20241204T175826Z
LAST-MODIFIED:20241204T175828Z
UID:10002839-1733226900-1733228700@gardencreek.nbed.ca
SUMMARY:Drama Club
DESCRIPTION:
URL:https://gardencreek.nbed.ca/calendar/drama-club/
END:VEVENT
BEGIN:VEVENT
DTSTART;TZID=America/Moncton:20241203T080000
DTEND;TZID=America/Moncton:20241203T170000
DTSTAMP:20260426T000005
CREATED:20241204T175737Z
LAST-MODIFIED:20241204T175738Z
UID:10002838-1733212800-1733245200@gardencreek.nbed.ca
SUMMARY:International Day for Persons with Disabilities
DESCRIPTION:
URL:https://gardencreek.nbed.ca/calendar/international-day-for-persons-with-disabilities/
END:VEVENT
BEGIN:VEVENT
DTSTART;TZID=America/Moncton:20241203T080000
DTEND;TZID=America/Moncton:20241203T170000
DTSTAMP:20260426T000005
CREATED:20240529T132922Z
LAST-MODIFIED:20240529T132925Z
UID:10001138-1733212800-1733245200@gardencreek.nbed.ca
SUMMARY:Library Books to be returned
DESCRIPTION:
URL:https://gardencreek.nbed.ca/calendar/library-books-to-be-returned/2024-12-03/
END:VEVENT
BEGIN:VEVENT
DTSTART;TZID=America/Moncton:20241202T122500
DTEND;TZID=America/Moncton:20241202T124500
DTSTAMP:20260426T000005
CREATED:20241029T145823Z
LAST-MODIFIED:20241029T145825Z
UID:10002801-1733142300-1733143500@gardencreek.nbed.ca
SUMMARY:Subway Hot Lunch (R3)
DESCRIPTION:
URL:https://gardencreek.nbed.ca/calendar/subway-hot-lunch-r3-2/
CATEGORIES:Food
END:VEVENT
BEGIN:VEVENT
DTSTART;TZID=America/Moncton:20241202T080000
DTEND;TZID=America/Moncton:20241202T170000
DTSTAMP:20260426T000005
CREATED:20240529T132922Z
LAST-MODIFIED:20240529T132925Z
UID:10001137-1733126400-1733158800@gardencreek.nbed.ca
SUMMARY:Library Books to be returned
DESCRIPTION:
URL:https://gardencreek.nbed.ca/calendar/library-books-to-be-returned/2024-12-02/
END:VEVENT
END:VCALENDAR