BEGIN:VCALENDAR
VERSION:2.0
PRODID:-//Garden Creek School - ECPv6.15.20//NONSGML v1.0//EN
CALSCALE:GREGORIAN
METHOD:PUBLISH
X-WR-CALNAME:Garden Creek School
X-ORIGINAL-URL:https://gardencreek.nbed.ca
X-WR-CALDESC:Events for Garden Creek School
REFRESH-INTERVAL;VALUE=DURATION:PT1H
X-Robots-Tag:noindex
X-PUBLISHED-TTL:PT1H
BEGIN:VTIMEZONE
TZID:America/Moncton
BEGIN:DAYLIGHT
TZOFFSETFROM:-0400
TZOFFSETTO:-0300
TZNAME:ADT
DTSTART:20260308T060000
END:DAYLIGHT
BEGIN:STANDARD
TZOFFSETFROM:-0300
TZOFFSETTO:-0400
TZNAME:AST
DTSTART:20261101T050000
END:STANDARD
BEGIN:DAYLIGHT
TZOFFSETFROM:-0400
TZOFFSETTO:-0300
TZNAME:ADT
DTSTART:20270314T060000
END:DAYLIGHT
BEGIN:STANDARD
TZOFFSETFROM:-0300
TZOFFSETTO:-0400
TZNAME:AST
DTSTART:20271107T050000
END:STANDARD
BEGIN:DAYLIGHT
TZOFFSETFROM:-0400
TZOFFSETTO:-0300
TZNAME:ADT
DTSTART:20280312T060000
END:DAYLIGHT
BEGIN:STANDARD
TZOFFSETFROM:-0300
TZOFFSETTO:-0400
TZNAME:AST
DTSTART:20281105T050000
END:STANDARD
END:VTIMEZONE
BEGIN:VEVENT
DTSTART;TZID=America/Moncton:20270608T080000
DTEND;TZID=America/Moncton:20270608T170000
DTSTAMP:20260425T201857
CREATED:20240529T132922Z
LAST-MODIFIED:20240529T132925Z
UID:10002055-1812441600-1812474000@gardencreek.nbed.ca
SUMMARY:Library Books to be returned
DESCRIPTION:
URL:https://gardencreek.nbed.ca/calendar/library-books-to-be-returned/2027-06-08/
END:VEVENT
BEGIN:VEVENT
DTSTART;TZID=America/Moncton:20270609T080000
DTEND;TZID=America/Moncton:20270609T170000
DTSTAMP:20260425T201857
CREATED:20240529T132922Z
LAST-MODIFIED:20240529T132925Z
UID:10002056-1812528000-1812560400@gardencreek.nbed.ca
SUMMARY:Library Books to be returned
DESCRIPTION:
URL:https://gardencreek.nbed.ca/calendar/library-books-to-be-returned/2027-06-09/
END:VEVENT
BEGIN:VEVENT
DTSTART;TZID=America/Moncton:20270610T080000
DTEND;TZID=America/Moncton:20270610T170000
DTSTAMP:20260425T201857
CREATED:20240529T132922Z
LAST-MODIFIED:20240529T132925Z
UID:10002057-1812614400-1812646800@gardencreek.nbed.ca
SUMMARY:Library Books to be returned
DESCRIPTION:
URL:https://gardencreek.nbed.ca/calendar/library-books-to-be-returned/2027-06-10/
END:VEVENT
BEGIN:VEVENT
DTSTART;TZID=America/Moncton:20270611T080000
DTEND;TZID=America/Moncton:20270611T170000
DTSTAMP:20260425T201857
CREATED:20240529T132922Z
LAST-MODIFIED:20240529T132925Z
UID:10002058-1812700800-1812733200@gardencreek.nbed.ca
SUMMARY:Library Books to be returned
DESCRIPTION:
URL:https://gardencreek.nbed.ca/calendar/library-books-to-be-returned/2027-06-11/
END:VEVENT
BEGIN:VEVENT
DTSTART;TZID=America/Moncton:20270612T080000
DTEND;TZID=America/Moncton:20270612T170000
DTSTAMP:20260425T201857
CREATED:20240529T132922Z
LAST-MODIFIED:20240529T132925Z
UID:10002059-1812787200-1812819600@gardencreek.nbed.ca
SUMMARY:Library Books to be returned
DESCRIPTION:
URL:https://gardencreek.nbed.ca/calendar/library-books-to-be-returned/2027-06-12/
END:VEVENT
BEGIN:VEVENT
DTSTART;TZID=America/Moncton:20270613T080000
DTEND;TZID=America/Moncton:20270613T170000
DTSTAMP:20260425T201857
CREATED:20240529T132922Z
LAST-MODIFIED:20240529T132925Z
UID:10002060-1812873600-1812906000@gardencreek.nbed.ca
SUMMARY:Library Books to be returned
DESCRIPTION:
URL:https://gardencreek.nbed.ca/calendar/library-books-to-be-returned/2027-06-13/
END:VEVENT
BEGIN:VEVENT
DTSTART;TZID=America/Moncton:20270614T080000
DTEND;TZID=America/Moncton:20270614T170000
DTSTAMP:20260425T201857
CREATED:20240529T132922Z
LAST-MODIFIED:20240529T132925Z
UID:10002061-1812960000-1812992400@gardencreek.nbed.ca
SUMMARY:Library Books to be returned
DESCRIPTION:
URL:https://gardencreek.nbed.ca/calendar/library-books-to-be-returned/2027-06-14/
END:VEVENT
BEGIN:VEVENT
DTSTART;TZID=America/Moncton:20270615T080000
DTEND;TZID=America/Moncton:20270615T170000
DTSTAMP:20260425T201857
CREATED:20240529T132922Z
LAST-MODIFIED:20240529T132925Z
UID:10002062-1813046400-1813078800@gardencreek.nbed.ca
SUMMARY:Library Books to be returned
DESCRIPTION:
URL:https://gardencreek.nbed.ca/calendar/library-books-to-be-returned/2027-06-15/
END:VEVENT
BEGIN:VEVENT
DTSTART;TZID=America/Moncton:20270616T080000
DTEND;TZID=America/Moncton:20270616T170000
DTSTAMP:20260425T201857
CREATED:20240529T132922Z
LAST-MODIFIED:20240529T132925Z
UID:10002063-1813132800-1813165200@gardencreek.nbed.ca
SUMMARY:Library Books to be returned
DESCRIPTION:
URL:https://gardencreek.nbed.ca/calendar/library-books-to-be-returned/2027-06-16/
END:VEVENT
BEGIN:VEVENT
DTSTART;TZID=America/Moncton:20270617T080000
DTEND;TZID=America/Moncton:20270617T170000
DTSTAMP:20260425T201857
CREATED:20240529T132922Z
LAST-MODIFIED:20240529T132925Z
UID:10002064-1813219200-1813251600@gardencreek.nbed.ca
SUMMARY:Library Books to be returned
DESCRIPTION:
URL:https://gardencreek.nbed.ca/calendar/library-books-to-be-returned/2027-06-17/
END:VEVENT
BEGIN:VEVENT
DTSTART;TZID=America/Moncton:20270618T080000
DTEND;TZID=America/Moncton:20270618T170000
DTSTAMP:20260425T201857
CREATED:20240529T132922Z
LAST-MODIFIED:20240529T132925Z
UID:10002065-1813305600-1813338000@gardencreek.nbed.ca
SUMMARY:Library Books to be returned
DESCRIPTION:
URL:https://gardencreek.nbed.ca/calendar/library-books-to-be-returned/2027-06-18/
END:VEVENT
BEGIN:VEVENT
DTSTART;TZID=America/Moncton:20270619T080000
DTEND;TZID=America/Moncton:20270619T170000
DTSTAMP:20260425T201857
CREATED:20240529T132922Z
LAST-MODIFIED:20240529T132925Z
UID:10002066-1813392000-1813424400@gardencreek.nbed.ca
SUMMARY:Library Books to be returned
DESCRIPTION:
URL:https://gardencreek.nbed.ca/calendar/library-books-to-be-returned/2027-06-19/
END:VEVENT
BEGIN:VEVENT
DTSTART;TZID=America/Moncton:20270620T080000
DTEND;TZID=America/Moncton:20270620T170000
DTSTAMP:20260425T201857
CREATED:20240529T132922Z
LAST-MODIFIED:20240529T132925Z
UID:10002067-1813478400-1813510800@gardencreek.nbed.ca
SUMMARY:Library Books to be returned
DESCRIPTION:
URL:https://gardencreek.nbed.ca/calendar/library-books-to-be-returned/2027-06-20/
END:VEVENT
BEGIN:VEVENT
DTSTART;TZID=America/Moncton:20270621T080000
DTEND;TZID=America/Moncton:20270621T170000
DTSTAMP:20260425T201857
CREATED:20240529T132922Z
LAST-MODIFIED:20240529T132925Z
UID:10002068-1813564800-1813597200@gardencreek.nbed.ca
SUMMARY:Library Books to be returned
DESCRIPTION:
URL:https://gardencreek.nbed.ca/calendar/library-books-to-be-returned/2027-06-21/
END:VEVENT
BEGIN:VEVENT
DTSTART;TZID=America/Moncton:20270622T080000
DTEND;TZID=America/Moncton:20270622T170000
DTSTAMP:20260425T201857
CREATED:20240529T132922Z
LAST-MODIFIED:20240529T132925Z
UID:10002069-1813651200-1813683600@gardencreek.nbed.ca
SUMMARY:Library Books to be returned
DESCRIPTION:
URL:https://gardencreek.nbed.ca/calendar/library-books-to-be-returned/2027-06-22/
END:VEVENT
BEGIN:VEVENT
DTSTART;TZID=America/Moncton:20270623T080000
DTEND;TZID=America/Moncton:20270623T170000
DTSTAMP:20260425T201857
CREATED:20240529T132922Z
LAST-MODIFIED:20240529T132925Z
UID:10002070-1813737600-1813770000@gardencreek.nbed.ca
SUMMARY:Library Books to be returned
DESCRIPTION:
URL:https://gardencreek.nbed.ca/calendar/library-books-to-be-returned/2027-06-23/
END:VEVENT
BEGIN:VEVENT
DTSTART;TZID=America/Moncton:20270624T080000
DTEND;TZID=America/Moncton:20270624T170000
DTSTAMP:20260425T201857
CREATED:20240529T132922Z
LAST-MODIFIED:20240529T132925Z
UID:10002071-1813824000-1813856400@gardencreek.nbed.ca
SUMMARY:Library Books to be returned
DESCRIPTION:
URL:https://gardencreek.nbed.ca/calendar/library-books-to-be-returned/2027-06-24/
END:VEVENT
BEGIN:VEVENT
DTSTART;TZID=America/Moncton:20270625T080000
DTEND;TZID=America/Moncton:20270625T170000
DTSTAMP:20260425T201857
CREATED:20240529T132922Z
LAST-MODIFIED:20240529T132925Z
UID:10002072-1813910400-1813942800@gardencreek.nbed.ca
SUMMARY:Library Books to be returned
DESCRIPTION:
URL:https://gardencreek.nbed.ca/calendar/library-books-to-be-returned/2027-06-25/
END:VEVENT
BEGIN:VEVENT
DTSTART;TZID=America/Moncton:20270626T080000
DTEND;TZID=America/Moncton:20270626T170000
DTSTAMP:20260425T201857
CREATED:20240529T132922Z
LAST-MODIFIED:20240529T132925Z
UID:10002073-1813996800-1814029200@gardencreek.nbed.ca
SUMMARY:Library Books to be returned
DESCRIPTION:
URL:https://gardencreek.nbed.ca/calendar/library-books-to-be-returned/2027-06-26/
END:VEVENT
BEGIN:VEVENT
DTSTART;TZID=America/Moncton:20270627T080000
DTEND;TZID=America/Moncton:20270627T170000
DTSTAMP:20260425T201857
CREATED:20240529T132922Z
LAST-MODIFIED:20240529T132925Z
UID:10002074-1814083200-1814115600@gardencreek.nbed.ca
SUMMARY:Library Books to be returned
DESCRIPTION:
URL:https://gardencreek.nbed.ca/calendar/library-books-to-be-returned/2027-06-27/
END:VEVENT
BEGIN:VEVENT
DTSTART;TZID=America/Moncton:20270628T080000
DTEND;TZID=America/Moncton:20270628T170000
DTSTAMP:20260425T201857
CREATED:20240529T132922Z
LAST-MODIFIED:20240529T132925Z
UID:10002075-1814169600-1814202000@gardencreek.nbed.ca
SUMMARY:Library Books to be returned
DESCRIPTION:
URL:https://gardencreek.nbed.ca/calendar/library-books-to-be-returned/2027-06-28/
END:VEVENT
BEGIN:VEVENT
DTSTART;TZID=America/Moncton:20270629T080000
DTEND;TZID=America/Moncton:20270629T170000
DTSTAMP:20260425T201857
CREATED:20240529T132922Z
LAST-MODIFIED:20240529T132925Z
UID:10002076-1814256000-1814288400@gardencreek.nbed.ca
SUMMARY:Library Books to be returned
DESCRIPTION:
URL:https://gardencreek.nbed.ca/calendar/library-books-to-be-returned/2027-06-29/
END:VEVENT
BEGIN:VEVENT
DTSTART;TZID=America/Moncton:20270630T080000
DTEND;TZID=America/Moncton:20270630T170000
DTSTAMP:20260425T201857
CREATED:20240529T132922Z
LAST-MODIFIED:20240529T132925Z
UID:10002077-1814342400-1814374800@gardencreek.nbed.ca
SUMMARY:Library Books to be returned
DESCRIPTION:
URL:https://gardencreek.nbed.ca/calendar/library-books-to-be-returned/2027-06-30/
END:VEVENT
BEGIN:VEVENT
DTSTART;TZID=America/Moncton:20270701T080000
DTEND;TZID=America/Moncton:20270701T170000
DTSTAMP:20260425T201857
CREATED:20240529T132922Z
LAST-MODIFIED:20240529T132925Z
UID:10002078-1814428800-1814461200@gardencreek.nbed.ca
SUMMARY:Library Books to be returned
DESCRIPTION:
URL:https://gardencreek.nbed.ca/calendar/library-books-to-be-returned/2027-07-01/
END:VEVENT
BEGIN:VEVENT
DTSTART;TZID=America/Moncton:20270702T080000
DTEND;TZID=America/Moncton:20270702T170000
DTSTAMP:20260425T201857
CREATED:20240529T132922Z
LAST-MODIFIED:20240529T132925Z
UID:10002079-1814515200-1814547600@gardencreek.nbed.ca
SUMMARY:Library Books to be returned
DESCRIPTION:
URL:https://gardencreek.nbed.ca/calendar/library-books-to-be-returned/2027-07-02/
END:VEVENT
BEGIN:VEVENT
DTSTART;TZID=America/Moncton:20270703T080000
DTEND;TZID=America/Moncton:20270703T170000
DTSTAMP:20260425T201857
CREATED:20240529T132922Z
LAST-MODIFIED:20240529T132925Z
UID:10002080-1814601600-1814634000@gardencreek.nbed.ca
SUMMARY:Library Books to be returned
DESCRIPTION:
URL:https://gardencreek.nbed.ca/calendar/library-books-to-be-returned/2027-07-03/
END:VEVENT
BEGIN:VEVENT
DTSTART;TZID=America/Moncton:20270704T080000
DTEND;TZID=America/Moncton:20270704T170000
DTSTAMP:20260425T201857
CREATED:20240529T132922Z
LAST-MODIFIED:20240529T132925Z
UID:10002081-1814688000-1814720400@gardencreek.nbed.ca
SUMMARY:Library Books to be returned
DESCRIPTION:
URL:https://gardencreek.nbed.ca/calendar/library-books-to-be-returned/2027-07-04/
END:VEVENT
BEGIN:VEVENT
DTSTART;TZID=America/Moncton:20270705T080000
DTEND;TZID=America/Moncton:20270705T170000
DTSTAMP:20260425T201857
CREATED:20240529T132922Z
LAST-MODIFIED:20240529T132925Z
UID:10002082-1814774400-1814806800@gardencreek.nbed.ca
SUMMARY:Library Books to be returned
DESCRIPTION:
URL:https://gardencreek.nbed.ca/calendar/library-books-to-be-returned/2027-07-05/
END:VEVENT
BEGIN:VEVENT
DTSTART;TZID=America/Moncton:20270706T080000
DTEND;TZID=America/Moncton:20270706T170000
DTSTAMP:20260425T201857
CREATED:20240529T132922Z
LAST-MODIFIED:20240529T132925Z
UID:10002083-1814860800-1814893200@gardencreek.nbed.ca
SUMMARY:Library Books to be returned
DESCRIPTION:
URL:https://gardencreek.nbed.ca/calendar/library-books-to-be-returned/2027-07-06/
END:VEVENT
BEGIN:VEVENT
DTSTART;TZID=America/Moncton:20270707T080000
DTEND;TZID=America/Moncton:20270707T170000
DTSTAMP:20260425T201857
CREATED:20240529T132922Z
LAST-MODIFIED:20240529T132925Z
UID:10002084-1814947200-1814979600@gardencreek.nbed.ca
SUMMARY:Library Books to be returned
DESCRIPTION:
URL:https://gardencreek.nbed.ca/calendar/library-books-to-be-returned/2027-07-07/
END:VEVENT
END:VCALENDAR