BEGIN:VCALENDAR
VERSION:2.0
PRODID:-//Garden Creek School - ECPv6.15.20//NONSGML v1.0//EN
CALSCALE:GREGORIAN
METHOD:PUBLISH
X-WR-CALNAME:Garden Creek School
X-ORIGINAL-URL:https://gardencreek.nbed.ca
X-WR-CALDESC:Events for Garden Creek School
REFRESH-INTERVAL;VALUE=DURATION:PT1H
X-Robots-Tag:noindex
X-PUBLISHED-TTL:PT1H
BEGIN:VTIMEZONE
TZID:America/Moncton
BEGIN:DAYLIGHT
TZOFFSETFROM:-0400
TZOFFSETTO:-0300
TZNAME:ADT
DTSTART:20230312T060000
END:DAYLIGHT
BEGIN:STANDARD
TZOFFSETFROM:-0300
TZOFFSETTO:-0400
TZNAME:AST
DTSTART:20231105T050000
END:STANDARD
BEGIN:DAYLIGHT
TZOFFSETFROM:-0400
TZOFFSETTO:-0300
TZNAME:ADT
DTSTART:20240310T060000
END:DAYLIGHT
BEGIN:STANDARD
TZOFFSETFROM:-0300
TZOFFSETTO:-0400
TZNAME:AST
DTSTART:20241103T050000
END:STANDARD
BEGIN:DAYLIGHT
TZOFFSETFROM:-0400
TZOFFSETTO:-0300
TZNAME:ADT
DTSTART:20250309T060000
END:DAYLIGHT
BEGIN:STANDARD
TZOFFSETFROM:-0300
TZOFFSETTO:-0400
TZNAME:AST
DTSTART:20251102T050000
END:STANDARD
BEGIN:DAYLIGHT
TZOFFSETFROM:-0400
TZOFFSETTO:-0300
TZNAME:ADT
DTSTART:20260308T060000
END:DAYLIGHT
BEGIN:STANDARD
TZOFFSETFROM:-0300
TZOFFSETTO:-0400
TZNAME:AST
DTSTART:20261101T050000
END:STANDARD
END:VTIMEZONE
BEGIN:VEVENT
DTSTART;TZID=America/Moncton:20241221T080000
DTEND;TZID=America/Moncton:20241221T170000
DTSTAMP:20260426T001756
CREATED:20240529T132922Z
LAST-MODIFIED:20240529T132925Z
UID:10001156-1734768000-1734800400@gardencreek.nbed.ca
SUMMARY:Library Books to be returned
DESCRIPTION:
URL:https://gardencreek.nbed.ca/calendar/library-books-to-be-returned/2024-12-21/
END:VEVENT
BEGIN:VEVENT
DTSTART;TZID=America/Moncton:20241220T080000
DTEND;TZID=America/Moncton:20241220T170000
DTSTAMP:20260426T001756
CREATED:20240529T132922Z
LAST-MODIFIED:20240529T132925Z
UID:10001155-1734681600-1734714000@gardencreek.nbed.ca
SUMMARY:Library Books to be returned
DESCRIPTION:
URL:https://gardencreek.nbed.ca/calendar/library-books-to-be-returned/2024-12-20/
END:VEVENT
BEGIN:VEVENT
DTSTART;TZID=America/Moncton:20241220T080000
DTEND;TZID=America/Moncton:20241220T143000
DTSTAMP:20260426T001756
CREATED:20241204T180644Z
LAST-MODIFIED:20241204T180645Z
UID:10002850-1734681600-1734705000@gardencreek.nbed.ca
SUMMARY:Last Day of School for the Holidays
DESCRIPTION:
URL:https://gardencreek.nbed.ca/calendar/last-day-of-school-for-the-holidays/
END:VEVENT
BEGIN:VEVENT
DTSTART;TZID=America/Moncton:20241219T090000
DTEND;TZID=America/Moncton:20241219T120000
DTSTAMP:20260426T001756
CREATED:20241204T180254Z
LAST-MODIFIED:20241204T180255Z
UID:10002847-1734598800-1734609600@gardencreek.nbed.ca
SUMMARY:Holiday Concert-Snow Date
DESCRIPTION:
URL:https://gardencreek.nbed.ca/calendar/holiday-concert-snow-date-3/
END:VEVENT
BEGIN:VEVENT
DTSTART;TZID=America/Moncton:20241219T080000
DTEND;TZID=America/Moncton:20241219T170000
DTSTAMP:20260426T001756
CREATED:20240529T132922Z
LAST-MODIFIED:20240529T132925Z
UID:10001154-1734595200-1734627600@gardencreek.nbed.ca
SUMMARY:Library Books to be returned
DESCRIPTION:
URL:https://gardencreek.nbed.ca/calendar/library-books-to-be-returned/2024-12-19/
END:VEVENT
BEGIN:VEVENT
DTSTART;TZID=America/Moncton:20241218T080000
DTEND;TZID=America/Moncton:20241218T170000
DTSTAMP:20260426T001756
CREATED:20240529T132922Z
LAST-MODIFIED:20240529T132925Z
UID:10001153-1734508800-1734541200@gardencreek.nbed.ca
SUMMARY:Library Books to be returned
DESCRIPTION:
URL:https://gardencreek.nbed.ca/calendar/library-books-to-be-returned/2024-12-18/
END:VEVENT
BEGIN:VEVENT
DTSTART;TZID=America/Moncton:20241217T183000
DTEND;TZID=America/Moncton:20241217T193000
DTSTAMP:20260426T001756
CREATED:20241204T175954Z
LAST-MODIFIED:20241204T175956Z
UID:10002842-1734460200-1734463800@gardencreek.nbed.ca
SUMMARY:PSSC Meeting
DESCRIPTION:
URL:https://gardencreek.nbed.ca/calendar/pssc-meeting-4/
END:VEVENT
BEGIN:VEVENT
DTSTART;TZID=America/Moncton:20241217T122500
DTEND;TZID=America/Moncton:20241217T124500
DTSTAMP:20260426T001756
CREATED:20241029T173011Z
LAST-MODIFIED:20241029T173337Z
UID:10002814-1734438300-1734439500@gardencreek.nbed.ca
SUMMARY:Pizza Pizza Hot Lunch Last Day (R3)
DESCRIPTION:
URL:https://gardencreek.nbed.ca/calendar/pizza-pizza-hot-lunch-r3-4/
CATEGORIES:Food
END:VEVENT
BEGIN:VEVENT
DTSTART;TZID=America/Moncton:20241217T090000
DTEND;TZID=America/Moncton:20241217T170000
DTSTAMP:20260426T001756
CREATED:20241204T175408Z
LAST-MODIFIED:20241204T175409Z
UID:10002836-1734426000-1734454800@gardencreek.nbed.ca
SUMMARY:Holiday Concert
DESCRIPTION:Performance Times: \n\n\n\n9:00 m and 12:00 noon
URL:https://gardencreek.nbed.ca/calendar/holiday-concert-4/
END:VEVENT
BEGIN:VEVENT
DTSTART;TZID=America/Moncton:20241217T080000
DTEND;TZID=America/Moncton:20241217T170000
DTSTAMP:20260426T001756
CREATED:20240529T132922Z
LAST-MODIFIED:20240529T132925Z
UID:10001152-1734422400-1734454800@gardencreek.nbed.ca
SUMMARY:Library Books to be returned
DESCRIPTION:
URL:https://gardencreek.nbed.ca/calendar/library-books-to-be-returned/2024-12-17/
END:VEVENT
BEGIN:VEVENT
DTSTART;TZID=America/Moncton:20241216T122500
DTEND;TZID=America/Moncton:20241216T124500
DTSTAMP:20260426T001756
CREATED:20241029T150017Z
LAST-MODIFIED:20241029T150018Z
UID:10002803-1734351900-1734353100@gardencreek.nbed.ca
SUMMARY:Subway Hot Lunch (R3)
DESCRIPTION:
URL:https://gardencreek.nbed.ca/calendar/subway-hot-lunch-r3-4/
CATEGORIES:Food
END:VEVENT
BEGIN:VEVENT
DTSTART;TZID=America/Moncton:20241216T083000
DTEND;TZID=America/Moncton:20241216T083000
DTSTAMP:20260426T001756
CREATED:20241204T175302Z
LAST-MODIFIED:20241204T175303Z
UID:10002835-1734337800-1734337800@gardencreek.nbed.ca
SUMMARY:Dress Rehearsal-Holiday Concert
DESCRIPTION:
URL:https://gardencreek.nbed.ca/calendar/dress-rehearsal-holiday-concert/
END:VEVENT
BEGIN:VEVENT
DTSTART;TZID=America/Moncton:20241216T080000
DTEND;TZID=America/Moncton:20250106T160000
DTSTAMP:20260426T001756
CREATED:20241204T175656Z
LAST-MODIFIED:20241204T175657Z
UID:10002837-1734336000-1736179200@gardencreek.nbed.ca
SUMMARY:Round 4 Hot Lunch goes live on Schoolcash
DESCRIPTION:
URL:https://gardencreek.nbed.ca/calendar/round-4-hot-lunch-goes-live-on-schoolcash/
END:VEVENT
BEGIN:VEVENT
DTSTART;TZID=America/Moncton:20241216T080000
DTEND;TZID=America/Moncton:20241216T170000
DTSTAMP:20260426T001756
CREATED:20240529T132922Z
LAST-MODIFIED:20240529T132925Z
UID:10001151-1734336000-1734368400@gardencreek.nbed.ca
SUMMARY:Library Books to be returned
DESCRIPTION:
URL:https://gardencreek.nbed.ca/calendar/library-books-to-be-returned/2024-12-16/
END:VEVENT
BEGIN:VEVENT
DTSTART;TZID=America/Moncton:20241215T080000
DTEND;TZID=America/Moncton:20241215T170000
DTSTAMP:20260426T001756
CREATED:20240529T132922Z
LAST-MODIFIED:20240529T132925Z
UID:10001150-1734249600-1734282000@gardencreek.nbed.ca
SUMMARY:Library Books to be returned
DESCRIPTION:
URL:https://gardencreek.nbed.ca/calendar/library-books-to-be-returned/2024-12-15/
END:VEVENT
BEGIN:VEVENT
DTSTART;TZID=America/Moncton:20241214T080000
DTEND;TZID=America/Moncton:20241214T170000
DTSTAMP:20260426T001756
CREATED:20240529T132922Z
LAST-MODIFIED:20240529T132925Z
UID:10001149-1734163200-1734195600@gardencreek.nbed.ca
SUMMARY:Library Books to be returned
DESCRIPTION:
URL:https://gardencreek.nbed.ca/calendar/library-books-to-be-returned/2024-12-14/
END:VEVENT
BEGIN:VEVENT
DTSTART;TZID=America/Moncton:20241213T122500
DTEND;TZID=America/Moncton:20241213T124500
DTSTAMP:20260426T001756
CREATED:20241031T122914Z
LAST-MODIFIED:20241031T122915Z
UID:10002832-1734092700-1734093900@gardencreek.nbed.ca
SUMMARY:Porter's Diner Hot Lunch (Last Day of R3)
DESCRIPTION:
URL:https://gardencreek.nbed.ca/calendar/porters-diner-hot-lunch-last-day-of-r3/
CATEGORIES:Food
END:VEVENT
BEGIN:VEVENT
DTSTART;TZID=America/Moncton:20241213T080000
DTEND;TZID=America/Moncton:20241213T170000
DTSTAMP:20260426T001756
CREATED:20240529T132922Z
LAST-MODIFIED:20240529T132925Z
UID:10001148-1734076800-1734109200@gardencreek.nbed.ca
SUMMARY:Library Books to be returned
DESCRIPTION:
URL:https://gardencreek.nbed.ca/calendar/library-books-to-be-returned/2024-12-13/
END:VEVENT
BEGIN:VEVENT
DTSTART;TZID=America/Moncton:20241212T122500
DTEND;TZID=America/Moncton:20241212T124500
DTSTAMP:20260426T001756
CREATED:20241029T174742Z
LAST-MODIFIED:20241029T174744Z
UID:10002823-1734006300-1734007500@gardencreek.nbed.ca
SUMMARY:Mary Browns Hot Lunch (Last Day of Round 3)
DESCRIPTION:
URL:https://gardencreek.nbed.ca/calendar/mary-browns-hot-lunch-last-day-of-round-3/
CATEGORIES:Food
END:VEVENT
BEGIN:VEVENT
DTSTART;TZID=America/Moncton:20241212T095500
DTEND;TZID=America/Moncton:20241212T101000
DTSTAMP:20260426T001756
CREATED:20241204T180104Z
LAST-MODIFIED:20241204T180106Z
UID:10002844-1733997300-1733998200@gardencreek.nbed.ca
SUMMARY:Grade 3-5 Choir
DESCRIPTION:
URL:https://gardencreek.nbed.ca/calendar/grade-3-5-choir/
END:VEVENT
BEGIN:VEVENT
DTSTART;TZID=America/Moncton:20241212T080000
DTEND;TZID=America/Moncton:20241212T170000
DTSTAMP:20260426T001756
CREATED:20240529T132922Z
LAST-MODIFIED:20240529T132925Z
UID:10001147-1733990400-1734022800@gardencreek.nbed.ca
SUMMARY:Library Books to be returned
DESCRIPTION:
URL:https://gardencreek.nbed.ca/calendar/library-books-to-be-returned/2024-12-12/
END:VEVENT
BEGIN:VEVENT
DTSTART;TZID=America/Moncton:20241211T080000
DTEND;TZID=America/Moncton:20241211T170000
DTSTAMP:20260426T001756
CREATED:20240529T132922Z
LAST-MODIFIED:20240529T132925Z
UID:10001146-1733904000-1733936400@gardencreek.nbed.ca
SUMMARY:Library Books to be returned
DESCRIPTION:
URL:https://gardencreek.nbed.ca/calendar/library-books-to-be-returned/2024-12-11/
END:VEVENT
BEGIN:VEVENT
DTSTART;TZID=America/Moncton:20241210T183000
DTEND;TZID=America/Moncton:20241210T193000
DTSTAMP:20260426T001756
CREATED:20241204T175930Z
LAST-MODIFIED:20241204T175931Z
UID:10002841-1733855400-1733859000@gardencreek.nbed.ca
SUMMARY:Home & School Meeting
DESCRIPTION:
URL:https://gardencreek.nbed.ca/calendar/home-school-meeting-2/
END:VEVENT
BEGIN:VEVENT
DTSTART;TZID=America/Moncton:20241210T122500
DTEND;TZID=America/Moncton:20241210T124500
DTSTAMP:20260426T001756
CREATED:20241029T172921Z
LAST-MODIFIED:20241029T172923Z
UID:10002813-1733833500-1733834700@gardencreek.nbed.ca
SUMMARY:Pizza Pizza Hot Lunch (R3)
DESCRIPTION:
URL:https://gardencreek.nbed.ca/calendar/pizza-pizza-hot-lunch-r3-3/
CATEGORIES:Food
END:VEVENT
BEGIN:VEVENT
DTSTART;TZID=America/Moncton:20241210T115500
DTEND;TZID=America/Moncton:20241210T122500
DTSTAMP:20260426T001756
CREATED:20241204T180222Z
LAST-MODIFIED:20241204T180224Z
UID:10002846-1733831700-1733833500@gardencreek.nbed.ca
SUMMARY:K-2 Choir
DESCRIPTION:
URL:https://gardencreek.nbed.ca/calendar/k-2-choir-12/
END:VEVENT
BEGIN:VEVENT
DTSTART;TZID=America/Moncton:20241210T115500
DTEND;TZID=America/Moncton:20241210T122500
DTSTAMP:20260426T001756
CREATED:20241204T175852Z
LAST-MODIFIED:20241204T175854Z
UID:10002840-1733831700-1733833500@gardencreek.nbed.ca
SUMMARY:Drama Club
DESCRIPTION:
URL:https://gardencreek.nbed.ca/calendar/drama-club-2/
END:VEVENT
BEGIN:VEVENT
DTSTART;TZID=America/Moncton:20241210T080000
DTEND;TZID=America/Moncton:20241210T170000
DTSTAMP:20260426T001756
CREATED:20240529T132922Z
LAST-MODIFIED:20240529T132925Z
UID:10001145-1733817600-1733850000@gardencreek.nbed.ca
SUMMARY:Library Books to be returned
DESCRIPTION:
URL:https://gardencreek.nbed.ca/calendar/library-books-to-be-returned/2024-12-10/
END:VEVENT
BEGIN:VEVENT
DTSTART;TZID=America/Moncton:20241209T122500
DTEND;TZID=America/Moncton:20241209T124500
DTSTAMP:20260426T001756
CREATED:20241029T145859Z
LAST-MODIFIED:20241029T145902Z
UID:10002802-1733747100-1733748300@gardencreek.nbed.ca
SUMMARY:Subway Hot Lunch (R3)
DESCRIPTION:
URL:https://gardencreek.nbed.ca/calendar/subway-hot-lunch-r3-3/
CATEGORIES:Food
END:VEVENT
BEGIN:VEVENT
DTSTART;TZID=America/Moncton:20241209T080000
DTEND;TZID=America/Moncton:20241209T170000
DTSTAMP:20260426T001756
CREATED:20240529T132922Z
LAST-MODIFIED:20240529T132925Z
UID:10001144-1733731200-1733763600@gardencreek.nbed.ca
SUMMARY:Library Books to be returned
DESCRIPTION:
URL:https://gardencreek.nbed.ca/calendar/library-books-to-be-returned/2024-12-09/
END:VEVENT
BEGIN:VEVENT
DTSTART;TZID=America/Moncton:20241208T080000
DTEND;TZID=America/Moncton:20241208T170000
DTSTAMP:20260426T001756
CREATED:20240529T132922Z
LAST-MODIFIED:20240529T132925Z
UID:10001143-1733644800-1733677200@gardencreek.nbed.ca
SUMMARY:Library Books to be returned
DESCRIPTION:
URL:https://gardencreek.nbed.ca/calendar/library-books-to-be-returned/2024-12-08/
END:VEVENT
END:VCALENDAR