BEGIN:VCALENDAR
VERSION:2.0
PRODID:-//Garden Creek School - ECPv6.15.20//NONSGML v1.0//EN
CALSCALE:GREGORIAN
METHOD:PUBLISH
X-ORIGINAL-URL:https://gardencreek.nbed.ca
X-WR-CALDESC:Events for Garden Creek School
REFRESH-INTERVAL;VALUE=DURATION:PT1H
X-Robots-Tag:noindex
X-PUBLISHED-TTL:PT1H
BEGIN:VTIMEZONE
TZID:America/Moncton
BEGIN:DAYLIGHT
TZOFFSETFROM:-0400
TZOFFSETTO:-0300
TZNAME:ADT
DTSTART:20260308T060000
END:DAYLIGHT
BEGIN:STANDARD
TZOFFSETFROM:-0300
TZOFFSETTO:-0400
TZNAME:AST
DTSTART:20261101T050000
END:STANDARD
BEGIN:DAYLIGHT
TZOFFSETFROM:-0400
TZOFFSETTO:-0300
TZNAME:ADT
DTSTART:20270314T060000
END:DAYLIGHT
BEGIN:STANDARD
TZOFFSETFROM:-0300
TZOFFSETTO:-0400
TZNAME:AST
DTSTART:20271107T050000
END:STANDARD
BEGIN:DAYLIGHT
TZOFFSETFROM:-0400
TZOFFSETTO:-0300
TZNAME:ADT
DTSTART:20280312T060000
END:DAYLIGHT
BEGIN:STANDARD
TZOFFSETFROM:-0300
TZOFFSETTO:-0400
TZNAME:AST
DTSTART:20281105T050000
END:STANDARD
END:VTIMEZONE
BEGIN:VEVENT
DTSTART;TZID=America/Moncton:20271018T080000
DTEND;TZID=America/Moncton:20271018T170000
DTSTAMP:20260425T214202
CREATED:20240529T132922Z
LAST-MODIFIED:20240529T132925Z
UID:10002187-1823846400-1823878800@gardencreek.nbed.ca
SUMMARY:Library Books to be returned
DESCRIPTION:
URL:https://gardencreek.nbed.ca/calendar/library-books-to-be-returned/2027-10-18/
END:VEVENT
BEGIN:VEVENT
DTSTART;TZID=America/Moncton:20271019T080000
DTEND;TZID=America/Moncton:20271019T170000
DTSTAMP:20260425T214202
CREATED:20240529T132922Z
LAST-MODIFIED:20240529T132925Z
UID:10002188-1823932800-1823965200@gardencreek.nbed.ca
SUMMARY:Library Books to be returned
DESCRIPTION:
URL:https://gardencreek.nbed.ca/calendar/library-books-to-be-returned/2027-10-19/
END:VEVENT
BEGIN:VEVENT
DTSTART;TZID=America/Moncton:20271020T080000
DTEND;TZID=America/Moncton:20271020T170000
DTSTAMP:20260425T214202
CREATED:20240529T132922Z
LAST-MODIFIED:20240529T132925Z
UID:10002189-1824019200-1824051600@gardencreek.nbed.ca
SUMMARY:Library Books to be returned
DESCRIPTION:
URL:https://gardencreek.nbed.ca/calendar/library-books-to-be-returned/2027-10-20/
END:VEVENT
BEGIN:VEVENT
DTSTART;TZID=America/Moncton:20271021T080000
DTEND;TZID=America/Moncton:20271021T170000
DTSTAMP:20260425T214203
CREATED:20240529T132922Z
LAST-MODIFIED:20240529T132925Z
UID:10002190-1824105600-1824138000@gardencreek.nbed.ca
SUMMARY:Library Books to be returned
DESCRIPTION:
URL:https://gardencreek.nbed.ca/calendar/library-books-to-be-returned/2027-10-21/
END:VEVENT
BEGIN:VEVENT
DTSTART;TZID=America/Moncton:20271022T080000
DTEND;TZID=America/Moncton:20271022T170000
DTSTAMP:20260425T214203
CREATED:20240529T132922Z
LAST-MODIFIED:20240529T132925Z
UID:10002191-1824192000-1824224400@gardencreek.nbed.ca
SUMMARY:Library Books to be returned
DESCRIPTION:
URL:https://gardencreek.nbed.ca/calendar/library-books-to-be-returned/2027-10-22/
END:VEVENT
BEGIN:VEVENT
DTSTART;TZID=America/Moncton:20271023T080000
DTEND;TZID=America/Moncton:20271023T170000
DTSTAMP:20260425T214203
CREATED:20240529T132922Z
LAST-MODIFIED:20240529T132925Z
UID:10002192-1824278400-1824310800@gardencreek.nbed.ca
SUMMARY:Library Books to be returned
DESCRIPTION:
URL:https://gardencreek.nbed.ca/calendar/library-books-to-be-returned/2027-10-23/
END:VEVENT
BEGIN:VEVENT
DTSTART;TZID=America/Moncton:20271024T080000
DTEND;TZID=America/Moncton:20271024T170000
DTSTAMP:20260425T214203
CREATED:20240529T132922Z
LAST-MODIFIED:20240529T132925Z
UID:10002193-1824364800-1824397200@gardencreek.nbed.ca
SUMMARY:Library Books to be returned
DESCRIPTION:
URL:https://gardencreek.nbed.ca/calendar/library-books-to-be-returned/2027-10-24/
END:VEVENT
BEGIN:VEVENT
DTSTART;TZID=America/Moncton:20271025T080000
DTEND;TZID=America/Moncton:20271025T170000
DTSTAMP:20260425T214203
CREATED:20240529T132922Z
LAST-MODIFIED:20240529T132925Z
UID:10002194-1824451200-1824483600@gardencreek.nbed.ca
SUMMARY:Library Books to be returned
DESCRIPTION:
URL:https://gardencreek.nbed.ca/calendar/library-books-to-be-returned/2027-10-25/
END:VEVENT
BEGIN:VEVENT
DTSTART;TZID=America/Moncton:20271026T080000
DTEND;TZID=America/Moncton:20271026T170000
DTSTAMP:20260425T214203
CREATED:20240529T132922Z
LAST-MODIFIED:20240529T132925Z
UID:10002195-1824537600-1824570000@gardencreek.nbed.ca
SUMMARY:Library Books to be returned
DESCRIPTION:
URL:https://gardencreek.nbed.ca/calendar/library-books-to-be-returned/2027-10-26/
END:VEVENT
BEGIN:VEVENT
DTSTART;TZID=America/Moncton:20271027T080000
DTEND;TZID=America/Moncton:20271027T170000
DTSTAMP:20260425T214203
CREATED:20240529T132922Z
LAST-MODIFIED:20240529T132925Z
UID:10002196-1824624000-1824656400@gardencreek.nbed.ca
SUMMARY:Library Books to be returned
DESCRIPTION:
URL:https://gardencreek.nbed.ca/calendar/library-books-to-be-returned/2027-10-27/
END:VEVENT
BEGIN:VEVENT
DTSTART;TZID=America/Moncton:20271028T080000
DTEND;TZID=America/Moncton:20271028T170000
DTSTAMP:20260425T214203
CREATED:20240529T132922Z
LAST-MODIFIED:20240529T132925Z
UID:10002197-1824710400-1824742800@gardencreek.nbed.ca
SUMMARY:Library Books to be returned
DESCRIPTION:
URL:https://gardencreek.nbed.ca/calendar/library-books-to-be-returned/2027-10-28/
END:VEVENT
BEGIN:VEVENT
DTSTART;TZID=America/Moncton:20271029T080000
DTEND;TZID=America/Moncton:20271029T170000
DTSTAMP:20260425T214203
CREATED:20240529T132922Z
LAST-MODIFIED:20240529T132925Z
UID:10002198-1824796800-1824829200@gardencreek.nbed.ca
SUMMARY:Library Books to be returned
DESCRIPTION:
URL:https://gardencreek.nbed.ca/calendar/library-books-to-be-returned/2027-10-29/
END:VEVENT
BEGIN:VEVENT
DTSTART;TZID=America/Moncton:20271030T080000
DTEND;TZID=America/Moncton:20271030T170000
DTSTAMP:20260425T214203
CREATED:20240529T132922Z
LAST-MODIFIED:20240529T132925Z
UID:10002199-1824883200-1824915600@gardencreek.nbed.ca
SUMMARY:Library Books to be returned
DESCRIPTION:
URL:https://gardencreek.nbed.ca/calendar/library-books-to-be-returned/2027-10-30/
END:VEVENT
BEGIN:VEVENT
DTSTART;TZID=America/Moncton:20271031T080000
DTEND;TZID=America/Moncton:20271031T170000
DTSTAMP:20260425T214203
CREATED:20240529T132922Z
LAST-MODIFIED:20240529T132925Z
UID:10002200-1824969600-1825002000@gardencreek.nbed.ca
SUMMARY:Library Books to be returned
DESCRIPTION:
URL:https://gardencreek.nbed.ca/calendar/library-books-to-be-returned/2027-10-31/
END:VEVENT
BEGIN:VEVENT
DTSTART;TZID=America/Moncton:20271101T080000
DTEND;TZID=America/Moncton:20271101T170000
DTSTAMP:20260425T214203
CREATED:20240529T132922Z
LAST-MODIFIED:20240529T132925Z
UID:10002201-1825056000-1825088400@gardencreek.nbed.ca
SUMMARY:Library Books to be returned
DESCRIPTION:
URL:https://gardencreek.nbed.ca/calendar/library-books-to-be-returned/2027-11-01/
END:VEVENT
BEGIN:VEVENT
DTSTART;TZID=America/Moncton:20271102T080000
DTEND;TZID=America/Moncton:20271102T170000
DTSTAMP:20260425T214203
CREATED:20240529T132922Z
LAST-MODIFIED:20240529T132925Z
UID:10002202-1825142400-1825174800@gardencreek.nbed.ca
SUMMARY:Library Books to be returned
DESCRIPTION:
URL:https://gardencreek.nbed.ca/calendar/library-books-to-be-returned/2027-11-02/
END:VEVENT
BEGIN:VEVENT
DTSTART;TZID=America/Moncton:20271103T080000
DTEND;TZID=America/Moncton:20271103T170000
DTSTAMP:20260425T214203
CREATED:20240529T132922Z
LAST-MODIFIED:20240529T132925Z
UID:10002203-1825228800-1825261200@gardencreek.nbed.ca
SUMMARY:Library Books to be returned
DESCRIPTION:
URL:https://gardencreek.nbed.ca/calendar/library-books-to-be-returned/2027-11-03/
END:VEVENT
BEGIN:VEVENT
DTSTART;TZID=America/Moncton:20271104T080000
DTEND;TZID=America/Moncton:20271104T170000
DTSTAMP:20260425T214203
CREATED:20240529T132922Z
LAST-MODIFIED:20240529T132925Z
UID:10002204-1825315200-1825347600@gardencreek.nbed.ca
SUMMARY:Library Books to be returned
DESCRIPTION:
URL:https://gardencreek.nbed.ca/calendar/library-books-to-be-returned/2027-11-04/
END:VEVENT
BEGIN:VEVENT
DTSTART;TZID=America/Moncton:20271105T080000
DTEND;TZID=America/Moncton:20271105T170000
DTSTAMP:20260425T214203
CREATED:20240529T132922Z
LAST-MODIFIED:20240529T132925Z
UID:10002205-1825401600-1825434000@gardencreek.nbed.ca
SUMMARY:Library Books to be returned
DESCRIPTION:
URL:https://gardencreek.nbed.ca/calendar/library-books-to-be-returned/2027-11-05/
END:VEVENT
BEGIN:VEVENT
DTSTART;TZID=America/Moncton:20271106T080000
DTEND;TZID=America/Moncton:20271106T170000
DTSTAMP:20260425T214203
CREATED:20240529T132922Z
LAST-MODIFIED:20240529T132925Z
UID:10002206-1825488000-1825520400@gardencreek.nbed.ca
SUMMARY:Library Books to be returned
DESCRIPTION:
URL:https://gardencreek.nbed.ca/calendar/library-books-to-be-returned/2027-11-06/
END:VEVENT
BEGIN:VEVENT
DTSTART;TZID=America/Moncton:20271107T080000
DTEND;TZID=America/Moncton:20271107T170000
DTSTAMP:20260425T214203
CREATED:20240529T132922Z
LAST-MODIFIED:20240529T132925Z
UID:10002207-1825574400-1825606800@gardencreek.nbed.ca
SUMMARY:Library Books to be returned
DESCRIPTION:
URL:https://gardencreek.nbed.ca/calendar/library-books-to-be-returned/2027-11-07/
END:VEVENT
BEGIN:VEVENT
DTSTART;TZID=America/Moncton:20271108T080000
DTEND;TZID=America/Moncton:20271108T170000
DTSTAMP:20260425T214203
CREATED:20240529T132922Z
LAST-MODIFIED:20240529T132925Z
UID:10002208-1825660800-1825693200@gardencreek.nbed.ca
SUMMARY:Library Books to be returned
DESCRIPTION:
URL:https://gardencreek.nbed.ca/calendar/library-books-to-be-returned/2027-11-08/
END:VEVENT
BEGIN:VEVENT
DTSTART;TZID=America/Moncton:20271109T080000
DTEND;TZID=America/Moncton:20271109T170000
DTSTAMP:20260425T214203
CREATED:20240529T132922Z
LAST-MODIFIED:20240529T132925Z
UID:10002209-1825747200-1825779600@gardencreek.nbed.ca
SUMMARY:Library Books to be returned
DESCRIPTION:
URL:https://gardencreek.nbed.ca/calendar/library-books-to-be-returned/2027-11-09/
END:VEVENT
BEGIN:VEVENT
DTSTART;TZID=America/Moncton:20271110T080000
DTEND;TZID=America/Moncton:20271110T170000
DTSTAMP:20260425T214203
CREATED:20240529T132922Z
LAST-MODIFIED:20240529T132925Z
UID:10002210-1825833600-1825866000@gardencreek.nbed.ca
SUMMARY:Library Books to be returned
DESCRIPTION:
URL:https://gardencreek.nbed.ca/calendar/library-books-to-be-returned/2027-11-10/
END:VEVENT
BEGIN:VEVENT
DTSTART;TZID=America/Moncton:20271111T080000
DTEND;TZID=America/Moncton:20271111T170000
DTSTAMP:20260425T214203
CREATED:20240529T132922Z
LAST-MODIFIED:20240529T132925Z
UID:10002211-1825920000-1825952400@gardencreek.nbed.ca
SUMMARY:Library Books to be returned
DESCRIPTION:
URL:https://gardencreek.nbed.ca/calendar/library-books-to-be-returned/2027-11-11/
END:VEVENT
BEGIN:VEVENT
DTSTART;TZID=America/Moncton:20271112T080000
DTEND;TZID=America/Moncton:20271112T170000
DTSTAMP:20260425T214203
CREATED:20240529T132922Z
LAST-MODIFIED:20240529T132925Z
UID:10002212-1826006400-1826038800@gardencreek.nbed.ca
SUMMARY:Library Books to be returned
DESCRIPTION:
URL:https://gardencreek.nbed.ca/calendar/library-books-to-be-returned/2027-11-12/
END:VEVENT
BEGIN:VEVENT
DTSTART;TZID=America/Moncton:20271113T080000
DTEND;TZID=America/Moncton:20271113T170000
DTSTAMP:20260425T214203
CREATED:20240529T132922Z
LAST-MODIFIED:20240529T132925Z
UID:10002213-1826092800-1826125200@gardencreek.nbed.ca
SUMMARY:Library Books to be returned
DESCRIPTION:
URL:https://gardencreek.nbed.ca/calendar/library-books-to-be-returned/2027-11-13/
END:VEVENT
BEGIN:VEVENT
DTSTART;TZID=America/Moncton:20271114T080000
DTEND;TZID=America/Moncton:20271114T170000
DTSTAMP:20260425T214203
CREATED:20240529T132922Z
LAST-MODIFIED:20240529T132925Z
UID:10002214-1826179200-1826211600@gardencreek.nbed.ca
SUMMARY:Library Books to be returned
DESCRIPTION:
URL:https://gardencreek.nbed.ca/calendar/library-books-to-be-returned/2027-11-14/
END:VEVENT
BEGIN:VEVENT
DTSTART;TZID=America/Moncton:20271115T080000
DTEND;TZID=America/Moncton:20271115T170000
DTSTAMP:20260425T214203
CREATED:20240529T132922Z
LAST-MODIFIED:20240529T132925Z
UID:10002215-1826265600-1826298000@gardencreek.nbed.ca
SUMMARY:Library Books to be returned
DESCRIPTION:
URL:https://gardencreek.nbed.ca/calendar/library-books-to-be-returned/2027-11-15/
END:VEVENT
BEGIN:VEVENT
DTSTART;TZID=America/Moncton:20271116T080000
DTEND;TZID=America/Moncton:20271116T170000
DTSTAMP:20260425T214203
CREATED:20240529T132922Z
LAST-MODIFIED:20240529T132925Z
UID:10002216-1826352000-1826384400@gardencreek.nbed.ca
SUMMARY:Library Books to be returned
DESCRIPTION:
URL:https://gardencreek.nbed.ca/calendar/library-books-to-be-returned/2027-11-16/
END:VEVENT
END:VCALENDAR