BEGIN:VCALENDAR
VERSION:2.0
PRODID:-//Garden Creek School - ECPv6.15.20//NONSGML v1.0//EN
CALSCALE:GREGORIAN
METHOD:PUBLISH
X-WR-CALNAME:Garden Creek School
X-ORIGINAL-URL:https://gardencreek.nbed.ca
X-WR-CALDESC:Events for Garden Creek School
REFRESH-INTERVAL;VALUE=DURATION:PT1H
X-Robots-Tag:noindex
X-PUBLISHED-TTL:PT1H
BEGIN:VTIMEZONE
TZID:America/Moncton
BEGIN:DAYLIGHT
TZOFFSETFROM:-0400
TZOFFSETTO:-0300
TZNAME:ADT
DTSTART:20240310T060000
END:DAYLIGHT
BEGIN:STANDARD
TZOFFSETFROM:-0300
TZOFFSETTO:-0400
TZNAME:AST
DTSTART:20241103T050000
END:STANDARD
BEGIN:DAYLIGHT
TZOFFSETFROM:-0400
TZOFFSETTO:-0300
TZNAME:ADT
DTSTART:20250309T060000
END:DAYLIGHT
BEGIN:STANDARD
TZOFFSETFROM:-0300
TZOFFSETTO:-0400
TZNAME:AST
DTSTART:20251102T050000
END:STANDARD
BEGIN:DAYLIGHT
TZOFFSETFROM:-0400
TZOFFSETTO:-0300
TZNAME:ADT
DTSTART:20260308T060000
END:DAYLIGHT
BEGIN:STANDARD
TZOFFSETFROM:-0300
TZOFFSETTO:-0400
TZNAME:AST
DTSTART:20261101T050000
END:STANDARD
END:VTIMEZONE
BEGIN:VEVENT
DTSTART;TZID=America/Moncton:20251202T080000
DTEND;TZID=America/Moncton:20251202T170000
DTSTAMP:20260423T185450
CREATED:20240529T132922Z
LAST-MODIFIED:20240529T132925Z
UID:10001502-1764662400-1764694800@gardencreek.nbed.ca
SUMMARY:Library Books to be returned
DESCRIPTION:
URL:https://gardencreek.nbed.ca/calendar/library-books-to-be-returned/2025-12-02/
END:VEVENT
BEGIN:VEVENT
DTSTART;TZID=America/Moncton:20251201T080000
DTEND;TZID=America/Moncton:20251201T170000
DTSTAMP:20260423T185450
CREATED:20240529T132922Z
LAST-MODIFIED:20240529T132925Z
UID:10001501-1764576000-1764608400@gardencreek.nbed.ca
SUMMARY:Library Books to be returned
DESCRIPTION:
URL:https://gardencreek.nbed.ca/calendar/library-books-to-be-returned/2025-12-01/
END:VEVENT
BEGIN:VEVENT
DTSTART;TZID=America/Moncton:20251130T080000
DTEND;TZID=America/Moncton:20251130T170000
DTSTAMP:20260423T185450
CREATED:20240529T132922Z
LAST-MODIFIED:20240529T132925Z
UID:10001500-1764489600-1764522000@gardencreek.nbed.ca
SUMMARY:Library Books to be returned
DESCRIPTION:
URL:https://gardencreek.nbed.ca/calendar/library-books-to-be-returned/2025-11-30/
END:VEVENT
BEGIN:VEVENT
DTSTART;TZID=America/Moncton:20251129T080000
DTEND;TZID=America/Moncton:20251129T170000
DTSTAMP:20260423T185450
CREATED:20240529T132922Z
LAST-MODIFIED:20240529T132925Z
UID:10001499-1764403200-1764435600@gardencreek.nbed.ca
SUMMARY:Library Books to be returned
DESCRIPTION:
URL:https://gardencreek.nbed.ca/calendar/library-books-to-be-returned/2025-11-29/
END:VEVENT
BEGIN:VEVENT
DTSTART;TZID=America/Moncton:20251128T080000
DTEND;TZID=America/Moncton:20251128T170000
DTSTAMP:20260423T185450
CREATED:20240529T132922Z
LAST-MODIFIED:20240529T132925Z
UID:10001498-1764316800-1764349200@gardencreek.nbed.ca
SUMMARY:Library Books to be returned
DESCRIPTION:
URL:https://gardencreek.nbed.ca/calendar/library-books-to-be-returned/2025-11-28/
END:VEVENT
BEGIN:VEVENT
DTSTART;TZID=America/Moncton:20251127T080000
DTEND;TZID=America/Moncton:20251127T170000
DTSTAMP:20260423T185450
CREATED:20240529T132922Z
LAST-MODIFIED:20240529T132925Z
UID:10001497-1764230400-1764262800@gardencreek.nbed.ca
SUMMARY:Library Books to be returned
DESCRIPTION:
URL:https://gardencreek.nbed.ca/calendar/library-books-to-be-returned/2025-11-27/
END:VEVENT
BEGIN:VEVENT
DTSTART;TZID=America/Moncton:20251126T080000
DTEND;TZID=America/Moncton:20251126T170000
DTSTAMP:20260423T185450
CREATED:20240529T132922Z
LAST-MODIFIED:20240529T132925Z
UID:10001496-1764144000-1764176400@gardencreek.nbed.ca
SUMMARY:Library Books to be returned
DESCRIPTION:
URL:https://gardencreek.nbed.ca/calendar/library-books-to-be-returned/2025-11-26/
END:VEVENT
BEGIN:VEVENT
DTSTART;TZID=America/Moncton:20251125T080000
DTEND;TZID=America/Moncton:20251125T170000
DTSTAMP:20260423T185450
CREATED:20240529T132922Z
LAST-MODIFIED:20240529T132925Z
UID:10001495-1764057600-1764090000@gardencreek.nbed.ca
SUMMARY:Library Books to be returned
DESCRIPTION:
URL:https://gardencreek.nbed.ca/calendar/library-books-to-be-returned/2025-11-25/
END:VEVENT
BEGIN:VEVENT
DTSTART;TZID=America/Moncton:20251124T080000
DTEND;TZID=America/Moncton:20251124T170000
DTSTAMP:20260423T185450
CREATED:20240529T132922Z
LAST-MODIFIED:20240529T132925Z
UID:10001494-1763971200-1764003600@gardencreek.nbed.ca
SUMMARY:Library Books to be returned
DESCRIPTION:
URL:https://gardencreek.nbed.ca/calendar/library-books-to-be-returned/2025-11-24/
END:VEVENT
BEGIN:VEVENT
DTSTART;TZID=America/Moncton:20251123T080000
DTEND;TZID=America/Moncton:20251123T170000
DTSTAMP:20260423T185450
CREATED:20240529T132922Z
LAST-MODIFIED:20240529T132925Z
UID:10001493-1763884800-1763917200@gardencreek.nbed.ca
SUMMARY:Library Books to be returned
DESCRIPTION:
URL:https://gardencreek.nbed.ca/calendar/library-books-to-be-returned/2025-11-23/
END:VEVENT
BEGIN:VEVENT
DTSTART;TZID=America/Moncton:20251122T080000
DTEND;TZID=America/Moncton:20251122T170000
DTSTAMP:20260423T185450
CREATED:20240529T132922Z
LAST-MODIFIED:20240529T132925Z
UID:10001492-1763798400-1763830800@gardencreek.nbed.ca
SUMMARY:Library Books to be returned
DESCRIPTION:
URL:https://gardencreek.nbed.ca/calendar/library-books-to-be-returned/2025-11-22/
END:VEVENT
BEGIN:VEVENT
DTSTART;TZID=America/Moncton:20251121T080000
DTEND;TZID=America/Moncton:20251121T170000
DTSTAMP:20260423T185450
CREATED:20240529T132922Z
LAST-MODIFIED:20240529T132925Z
UID:10001491-1763712000-1763744400@gardencreek.nbed.ca
SUMMARY:Library Books to be returned
DESCRIPTION:
URL:https://gardencreek.nbed.ca/calendar/library-books-to-be-returned/2025-11-21/
END:VEVENT
BEGIN:VEVENT
DTSTART;TZID=America/Moncton:20251120T080000
DTEND;TZID=America/Moncton:20251120T170000
DTSTAMP:20260423T185450
CREATED:20240529T132922Z
LAST-MODIFIED:20240529T132925Z
UID:10001490-1763625600-1763658000@gardencreek.nbed.ca
SUMMARY:Library Books to be returned
DESCRIPTION:
URL:https://gardencreek.nbed.ca/calendar/library-books-to-be-returned/2025-11-20/
END:VEVENT
BEGIN:VEVENT
DTSTART;TZID=America/Moncton:20251119T080000
DTEND;TZID=America/Moncton:20251119T170000
DTSTAMP:20260423T185450
CREATED:20240529T132922Z
LAST-MODIFIED:20240529T132925Z
UID:10001489-1763539200-1763571600@gardencreek.nbed.ca
SUMMARY:Library Books to be returned
DESCRIPTION:
URL:https://gardencreek.nbed.ca/calendar/library-books-to-be-returned/2025-11-19/
END:VEVENT
BEGIN:VEVENT
DTSTART;TZID=America/Moncton:20251118T080000
DTEND;TZID=America/Moncton:20251118T170000
DTSTAMP:20260423T185450
CREATED:20240529T132922Z
LAST-MODIFIED:20240529T132925Z
UID:10001488-1763452800-1763485200@gardencreek.nbed.ca
SUMMARY:Library Books to be returned
DESCRIPTION:
URL:https://gardencreek.nbed.ca/calendar/library-books-to-be-returned/2025-11-18/
END:VEVENT
BEGIN:VEVENT
DTSTART;TZID=America/Moncton:20251117T080000
DTEND;TZID=America/Moncton:20251117T170000
DTSTAMP:20260423T185450
CREATED:20240529T132922Z
LAST-MODIFIED:20240529T132925Z
UID:10001487-1763366400-1763398800@gardencreek.nbed.ca
SUMMARY:Library Books to be returned
DESCRIPTION:
URL:https://gardencreek.nbed.ca/calendar/library-books-to-be-returned/2025-11-17/
END:VEVENT
BEGIN:VEVENT
DTSTART;TZID=America/Moncton:20251116T080000
DTEND;TZID=America/Moncton:20251116T170000
DTSTAMP:20260423T185450
CREATED:20240529T132922Z
LAST-MODIFIED:20240529T132925Z
UID:10001486-1763280000-1763312400@gardencreek.nbed.ca
SUMMARY:Library Books to be returned
DESCRIPTION:
URL:https://gardencreek.nbed.ca/calendar/library-books-to-be-returned/2025-11-16/
END:VEVENT
BEGIN:VEVENT
DTSTART;TZID=America/Moncton:20251115T080000
DTEND;TZID=America/Moncton:20251115T170000
DTSTAMP:20260423T185450
CREATED:20240529T132922Z
LAST-MODIFIED:20240529T132925Z
UID:10001485-1763193600-1763226000@gardencreek.nbed.ca
SUMMARY:Library Books to be returned
DESCRIPTION:
URL:https://gardencreek.nbed.ca/calendar/library-books-to-be-returned/2025-11-15/
END:VEVENT
BEGIN:VEVENT
DTSTART;TZID=America/Moncton:20251114T080000
DTEND;TZID=America/Moncton:20251114T170000
DTSTAMP:20260423T185450
CREATED:20240529T132922Z
LAST-MODIFIED:20240529T132925Z
UID:10001484-1763107200-1763139600@gardencreek.nbed.ca
SUMMARY:Library Books to be returned
DESCRIPTION:
URL:https://gardencreek.nbed.ca/calendar/library-books-to-be-returned/2025-11-14/
END:VEVENT
BEGIN:VEVENT
DTSTART;TZID=America/Moncton:20251113T080000
DTEND;TZID=America/Moncton:20251113T170000
DTSTAMP:20260423T185450
CREATED:20240529T132922Z
LAST-MODIFIED:20240529T132925Z
UID:10001483-1763020800-1763053200@gardencreek.nbed.ca
SUMMARY:Library Books to be returned
DESCRIPTION:
URL:https://gardencreek.nbed.ca/calendar/library-books-to-be-returned/2025-11-13/
END:VEVENT
BEGIN:VEVENT
DTSTART;TZID=America/Moncton:20251112T080000
DTEND;TZID=America/Moncton:20251112T170000
DTSTAMP:20260423T185450
CREATED:20240529T132922Z
LAST-MODIFIED:20240529T132925Z
UID:10001482-1762934400-1762966800@gardencreek.nbed.ca
SUMMARY:Library Books to be returned
DESCRIPTION:
URL:https://gardencreek.nbed.ca/calendar/library-books-to-be-returned/2025-11-12/
END:VEVENT
BEGIN:VEVENT
DTSTART;TZID=America/Moncton:20251111T080000
DTEND;TZID=America/Moncton:20251111T170000
DTSTAMP:20260423T185450
CREATED:20240529T132922Z
LAST-MODIFIED:20240529T132925Z
UID:10001481-1762848000-1762880400@gardencreek.nbed.ca
SUMMARY:Library Books to be returned
DESCRIPTION:
URL:https://gardencreek.nbed.ca/calendar/library-books-to-be-returned/2025-11-11/
END:VEVENT
BEGIN:VEVENT
DTSTART;TZID=America/Moncton:20251110T080000
DTEND;TZID=America/Moncton:20251110T170000
DTSTAMP:20260423T185450
CREATED:20240529T132922Z
LAST-MODIFIED:20240529T132925Z
UID:10001480-1762761600-1762794000@gardencreek.nbed.ca
SUMMARY:Library Books to be returned
DESCRIPTION:
URL:https://gardencreek.nbed.ca/calendar/library-books-to-be-returned/2025-11-10/
END:VEVENT
BEGIN:VEVENT
DTSTART;TZID=America/Moncton:20251109T080000
DTEND;TZID=America/Moncton:20251109T170000
DTSTAMP:20260423T185450
CREATED:20240529T132922Z
LAST-MODIFIED:20240529T132925Z
UID:10001479-1762675200-1762707600@gardencreek.nbed.ca
SUMMARY:Library Books to be returned
DESCRIPTION:
URL:https://gardencreek.nbed.ca/calendar/library-books-to-be-returned/2025-11-09/
END:VEVENT
BEGIN:VEVENT
DTSTART;TZID=America/Moncton:20251108T080000
DTEND;TZID=America/Moncton:20251108T170000
DTSTAMP:20260423T185450
CREATED:20240529T132922Z
LAST-MODIFIED:20240529T132925Z
UID:10001478-1762588800-1762621200@gardencreek.nbed.ca
SUMMARY:Library Books to be returned
DESCRIPTION:
URL:https://gardencreek.nbed.ca/calendar/library-books-to-be-returned/2025-11-08/
END:VEVENT
BEGIN:VEVENT
DTSTART;TZID=America/Moncton:20251107T080000
DTEND;TZID=America/Moncton:20251107T170000
DTSTAMP:20260423T185450
CREATED:20240529T132922Z
LAST-MODIFIED:20240529T132925Z
UID:10001477-1762502400-1762534800@gardencreek.nbed.ca
SUMMARY:Library Books to be returned
DESCRIPTION:
URL:https://gardencreek.nbed.ca/calendar/library-books-to-be-returned/2025-11-07/
END:VEVENT
BEGIN:VEVENT
DTSTART;TZID=America/Moncton:20251106T080000
DTEND;TZID=America/Moncton:20251106T170000
DTSTAMP:20260423T185450
CREATED:20240529T132922Z
LAST-MODIFIED:20240529T132925Z
UID:10001476-1762416000-1762448400@gardencreek.nbed.ca
SUMMARY:Library Books to be returned
DESCRIPTION:
URL:https://gardencreek.nbed.ca/calendar/library-books-to-be-returned/2025-11-06/
END:VEVENT
BEGIN:VEVENT
DTSTART;TZID=America/Moncton:20251105T080000
DTEND;TZID=America/Moncton:20251105T170000
DTSTAMP:20260423T185450
CREATED:20240529T132922Z
LAST-MODIFIED:20240529T132925Z
UID:10001475-1762329600-1762362000@gardencreek.nbed.ca
SUMMARY:Library Books to be returned
DESCRIPTION:
URL:https://gardencreek.nbed.ca/calendar/library-books-to-be-returned/2025-11-05/
END:VEVENT
BEGIN:VEVENT
DTSTART;TZID=America/Moncton:20251104T080000
DTEND;TZID=America/Moncton:20251104T170000
DTSTAMP:20260423T185450
CREATED:20240529T132922Z
LAST-MODIFIED:20240529T132925Z
UID:10001474-1762243200-1762275600@gardencreek.nbed.ca
SUMMARY:Library Books to be returned
DESCRIPTION:
URL:https://gardencreek.nbed.ca/calendar/library-books-to-be-returned/2025-11-04/
END:VEVENT
BEGIN:VEVENT
DTSTART;TZID=America/Moncton:20251103T080000
DTEND;TZID=America/Moncton:20251103T170000
DTSTAMP:20260423T185450
CREATED:20240529T132922Z
LAST-MODIFIED:20240529T132925Z
UID:10001473-1762156800-1762189200@gardencreek.nbed.ca
SUMMARY:Library Books to be returned
DESCRIPTION:
URL:https://gardencreek.nbed.ca/calendar/library-books-to-be-returned/2025-11-03/
END:VEVENT
END:VCALENDAR