BEGIN:VCALENDAR
VERSION:2.0
PRODID:-//Garden Creek School - ECPv6.15.20//NONSGML v1.0//EN
CALSCALE:GREGORIAN
METHOD:PUBLISH
X-WR-CALNAME:Garden Creek School
X-ORIGINAL-URL:https://gardencreek.nbed.ca
X-WR-CALDESC:Events for Garden Creek School
REFRESH-INTERVAL;VALUE=DURATION:PT1H
X-Robots-Tag:noindex
X-PUBLISHED-TTL:PT1H
BEGIN:VTIMEZONE
TZID:America/Moncton
BEGIN:DAYLIGHT
TZOFFSETFROM:-0400
TZOFFSETTO:-0300
TZNAME:ADT
DTSTART:20250309T060000
END:DAYLIGHT
BEGIN:STANDARD
TZOFFSETFROM:-0300
TZOFFSETTO:-0400
TZNAME:AST
DTSTART:20251102T050000
END:STANDARD
BEGIN:DAYLIGHT
TZOFFSETFROM:-0400
TZOFFSETTO:-0300
TZNAME:ADT
DTSTART:20260308T060000
END:DAYLIGHT
BEGIN:STANDARD
TZOFFSETFROM:-0300
TZOFFSETTO:-0400
TZNAME:AST
DTSTART:20261101T050000
END:STANDARD
BEGIN:DAYLIGHT
TZOFFSETFROM:-0400
TZOFFSETTO:-0300
TZNAME:ADT
DTSTART:20270314T060000
END:DAYLIGHT
BEGIN:STANDARD
TZOFFSETFROM:-0300
TZOFFSETTO:-0400
TZNAME:AST
DTSTART:20271107T050000
END:STANDARD
END:VTIMEZONE
BEGIN:VEVENT
DTSTART;TZID=America/Moncton:20260830T080000
DTEND;TZID=America/Moncton:20260830T170000
DTSTAMP:20260423T164854
CREATED:20240529T132922Z
LAST-MODIFIED:20240529T132925Z
UID:10001773-1788076800-1788109200@gardencreek.nbed.ca
SUMMARY:Library Books to be returned
DESCRIPTION:
URL:https://gardencreek.nbed.ca/calendar/library-books-to-be-returned/2026-08-30/
END:VEVENT
BEGIN:VEVENT
DTSTART;TZID=America/Moncton:20260831T080000
DTEND;TZID=America/Moncton:20260831T170000
DTSTAMP:20260423T164854
CREATED:20240529T132922Z
LAST-MODIFIED:20240529T132925Z
UID:10001774-1788163200-1788195600@gardencreek.nbed.ca
SUMMARY:Library Books to be returned
DESCRIPTION:
URL:https://gardencreek.nbed.ca/calendar/library-books-to-be-returned/2026-08-31/
END:VEVENT
BEGIN:VEVENT
DTSTART;TZID=America/Moncton:20260901T080000
DTEND;TZID=America/Moncton:20260901T170000
DTSTAMP:20260423T164854
CREATED:20240529T132922Z
LAST-MODIFIED:20240529T132925Z
UID:10001775-1788249600-1788282000@gardencreek.nbed.ca
SUMMARY:Library Books to be returned
DESCRIPTION:
URL:https://gardencreek.nbed.ca/calendar/library-books-to-be-returned/2026-09-01/
END:VEVENT
BEGIN:VEVENT
DTSTART;TZID=America/Moncton:20260902T080000
DTEND;TZID=America/Moncton:20260902T170000
DTSTAMP:20260423T164854
CREATED:20240529T132922Z
LAST-MODIFIED:20240529T132925Z
UID:10001776-1788336000-1788368400@gardencreek.nbed.ca
SUMMARY:Library Books to be returned
DESCRIPTION:
URL:https://gardencreek.nbed.ca/calendar/library-books-to-be-returned/2026-09-02/
END:VEVENT
BEGIN:VEVENT
DTSTART;TZID=America/Moncton:20260903T080000
DTEND;TZID=America/Moncton:20260903T170000
DTSTAMP:20260423T164854
CREATED:20240529T132922Z
LAST-MODIFIED:20240529T132925Z
UID:10001777-1788422400-1788454800@gardencreek.nbed.ca
SUMMARY:Library Books to be returned
DESCRIPTION:
URL:https://gardencreek.nbed.ca/calendar/library-books-to-be-returned/2026-09-03/
END:VEVENT
BEGIN:VEVENT
DTSTART;TZID=America/Moncton:20260904T080000
DTEND;TZID=America/Moncton:20260904T170000
DTSTAMP:20260423T164854
CREATED:20240529T132922Z
LAST-MODIFIED:20240529T132925Z
UID:10001778-1788508800-1788541200@gardencreek.nbed.ca
SUMMARY:Library Books to be returned
DESCRIPTION:
URL:https://gardencreek.nbed.ca/calendar/library-books-to-be-returned/2026-09-04/
END:VEVENT
BEGIN:VEVENT
DTSTART;TZID=America/Moncton:20260905T080000
DTEND;TZID=America/Moncton:20260905T170000
DTSTAMP:20260423T164854
CREATED:20240529T132922Z
LAST-MODIFIED:20240529T132925Z
UID:10001779-1788595200-1788627600@gardencreek.nbed.ca
SUMMARY:Library Books to be returned
DESCRIPTION:
URL:https://gardencreek.nbed.ca/calendar/library-books-to-be-returned/2026-09-05/
END:VEVENT
BEGIN:VEVENT
DTSTART;TZID=America/Moncton:20260906T080000
DTEND;TZID=America/Moncton:20260906T170000
DTSTAMP:20260423T164854
CREATED:20240529T132922Z
LAST-MODIFIED:20240529T132925Z
UID:10001780-1788681600-1788714000@gardencreek.nbed.ca
SUMMARY:Library Books to be returned
DESCRIPTION:
URL:https://gardencreek.nbed.ca/calendar/library-books-to-be-returned/2026-09-06/
END:VEVENT
BEGIN:VEVENT
DTSTART;TZID=America/Moncton:20260907T080000
DTEND;TZID=America/Moncton:20260907T170000
DTSTAMP:20260423T164854
CREATED:20240529T132922Z
LAST-MODIFIED:20240529T132925Z
UID:10001781-1788768000-1788800400@gardencreek.nbed.ca
SUMMARY:Library Books to be returned
DESCRIPTION:
URL:https://gardencreek.nbed.ca/calendar/library-books-to-be-returned/2026-09-07/
END:VEVENT
BEGIN:VEVENT
DTSTART;TZID=America/Moncton:20260908T080000
DTEND;TZID=America/Moncton:20260908T170000
DTSTAMP:20260423T164854
CREATED:20240529T132922Z
LAST-MODIFIED:20240529T132925Z
UID:10001782-1788854400-1788886800@gardencreek.nbed.ca
SUMMARY:Library Books to be returned
DESCRIPTION:
URL:https://gardencreek.nbed.ca/calendar/library-books-to-be-returned/2026-09-08/
END:VEVENT
BEGIN:VEVENT
DTSTART;TZID=America/Moncton:20260909T080000
DTEND;TZID=America/Moncton:20260909T170000
DTSTAMP:20260423T164854
CREATED:20240529T132922Z
LAST-MODIFIED:20240529T132925Z
UID:10001783-1788940800-1788973200@gardencreek.nbed.ca
SUMMARY:Library Books to be returned
DESCRIPTION:
URL:https://gardencreek.nbed.ca/calendar/library-books-to-be-returned/2026-09-09/
END:VEVENT
BEGIN:VEVENT
DTSTART;TZID=America/Moncton:20260910T080000
DTEND;TZID=America/Moncton:20260910T170000
DTSTAMP:20260423T164854
CREATED:20240529T132922Z
LAST-MODIFIED:20240529T132925Z
UID:10001784-1789027200-1789059600@gardencreek.nbed.ca
SUMMARY:Library Books to be returned
DESCRIPTION:
URL:https://gardencreek.nbed.ca/calendar/library-books-to-be-returned/2026-09-10/
END:VEVENT
BEGIN:VEVENT
DTSTART;TZID=America/Moncton:20260911T080000
DTEND;TZID=America/Moncton:20260911T170000
DTSTAMP:20260423T164854
CREATED:20240529T132922Z
LAST-MODIFIED:20240529T132925Z
UID:10001785-1789113600-1789146000@gardencreek.nbed.ca
SUMMARY:Library Books to be returned
DESCRIPTION:
URL:https://gardencreek.nbed.ca/calendar/library-books-to-be-returned/2026-09-11/
END:VEVENT
BEGIN:VEVENT
DTSTART;TZID=America/Moncton:20260912T080000
DTEND;TZID=America/Moncton:20260912T170000
DTSTAMP:20260423T164854
CREATED:20240529T132922Z
LAST-MODIFIED:20240529T132925Z
UID:10001786-1789200000-1789232400@gardencreek.nbed.ca
SUMMARY:Library Books to be returned
DESCRIPTION:
URL:https://gardencreek.nbed.ca/calendar/library-books-to-be-returned/2026-09-12/
END:VEVENT
BEGIN:VEVENT
DTSTART;TZID=America/Moncton:20260913T080000
DTEND;TZID=America/Moncton:20260913T170000
DTSTAMP:20260423T164854
CREATED:20240529T132922Z
LAST-MODIFIED:20240529T132925Z
UID:10001787-1789286400-1789318800@gardencreek.nbed.ca
SUMMARY:Library Books to be returned
DESCRIPTION:
URL:https://gardencreek.nbed.ca/calendar/library-books-to-be-returned/2026-09-13/
END:VEVENT
BEGIN:VEVENT
DTSTART;TZID=America/Moncton:20260914T080000
DTEND;TZID=America/Moncton:20260914T170000
DTSTAMP:20260423T164854
CREATED:20240529T132922Z
LAST-MODIFIED:20240529T132925Z
UID:10001788-1789372800-1789405200@gardencreek.nbed.ca
SUMMARY:Library Books to be returned
DESCRIPTION:
URL:https://gardencreek.nbed.ca/calendar/library-books-to-be-returned/2026-09-14/
END:VEVENT
BEGIN:VEVENT
DTSTART;TZID=America/Moncton:20260915T080000
DTEND;TZID=America/Moncton:20260915T170000
DTSTAMP:20260423T164855
CREATED:20240529T132922Z
LAST-MODIFIED:20240529T132925Z
UID:10001789-1789459200-1789491600@gardencreek.nbed.ca
SUMMARY:Library Books to be returned
DESCRIPTION:
URL:https://gardencreek.nbed.ca/calendar/library-books-to-be-returned/2026-09-15/
END:VEVENT
BEGIN:VEVENT
DTSTART;TZID=America/Moncton:20260916T080000
DTEND;TZID=America/Moncton:20260916T170000
DTSTAMP:20260423T164855
CREATED:20240529T132922Z
LAST-MODIFIED:20240529T132925Z
UID:10001790-1789545600-1789578000@gardencreek.nbed.ca
SUMMARY:Library Books to be returned
DESCRIPTION:
URL:https://gardencreek.nbed.ca/calendar/library-books-to-be-returned/2026-09-16/
END:VEVENT
BEGIN:VEVENT
DTSTART;TZID=America/Moncton:20260917T080000
DTEND;TZID=America/Moncton:20260917T170000
DTSTAMP:20260423T164855
CREATED:20240529T132922Z
LAST-MODIFIED:20240529T132925Z
UID:10001791-1789632000-1789664400@gardencreek.nbed.ca
SUMMARY:Library Books to be returned
DESCRIPTION:
URL:https://gardencreek.nbed.ca/calendar/library-books-to-be-returned/2026-09-17/
END:VEVENT
BEGIN:VEVENT
DTSTART;TZID=America/Moncton:20260918T080000
DTEND;TZID=America/Moncton:20260918T170000
DTSTAMP:20260423T164855
CREATED:20240529T132922Z
LAST-MODIFIED:20240529T132925Z
UID:10001792-1789718400-1789750800@gardencreek.nbed.ca
SUMMARY:Library Books to be returned
DESCRIPTION:
URL:https://gardencreek.nbed.ca/calendar/library-books-to-be-returned/2026-09-18/
END:VEVENT
BEGIN:VEVENT
DTSTART;TZID=America/Moncton:20260919T080000
DTEND;TZID=America/Moncton:20260919T170000
DTSTAMP:20260423T164855
CREATED:20240529T132922Z
LAST-MODIFIED:20240529T132925Z
UID:10001793-1789804800-1789837200@gardencreek.nbed.ca
SUMMARY:Library Books to be returned
DESCRIPTION:
URL:https://gardencreek.nbed.ca/calendar/library-books-to-be-returned/2026-09-19/
END:VEVENT
BEGIN:VEVENT
DTSTART;TZID=America/Moncton:20260920T080000
DTEND;TZID=America/Moncton:20260920T170000
DTSTAMP:20260423T164855
CREATED:20240529T132922Z
LAST-MODIFIED:20240529T132925Z
UID:10001794-1789891200-1789923600@gardencreek.nbed.ca
SUMMARY:Library Books to be returned
DESCRIPTION:
URL:https://gardencreek.nbed.ca/calendar/library-books-to-be-returned/2026-09-20/
END:VEVENT
BEGIN:VEVENT
DTSTART;TZID=America/Moncton:20260921T080000
DTEND;TZID=America/Moncton:20260921T170000
DTSTAMP:20260423T164855
CREATED:20240529T132922Z
LAST-MODIFIED:20240529T132925Z
UID:10001795-1789977600-1790010000@gardencreek.nbed.ca
SUMMARY:Library Books to be returned
DESCRIPTION:
URL:https://gardencreek.nbed.ca/calendar/library-books-to-be-returned/2026-09-21/
END:VEVENT
BEGIN:VEVENT
DTSTART;TZID=America/Moncton:20260922T080000
DTEND;TZID=America/Moncton:20260922T170000
DTSTAMP:20260423T164855
CREATED:20240529T132922Z
LAST-MODIFIED:20240529T132925Z
UID:10001796-1790064000-1790096400@gardencreek.nbed.ca
SUMMARY:Library Books to be returned
DESCRIPTION:
URL:https://gardencreek.nbed.ca/calendar/library-books-to-be-returned/2026-09-22/
END:VEVENT
BEGIN:VEVENT
DTSTART;TZID=America/Moncton:20260923T080000
DTEND;TZID=America/Moncton:20260923T170000
DTSTAMP:20260423T164855
CREATED:20240529T132922Z
LAST-MODIFIED:20240529T132925Z
UID:10001797-1790150400-1790182800@gardencreek.nbed.ca
SUMMARY:Library Books to be returned
DESCRIPTION:
URL:https://gardencreek.nbed.ca/calendar/library-books-to-be-returned/2026-09-23/
END:VEVENT
BEGIN:VEVENT
DTSTART;TZID=America/Moncton:20260924T080000
DTEND;TZID=America/Moncton:20260924T170000
DTSTAMP:20260423T164855
CREATED:20240529T132922Z
LAST-MODIFIED:20240529T132925Z
UID:10001798-1790236800-1790269200@gardencreek.nbed.ca
SUMMARY:Library Books to be returned
DESCRIPTION:
URL:https://gardencreek.nbed.ca/calendar/library-books-to-be-returned/2026-09-24/
END:VEVENT
BEGIN:VEVENT
DTSTART;TZID=America/Moncton:20260925T080000
DTEND;TZID=America/Moncton:20260925T170000
DTSTAMP:20260423T164855
CREATED:20240529T132922Z
LAST-MODIFIED:20240529T132925Z
UID:10001799-1790323200-1790355600@gardencreek.nbed.ca
SUMMARY:Library Books to be returned
DESCRIPTION:
URL:https://gardencreek.nbed.ca/calendar/library-books-to-be-returned/2026-09-25/
END:VEVENT
BEGIN:VEVENT
DTSTART;TZID=America/Moncton:20260926T080000
DTEND;TZID=America/Moncton:20260926T170000
DTSTAMP:20260423T164855
CREATED:20240529T132922Z
LAST-MODIFIED:20240529T132925Z
UID:10001800-1790409600-1790442000@gardencreek.nbed.ca
SUMMARY:Library Books to be returned
DESCRIPTION:
URL:https://gardencreek.nbed.ca/calendar/library-books-to-be-returned/2026-09-26/
END:VEVENT
BEGIN:VEVENT
DTSTART;TZID=America/Moncton:20260927T080000
DTEND;TZID=America/Moncton:20260927T170000
DTSTAMP:20260423T164855
CREATED:20240529T132922Z
LAST-MODIFIED:20240529T132925Z
UID:10001801-1790496000-1790528400@gardencreek.nbed.ca
SUMMARY:Library Books to be returned
DESCRIPTION:
URL:https://gardencreek.nbed.ca/calendar/library-books-to-be-returned/2026-09-27/
END:VEVENT
BEGIN:VEVENT
DTSTART;TZID=America/Moncton:20260928T080000
DTEND;TZID=America/Moncton:20260928T170000
DTSTAMP:20260423T164855
CREATED:20240529T132922Z
LAST-MODIFIED:20240529T132925Z
UID:10001802-1790582400-1790614800@gardencreek.nbed.ca
SUMMARY:Library Books to be returned
DESCRIPTION:
URL:https://gardencreek.nbed.ca/calendar/library-books-to-be-returned/2026-09-28/
END:VEVENT
END:VCALENDAR