BEGIN:VCALENDAR
VERSION:2.0
PRODID:-//Garden Creek School - ECPv6.15.20//NONSGML v1.0//EN
CALSCALE:GREGORIAN
METHOD:PUBLISH
X-WR-CALNAME:Garden Creek School
X-ORIGINAL-URL:https://gardencreek.nbed.ca
X-WR-CALDESC:Events for Garden Creek School
REFRESH-INTERVAL;VALUE=DURATION:PT1H
X-Robots-Tag:noindex
X-PUBLISHED-TTL:PT1H
BEGIN:VTIMEZONE
TZID:America/Moncton
BEGIN:DAYLIGHT
TZOFFSETFROM:-0400
TZOFFSETTO:-0300
TZNAME:ADT
DTSTART:20240310T060000
END:DAYLIGHT
BEGIN:STANDARD
TZOFFSETFROM:-0300
TZOFFSETTO:-0400
TZNAME:AST
DTSTART:20241103T050000
END:STANDARD
BEGIN:DAYLIGHT
TZOFFSETFROM:-0400
TZOFFSETTO:-0300
TZNAME:ADT
DTSTART:20250309T060000
END:DAYLIGHT
BEGIN:STANDARD
TZOFFSETFROM:-0300
TZOFFSETTO:-0400
TZNAME:AST
DTSTART:20251102T050000
END:STANDARD
BEGIN:DAYLIGHT
TZOFFSETFROM:-0400
TZOFFSETTO:-0300
TZNAME:ADT
DTSTART:20260308T060000
END:DAYLIGHT
BEGIN:STANDARD
TZOFFSETFROM:-0300
TZOFFSETTO:-0400
TZNAME:AST
DTSTART:20261101T050000
END:STANDARD
END:VTIMEZONE
BEGIN:VEVENT
DTSTART;TZID=America/Moncton:20251218T080000
DTEND;TZID=America/Moncton:20251218T170000
DTSTAMP:20260423T183750
CREATED:20240529T132922Z
LAST-MODIFIED:20240529T132925Z
UID:10001518-1766044800-1766077200@gardencreek.nbed.ca
SUMMARY:Library Books to be returned
DESCRIPTION:
URL:https://gardencreek.nbed.ca/calendar/library-books-to-be-returned/2025-12-18/
END:VEVENT
BEGIN:VEVENT
DTSTART;TZID=America/Moncton:20251217T080000
DTEND;TZID=America/Moncton:20251217T170000
DTSTAMP:20260423T183750
CREATED:20240529T132922Z
LAST-MODIFIED:20240529T132925Z
UID:10001517-1765958400-1765990800@gardencreek.nbed.ca
SUMMARY:Library Books to be returned
DESCRIPTION:
URL:https://gardencreek.nbed.ca/calendar/library-books-to-be-returned/2025-12-17/
END:VEVENT
BEGIN:VEVENT
DTSTART;TZID=America/Moncton:20251216T080000
DTEND;TZID=America/Moncton:20251216T170000
DTSTAMP:20260423T183750
CREATED:20240529T132922Z
LAST-MODIFIED:20240529T132925Z
UID:10001516-1765872000-1765904400@gardencreek.nbed.ca
SUMMARY:Library Books to be returned
DESCRIPTION:
URL:https://gardencreek.nbed.ca/calendar/library-books-to-be-returned/2025-12-16/
END:VEVENT
BEGIN:VEVENT
DTSTART;TZID=America/Moncton:20251215T080000
DTEND;TZID=America/Moncton:20251215T170000
DTSTAMP:20260423T183750
CREATED:20240529T132922Z
LAST-MODIFIED:20240529T132925Z
UID:10001515-1765785600-1765818000@gardencreek.nbed.ca
SUMMARY:Library Books to be returned
DESCRIPTION:
URL:https://gardencreek.nbed.ca/calendar/library-books-to-be-returned/2025-12-15/
END:VEVENT
BEGIN:VEVENT
DTSTART;TZID=America/Moncton:20251214T080000
DTEND;TZID=America/Moncton:20251214T170000
DTSTAMP:20260423T183750
CREATED:20240529T132922Z
LAST-MODIFIED:20240529T132925Z
UID:10001514-1765699200-1765731600@gardencreek.nbed.ca
SUMMARY:Library Books to be returned
DESCRIPTION:
URL:https://gardencreek.nbed.ca/calendar/library-books-to-be-returned/2025-12-14/
END:VEVENT
BEGIN:VEVENT
DTSTART;TZID=America/Moncton:20251213T080000
DTEND;TZID=America/Moncton:20251213T170000
DTSTAMP:20260423T183750
CREATED:20240529T132922Z
LAST-MODIFIED:20240529T132925Z
UID:10001513-1765612800-1765645200@gardencreek.nbed.ca
SUMMARY:Library Books to be returned
DESCRIPTION:
URL:https://gardencreek.nbed.ca/calendar/library-books-to-be-returned/2025-12-13/
END:VEVENT
BEGIN:VEVENT
DTSTART;TZID=America/Moncton:20251212T080000
DTEND;TZID=America/Moncton:20251212T170000
DTSTAMP:20260423T183750
CREATED:20240529T132922Z
LAST-MODIFIED:20240529T132925Z
UID:10001512-1765526400-1765558800@gardencreek.nbed.ca
SUMMARY:Library Books to be returned
DESCRIPTION:
URL:https://gardencreek.nbed.ca/calendar/library-books-to-be-returned/2025-12-12/
END:VEVENT
BEGIN:VEVENT
DTSTART;TZID=America/Moncton:20251211T080000
DTEND;TZID=America/Moncton:20251211T170000
DTSTAMP:20260423T183750
CREATED:20240529T132922Z
LAST-MODIFIED:20240529T132925Z
UID:10001511-1765440000-1765472400@gardencreek.nbed.ca
SUMMARY:Library Books to be returned
DESCRIPTION:
URL:https://gardencreek.nbed.ca/calendar/library-books-to-be-returned/2025-12-11/
END:VEVENT
BEGIN:VEVENT
DTSTART;TZID=America/Moncton:20251210T080000
DTEND;TZID=America/Moncton:20251210T170000
DTSTAMP:20260423T183750
CREATED:20240529T132922Z
LAST-MODIFIED:20240529T132925Z
UID:10001510-1765353600-1765386000@gardencreek.nbed.ca
SUMMARY:Library Books to be returned
DESCRIPTION:
URL:https://gardencreek.nbed.ca/calendar/library-books-to-be-returned/2025-12-10/
END:VEVENT
BEGIN:VEVENT
DTSTART;TZID=America/Moncton:20251209T080000
DTEND;TZID=America/Moncton:20251209T170000
DTSTAMP:20260423T183750
CREATED:20240529T132922Z
LAST-MODIFIED:20240529T132925Z
UID:10001509-1765267200-1765299600@gardencreek.nbed.ca
SUMMARY:Library Books to be returned
DESCRIPTION:
URL:https://gardencreek.nbed.ca/calendar/library-books-to-be-returned/2025-12-09/
END:VEVENT
BEGIN:VEVENT
DTSTART;TZID=America/Moncton:20251208T080000
DTEND;TZID=America/Moncton:20251208T170000
DTSTAMP:20260423T183750
CREATED:20240529T132922Z
LAST-MODIFIED:20240529T132925Z
UID:10001508-1765180800-1765213200@gardencreek.nbed.ca
SUMMARY:Library Books to be returned
DESCRIPTION:
URL:https://gardencreek.nbed.ca/calendar/library-books-to-be-returned/2025-12-08/
END:VEVENT
BEGIN:VEVENT
DTSTART;TZID=America/Moncton:20251207T080000
DTEND;TZID=America/Moncton:20251207T170000
DTSTAMP:20260423T183750
CREATED:20240529T132922Z
LAST-MODIFIED:20240529T132925Z
UID:10001507-1765094400-1765126800@gardencreek.nbed.ca
SUMMARY:Library Books to be returned
DESCRIPTION:
URL:https://gardencreek.nbed.ca/calendar/library-books-to-be-returned/2025-12-07/
END:VEVENT
BEGIN:VEVENT
DTSTART;TZID=America/Moncton:20251206T080000
DTEND;TZID=America/Moncton:20251206T170000
DTSTAMP:20260423T183750
CREATED:20240529T132922Z
LAST-MODIFIED:20240529T132925Z
UID:10001506-1765008000-1765040400@gardencreek.nbed.ca
SUMMARY:Library Books to be returned
DESCRIPTION:
URL:https://gardencreek.nbed.ca/calendar/library-books-to-be-returned/2025-12-06/
END:VEVENT
BEGIN:VEVENT
DTSTART;TZID=America/Moncton:20251205T080000
DTEND;TZID=America/Moncton:20251205T170000
DTSTAMP:20260423T183750
CREATED:20240529T132922Z
LAST-MODIFIED:20240529T132925Z
UID:10001505-1764921600-1764954000@gardencreek.nbed.ca
SUMMARY:Library Books to be returned
DESCRIPTION:
URL:https://gardencreek.nbed.ca/calendar/library-books-to-be-returned/2025-12-05/
END:VEVENT
BEGIN:VEVENT
DTSTART;TZID=America/Moncton:20251204T080000
DTEND;TZID=America/Moncton:20251204T170000
DTSTAMP:20260423T183750
CREATED:20240529T132922Z
LAST-MODIFIED:20240529T132925Z
UID:10001504-1764835200-1764867600@gardencreek.nbed.ca
SUMMARY:Library Books to be returned
DESCRIPTION:
URL:https://gardencreek.nbed.ca/calendar/library-books-to-be-returned/2025-12-04/
END:VEVENT
BEGIN:VEVENT
DTSTART;TZID=America/Moncton:20251203T080000
DTEND;TZID=America/Moncton:20251203T170000
DTSTAMP:20260423T183750
CREATED:20240529T132922Z
LAST-MODIFIED:20240529T132925Z
UID:10001503-1764748800-1764781200@gardencreek.nbed.ca
SUMMARY:Library Books to be returned
DESCRIPTION:
URL:https://gardencreek.nbed.ca/calendar/library-books-to-be-returned/2025-12-03/
END:VEVENT
BEGIN:VEVENT
DTSTART;TZID=America/Moncton:20251202T080000
DTEND;TZID=America/Moncton:20251202T170000
DTSTAMP:20260423T183750
CREATED:20240529T132922Z
LAST-MODIFIED:20240529T132925Z
UID:10001502-1764662400-1764694800@gardencreek.nbed.ca
SUMMARY:Library Books to be returned
DESCRIPTION:
URL:https://gardencreek.nbed.ca/calendar/library-books-to-be-returned/2025-12-02/
END:VEVENT
BEGIN:VEVENT
DTSTART;TZID=America/Moncton:20251201T080000
DTEND;TZID=America/Moncton:20251201T170000
DTSTAMP:20260423T183750
CREATED:20240529T132922Z
LAST-MODIFIED:20240529T132925Z
UID:10001501-1764576000-1764608400@gardencreek.nbed.ca
SUMMARY:Library Books to be returned
DESCRIPTION:
URL:https://gardencreek.nbed.ca/calendar/library-books-to-be-returned/2025-12-01/
END:VEVENT
BEGIN:VEVENT
DTSTART;TZID=America/Moncton:20251130T080000
DTEND;TZID=America/Moncton:20251130T170000
DTSTAMP:20260423T183750
CREATED:20240529T132922Z
LAST-MODIFIED:20240529T132925Z
UID:10001500-1764489600-1764522000@gardencreek.nbed.ca
SUMMARY:Library Books to be returned
DESCRIPTION:
URL:https://gardencreek.nbed.ca/calendar/library-books-to-be-returned/2025-11-30/
END:VEVENT
BEGIN:VEVENT
DTSTART;TZID=America/Moncton:20251129T080000
DTEND;TZID=America/Moncton:20251129T170000
DTSTAMP:20260423T183750
CREATED:20240529T132922Z
LAST-MODIFIED:20240529T132925Z
UID:10001499-1764403200-1764435600@gardencreek.nbed.ca
SUMMARY:Library Books to be returned
DESCRIPTION:
URL:https://gardencreek.nbed.ca/calendar/library-books-to-be-returned/2025-11-29/
END:VEVENT
BEGIN:VEVENT
DTSTART;TZID=America/Moncton:20251128T080000
DTEND;TZID=America/Moncton:20251128T170000
DTSTAMP:20260423T183750
CREATED:20240529T132922Z
LAST-MODIFIED:20240529T132925Z
UID:10001498-1764316800-1764349200@gardencreek.nbed.ca
SUMMARY:Library Books to be returned
DESCRIPTION:
URL:https://gardencreek.nbed.ca/calendar/library-books-to-be-returned/2025-11-28/
END:VEVENT
BEGIN:VEVENT
DTSTART;TZID=America/Moncton:20251127T080000
DTEND;TZID=America/Moncton:20251127T170000
DTSTAMP:20260423T183750
CREATED:20240529T132922Z
LAST-MODIFIED:20240529T132925Z
UID:10001497-1764230400-1764262800@gardencreek.nbed.ca
SUMMARY:Library Books to be returned
DESCRIPTION:
URL:https://gardencreek.nbed.ca/calendar/library-books-to-be-returned/2025-11-27/
END:VEVENT
BEGIN:VEVENT
DTSTART;TZID=America/Moncton:20251126T080000
DTEND;TZID=America/Moncton:20251126T170000
DTSTAMP:20260423T183750
CREATED:20240529T132922Z
LAST-MODIFIED:20240529T132925Z
UID:10001496-1764144000-1764176400@gardencreek.nbed.ca
SUMMARY:Library Books to be returned
DESCRIPTION:
URL:https://gardencreek.nbed.ca/calendar/library-books-to-be-returned/2025-11-26/
END:VEVENT
BEGIN:VEVENT
DTSTART;TZID=America/Moncton:20251125T080000
DTEND;TZID=America/Moncton:20251125T170000
DTSTAMP:20260423T183750
CREATED:20240529T132922Z
LAST-MODIFIED:20240529T132925Z
UID:10001495-1764057600-1764090000@gardencreek.nbed.ca
SUMMARY:Library Books to be returned
DESCRIPTION:
URL:https://gardencreek.nbed.ca/calendar/library-books-to-be-returned/2025-11-25/
END:VEVENT
BEGIN:VEVENT
DTSTART;TZID=America/Moncton:20251124T080000
DTEND;TZID=America/Moncton:20251124T170000
DTSTAMP:20260423T183750
CREATED:20240529T132922Z
LAST-MODIFIED:20240529T132925Z
UID:10001494-1763971200-1764003600@gardencreek.nbed.ca
SUMMARY:Library Books to be returned
DESCRIPTION:
URL:https://gardencreek.nbed.ca/calendar/library-books-to-be-returned/2025-11-24/
END:VEVENT
BEGIN:VEVENT
DTSTART;TZID=America/Moncton:20251123T080000
DTEND;TZID=America/Moncton:20251123T170000
DTSTAMP:20260423T183750
CREATED:20240529T132922Z
LAST-MODIFIED:20240529T132925Z
UID:10001493-1763884800-1763917200@gardencreek.nbed.ca
SUMMARY:Library Books to be returned
DESCRIPTION:
URL:https://gardencreek.nbed.ca/calendar/library-books-to-be-returned/2025-11-23/
END:VEVENT
BEGIN:VEVENT
DTSTART;TZID=America/Moncton:20251122T080000
DTEND;TZID=America/Moncton:20251122T170000
DTSTAMP:20260423T183750
CREATED:20240529T132922Z
LAST-MODIFIED:20240529T132925Z
UID:10001492-1763798400-1763830800@gardencreek.nbed.ca
SUMMARY:Library Books to be returned
DESCRIPTION:
URL:https://gardencreek.nbed.ca/calendar/library-books-to-be-returned/2025-11-22/
END:VEVENT
BEGIN:VEVENT
DTSTART;TZID=America/Moncton:20251121T080000
DTEND;TZID=America/Moncton:20251121T170000
DTSTAMP:20260423T183750
CREATED:20240529T132922Z
LAST-MODIFIED:20240529T132925Z
UID:10001491-1763712000-1763744400@gardencreek.nbed.ca
SUMMARY:Library Books to be returned
DESCRIPTION:
URL:https://gardencreek.nbed.ca/calendar/library-books-to-be-returned/2025-11-21/
END:VEVENT
BEGIN:VEVENT
DTSTART;TZID=America/Moncton:20251120T080000
DTEND;TZID=America/Moncton:20251120T170000
DTSTAMP:20260423T183750
CREATED:20240529T132922Z
LAST-MODIFIED:20240529T132925Z
UID:10001490-1763625600-1763658000@gardencreek.nbed.ca
SUMMARY:Library Books to be returned
DESCRIPTION:
URL:https://gardencreek.nbed.ca/calendar/library-books-to-be-returned/2025-11-20/
END:VEVENT
BEGIN:VEVENT
DTSTART;TZID=America/Moncton:20251119T080000
DTEND;TZID=America/Moncton:20251119T170000
DTSTAMP:20260423T183750
CREATED:20240529T132922Z
LAST-MODIFIED:20240529T132925Z
UID:10001489-1763539200-1763571600@gardencreek.nbed.ca
SUMMARY:Library Books to be returned
DESCRIPTION:
URL:https://gardencreek.nbed.ca/calendar/library-books-to-be-returned/2025-11-19/
END:VEVENT
END:VCALENDAR