BEGIN:VCALENDAR
VERSION:2.0
PRODID:-//Garden Creek School - ECPv6.15.20//NONSGML v1.0//EN
CALSCALE:GREGORIAN
METHOD:PUBLISH
X-WR-CALNAME:Garden Creek School
X-ORIGINAL-URL:https://gardencreek.nbed.ca
X-WR-CALDESC:Events for Garden Creek School
REFRESH-INTERVAL;VALUE=DURATION:PT1H
X-Robots-Tag:noindex
X-PUBLISHED-TTL:PT1H
BEGIN:VTIMEZONE
TZID:America/Moncton
BEGIN:DAYLIGHT
TZOFFSETFROM:-0400
TZOFFSETTO:-0300
TZNAME:ADT
DTSTART:20250309T060000
END:DAYLIGHT
BEGIN:STANDARD
TZOFFSETFROM:-0300
TZOFFSETTO:-0400
TZNAME:AST
DTSTART:20251102T050000
END:STANDARD
BEGIN:DAYLIGHT
TZOFFSETFROM:-0400
TZOFFSETTO:-0300
TZNAME:ADT
DTSTART:20260308T060000
END:DAYLIGHT
BEGIN:STANDARD
TZOFFSETFROM:-0300
TZOFFSETTO:-0400
TZNAME:AST
DTSTART:20261101T050000
END:STANDARD
BEGIN:DAYLIGHT
TZOFFSETFROM:-0400
TZOFFSETTO:-0300
TZNAME:ADT
DTSTART:20270314T060000
END:DAYLIGHT
BEGIN:STANDARD
TZOFFSETFROM:-0300
TZOFFSETTO:-0400
TZNAME:AST
DTSTART:20271107T050000
END:STANDARD
END:VTIMEZONE
BEGIN:VEVENT
DTSTART;TZID=America/Moncton:20260320T080000
DTEND;TZID=America/Moncton:20260320T170000
DTSTAMP:20260423T185450
CREATED:20240529T132922Z
LAST-MODIFIED:20240529T132925Z
UID:10001610-1773993600-1774026000@gardencreek.nbed.ca
SUMMARY:Library Books to be returned
DESCRIPTION:
URL:https://gardencreek.nbed.ca/calendar/library-books-to-be-returned/2026-03-20/
END:VEVENT
BEGIN:VEVENT
DTSTART;TZID=America/Moncton:20260319T080000
DTEND;TZID=America/Moncton:20260319T170000
DTSTAMP:20260423T185450
CREATED:20240529T132922Z
LAST-MODIFIED:20240529T132925Z
UID:10001609-1773907200-1773939600@gardencreek.nbed.ca
SUMMARY:Library Books to be returned
DESCRIPTION:
URL:https://gardencreek.nbed.ca/calendar/library-books-to-be-returned/2026-03-19/
END:VEVENT
BEGIN:VEVENT
DTSTART;TZID=America/Moncton:20260318T080000
DTEND;TZID=America/Moncton:20260318T170000
DTSTAMP:20260423T185450
CREATED:20240529T132922Z
LAST-MODIFIED:20240529T132925Z
UID:10001608-1773820800-1773853200@gardencreek.nbed.ca
SUMMARY:Library Books to be returned
DESCRIPTION:
URL:https://gardencreek.nbed.ca/calendar/library-books-to-be-returned/2026-03-18/
END:VEVENT
BEGIN:VEVENT
DTSTART;TZID=America/Moncton:20260317T080000
DTEND;TZID=America/Moncton:20260317T170000
DTSTAMP:20260423T185450
CREATED:20240529T132922Z
LAST-MODIFIED:20240529T132925Z
UID:10001607-1773734400-1773766800@gardencreek.nbed.ca
SUMMARY:Library Books to be returned
DESCRIPTION:
URL:https://gardencreek.nbed.ca/calendar/library-books-to-be-returned/2026-03-17/
END:VEVENT
BEGIN:VEVENT
DTSTART;TZID=America/Moncton:20260316T080000
DTEND;TZID=America/Moncton:20260316T170000
DTSTAMP:20260423T185450
CREATED:20240529T132922Z
LAST-MODIFIED:20240529T132925Z
UID:10001606-1773648000-1773680400@gardencreek.nbed.ca
SUMMARY:Library Books to be returned
DESCRIPTION:
URL:https://gardencreek.nbed.ca/calendar/library-books-to-be-returned/2026-03-16/
END:VEVENT
BEGIN:VEVENT
DTSTART;TZID=America/Moncton:20260315T080000
DTEND;TZID=America/Moncton:20260315T170000
DTSTAMP:20260423T185450
CREATED:20240529T132922Z
LAST-MODIFIED:20240529T132925Z
UID:10001605-1773561600-1773594000@gardencreek.nbed.ca
SUMMARY:Library Books to be returned
DESCRIPTION:
URL:https://gardencreek.nbed.ca/calendar/library-books-to-be-returned/2026-03-15/
END:VEVENT
BEGIN:VEVENT
DTSTART;TZID=America/Moncton:20260314T080000
DTEND;TZID=America/Moncton:20260314T170000
DTSTAMP:20260423T185450
CREATED:20240529T132922Z
LAST-MODIFIED:20240529T132925Z
UID:10001604-1773475200-1773507600@gardencreek.nbed.ca
SUMMARY:Library Books to be returned
DESCRIPTION:
URL:https://gardencreek.nbed.ca/calendar/library-books-to-be-returned/2026-03-14/
END:VEVENT
BEGIN:VEVENT
DTSTART;TZID=America/Moncton:20260313T080000
DTEND;TZID=America/Moncton:20260313T170000
DTSTAMP:20260423T185450
CREATED:20240529T132922Z
LAST-MODIFIED:20240529T132925Z
UID:10001603-1773388800-1773421200@gardencreek.nbed.ca
SUMMARY:Library Books to be returned
DESCRIPTION:
URL:https://gardencreek.nbed.ca/calendar/library-books-to-be-returned/2026-03-13/
END:VEVENT
BEGIN:VEVENT
DTSTART;TZID=America/Moncton:20260312T080000
DTEND;TZID=America/Moncton:20260312T170000
DTSTAMP:20260423T185450
CREATED:20240529T132922Z
LAST-MODIFIED:20240529T132925Z
UID:10001602-1773302400-1773334800@gardencreek.nbed.ca
SUMMARY:Library Books to be returned
DESCRIPTION:
URL:https://gardencreek.nbed.ca/calendar/library-books-to-be-returned/2026-03-12/
END:VEVENT
BEGIN:VEVENT
DTSTART;TZID=America/Moncton:20260311T080000
DTEND;TZID=America/Moncton:20260311T170000
DTSTAMP:20260423T185450
CREATED:20240529T132922Z
LAST-MODIFIED:20240529T132925Z
UID:10001601-1773216000-1773248400@gardencreek.nbed.ca
SUMMARY:Library Books to be returned
DESCRIPTION:
URL:https://gardencreek.nbed.ca/calendar/library-books-to-be-returned/2026-03-11/
END:VEVENT
BEGIN:VEVENT
DTSTART;TZID=America/Moncton:20260310T080000
DTEND;TZID=America/Moncton:20260310T170000
DTSTAMP:20260423T185450
CREATED:20240529T132922Z
LAST-MODIFIED:20240529T132925Z
UID:10001600-1773129600-1773162000@gardencreek.nbed.ca
SUMMARY:Library Books to be returned
DESCRIPTION:
URL:https://gardencreek.nbed.ca/calendar/library-books-to-be-returned/2026-03-10/
END:VEVENT
BEGIN:VEVENT
DTSTART;TZID=America/Moncton:20260309T080000
DTEND;TZID=America/Moncton:20260309T170000
DTSTAMP:20260423T185450
CREATED:20240529T132922Z
LAST-MODIFIED:20240529T132925Z
UID:10001599-1773043200-1773075600@gardencreek.nbed.ca
SUMMARY:Library Books to be returned
DESCRIPTION:
URL:https://gardencreek.nbed.ca/calendar/library-books-to-be-returned/2026-03-09/
END:VEVENT
BEGIN:VEVENT
DTSTART;TZID=America/Moncton:20260308T080000
DTEND;TZID=America/Moncton:20260308T170000
DTSTAMP:20260423T185450
CREATED:20240529T132922Z
LAST-MODIFIED:20240529T132925Z
UID:10001598-1772956800-1772989200@gardencreek.nbed.ca
SUMMARY:Library Books to be returned
DESCRIPTION:
URL:https://gardencreek.nbed.ca/calendar/library-books-to-be-returned/2026-03-08/
END:VEVENT
BEGIN:VEVENT
DTSTART;TZID=America/Moncton:20260307T080000
DTEND;TZID=America/Moncton:20260307T170000
DTSTAMP:20260423T185450
CREATED:20240529T132922Z
LAST-MODIFIED:20240529T132925Z
UID:10001597-1772870400-1772902800@gardencreek.nbed.ca
SUMMARY:Library Books to be returned
DESCRIPTION:
URL:https://gardencreek.nbed.ca/calendar/library-books-to-be-returned/2026-03-07/
END:VEVENT
BEGIN:VEVENT
DTSTART;TZID=America/Moncton:20260306T080000
DTEND;TZID=America/Moncton:20260306T170000
DTSTAMP:20260423T185450
CREATED:20240529T132922Z
LAST-MODIFIED:20240529T132925Z
UID:10001596-1772784000-1772816400@gardencreek.nbed.ca
SUMMARY:Library Books to be returned
DESCRIPTION:
URL:https://gardencreek.nbed.ca/calendar/library-books-to-be-returned/2026-03-06/
END:VEVENT
BEGIN:VEVENT
DTSTART;TZID=America/Moncton:20260305T080000
DTEND;TZID=America/Moncton:20260305T170000
DTSTAMP:20260423T185450
CREATED:20240529T132922Z
LAST-MODIFIED:20240529T132925Z
UID:10001595-1772697600-1772730000@gardencreek.nbed.ca
SUMMARY:Library Books to be returned
DESCRIPTION:
URL:https://gardencreek.nbed.ca/calendar/library-books-to-be-returned/2026-03-05/
END:VEVENT
BEGIN:VEVENT
DTSTART;TZID=America/Moncton:20260304T080000
DTEND;TZID=America/Moncton:20260304T170000
DTSTAMP:20260423T185450
CREATED:20240529T132922Z
LAST-MODIFIED:20240529T132925Z
UID:10001594-1772611200-1772643600@gardencreek.nbed.ca
SUMMARY:Library Books to be returned
DESCRIPTION:
URL:https://gardencreek.nbed.ca/calendar/library-books-to-be-returned/2026-03-04/
END:VEVENT
BEGIN:VEVENT
DTSTART;TZID=America/Moncton:20260303T080000
DTEND;TZID=America/Moncton:20260303T170000
DTSTAMP:20260423T185450
CREATED:20240529T132922Z
LAST-MODIFIED:20240529T132925Z
UID:10001593-1772524800-1772557200@gardencreek.nbed.ca
SUMMARY:Library Books to be returned
DESCRIPTION:
URL:https://gardencreek.nbed.ca/calendar/library-books-to-be-returned/2026-03-03/
END:VEVENT
BEGIN:VEVENT
DTSTART;TZID=America/Moncton:20260302T080000
DTEND;TZID=America/Moncton:20260302T170000
DTSTAMP:20260423T185450
CREATED:20240529T132922Z
LAST-MODIFIED:20240529T132925Z
UID:10001592-1772438400-1772470800@gardencreek.nbed.ca
SUMMARY:Library Books to be returned
DESCRIPTION:
URL:https://gardencreek.nbed.ca/calendar/library-books-to-be-returned/2026-03-02/
END:VEVENT
BEGIN:VEVENT
DTSTART;TZID=America/Moncton:20260301T080000
DTEND;TZID=America/Moncton:20260301T170000
DTSTAMP:20260423T185450
CREATED:20240529T132922Z
LAST-MODIFIED:20240529T132925Z
UID:10001591-1772352000-1772384400@gardencreek.nbed.ca
SUMMARY:Library Books to be returned
DESCRIPTION:
URL:https://gardencreek.nbed.ca/calendar/library-books-to-be-returned/2026-03-01/
END:VEVENT
BEGIN:VEVENT
DTSTART;TZID=America/Moncton:20260228T080000
DTEND;TZID=America/Moncton:20260228T170000
DTSTAMP:20260423T185450
CREATED:20240529T132922Z
LAST-MODIFIED:20240529T132925Z
UID:10001590-1772265600-1772298000@gardencreek.nbed.ca
SUMMARY:Library Books to be returned
DESCRIPTION:
URL:https://gardencreek.nbed.ca/calendar/library-books-to-be-returned/2026-02-28/
END:VEVENT
BEGIN:VEVENT
DTSTART;TZID=America/Moncton:20260227T080000
DTEND;TZID=America/Moncton:20260227T170000
DTSTAMP:20260423T185450
CREATED:20240529T132922Z
LAST-MODIFIED:20240529T132925Z
UID:10001589-1772179200-1772211600@gardencreek.nbed.ca
SUMMARY:Library Books to be returned
DESCRIPTION:
URL:https://gardencreek.nbed.ca/calendar/library-books-to-be-returned/2026-02-27/
END:VEVENT
BEGIN:VEVENT
DTSTART;TZID=America/Moncton:20260226T080000
DTEND;TZID=America/Moncton:20260226T170000
DTSTAMP:20260423T185450
CREATED:20240529T132922Z
LAST-MODIFIED:20240529T132925Z
UID:10001588-1772092800-1772125200@gardencreek.nbed.ca
SUMMARY:Library Books to be returned
DESCRIPTION:
URL:https://gardencreek.nbed.ca/calendar/library-books-to-be-returned/2026-02-26/
END:VEVENT
BEGIN:VEVENT
DTSTART;TZID=America/Moncton:20260225T080000
DTEND;TZID=America/Moncton:20260225T170000
DTSTAMP:20260423T185450
CREATED:20240529T132922Z
LAST-MODIFIED:20240529T132925Z
UID:10001587-1772006400-1772038800@gardencreek.nbed.ca
SUMMARY:Library Books to be returned
DESCRIPTION:
URL:https://gardencreek.nbed.ca/calendar/library-books-to-be-returned/2026-02-25/
END:VEVENT
BEGIN:VEVENT
DTSTART;TZID=America/Moncton:20260224T080000
DTEND;TZID=America/Moncton:20260224T170000
DTSTAMP:20260423T185450
CREATED:20240529T132922Z
LAST-MODIFIED:20240529T132925Z
UID:10001586-1771920000-1771952400@gardencreek.nbed.ca
SUMMARY:Library Books to be returned
DESCRIPTION:
URL:https://gardencreek.nbed.ca/calendar/library-books-to-be-returned/2026-02-24/
END:VEVENT
BEGIN:VEVENT
DTSTART;TZID=America/Moncton:20260223T080000
DTEND;TZID=America/Moncton:20260223T170000
DTSTAMP:20260423T185451
CREATED:20240529T132922Z
LAST-MODIFIED:20240529T132925Z
UID:10001585-1771833600-1771866000@gardencreek.nbed.ca
SUMMARY:Library Books to be returned
DESCRIPTION:
URL:https://gardencreek.nbed.ca/calendar/library-books-to-be-returned/2026-02-23/
END:VEVENT
BEGIN:VEVENT
DTSTART;TZID=America/Moncton:20260222T080000
DTEND;TZID=America/Moncton:20260222T170000
DTSTAMP:20260423T185451
CREATED:20240529T132922Z
LAST-MODIFIED:20240529T132925Z
UID:10001584-1771747200-1771779600@gardencreek.nbed.ca
SUMMARY:Library Books to be returned
DESCRIPTION:
URL:https://gardencreek.nbed.ca/calendar/library-books-to-be-returned/2026-02-22/
END:VEVENT
BEGIN:VEVENT
DTSTART;TZID=America/Moncton:20260221T080000
DTEND;TZID=America/Moncton:20260221T170000
DTSTAMP:20260423T185451
CREATED:20240529T132922Z
LAST-MODIFIED:20240529T132925Z
UID:10001583-1771660800-1771693200@gardencreek.nbed.ca
SUMMARY:Library Books to be returned
DESCRIPTION:
URL:https://gardencreek.nbed.ca/calendar/library-books-to-be-returned/2026-02-21/
END:VEVENT
BEGIN:VEVENT
DTSTART;TZID=America/Moncton:20260220T080000
DTEND;TZID=America/Moncton:20260220T170000
DTSTAMP:20260423T185451
CREATED:20240529T132922Z
LAST-MODIFIED:20240529T132925Z
UID:10001582-1771574400-1771606800@gardencreek.nbed.ca
SUMMARY:Library Books to be returned
DESCRIPTION:
URL:https://gardencreek.nbed.ca/calendar/library-books-to-be-returned/2026-02-20/
END:VEVENT
BEGIN:VEVENT
DTSTART;TZID=America/Moncton:20260219T080000
DTEND;TZID=America/Moncton:20260219T170000
DTSTAMP:20260423T185451
CREATED:20240529T132922Z
LAST-MODIFIED:20240529T132925Z
UID:10001581-1771488000-1771520400@gardencreek.nbed.ca
SUMMARY:Library Books to be returned
DESCRIPTION:
URL:https://gardencreek.nbed.ca/calendar/library-books-to-be-returned/2026-02-19/
END:VEVENT
END:VCALENDAR