BEGIN:VCALENDAR
VERSION:2.0
PRODID:-//Garden Creek School - ECPv6.15.20//NONSGML v1.0//EN
CALSCALE:GREGORIAN
METHOD:PUBLISH
X-ORIGINAL-URL:https://gardencreek.nbed.ca
X-WR-CALDESC:Events for Garden Creek School
REFRESH-INTERVAL;VALUE=DURATION:PT1H
X-Robots-Tag:noindex
X-PUBLISHED-TTL:PT1H
BEGIN:VTIMEZONE
TZID:America/Moncton
BEGIN:DAYLIGHT
TZOFFSETFROM:-0400
TZOFFSETTO:-0300
TZNAME:ADT
DTSTART:20250309T060000
END:DAYLIGHT
BEGIN:STANDARD
TZOFFSETFROM:-0300
TZOFFSETTO:-0400
TZNAME:AST
DTSTART:20251102T050000
END:STANDARD
BEGIN:DAYLIGHT
TZOFFSETFROM:-0400
TZOFFSETTO:-0300
TZNAME:ADT
DTSTART:20260308T060000
END:DAYLIGHT
BEGIN:STANDARD
TZOFFSETFROM:-0300
TZOFFSETTO:-0400
TZNAME:AST
DTSTART:20261101T050000
END:STANDARD
BEGIN:DAYLIGHT
TZOFFSETFROM:-0400
TZOFFSETTO:-0300
TZNAME:ADT
DTSTART:20270314T060000
END:DAYLIGHT
BEGIN:STANDARD
TZOFFSETFROM:-0300
TZOFFSETTO:-0400
TZNAME:AST
DTSTART:20271107T050000
END:STANDARD
END:VTIMEZONE
BEGIN:VEVENT
DTSTART;TZID=America/Moncton:20261024T080000
DTEND;TZID=America/Moncton:20261024T170000
DTSTAMP:20260423T220335
CREATED:20240529T132922Z
LAST-MODIFIED:20240529T132925Z
UID:10001828-1792828800-1792861200@gardencreek.nbed.ca
SUMMARY:Library Books to be returned
DESCRIPTION:
URL:https://gardencreek.nbed.ca/calendar/library-books-to-be-returned/2026-10-24/
END:VEVENT
BEGIN:VEVENT
DTSTART;TZID=America/Moncton:20261025T080000
DTEND;TZID=America/Moncton:20261025T170000
DTSTAMP:20260423T220335
CREATED:20240529T132922Z
LAST-MODIFIED:20240529T132925Z
UID:10001829-1792915200-1792947600@gardencreek.nbed.ca
SUMMARY:Library Books to be returned
DESCRIPTION:
URL:https://gardencreek.nbed.ca/calendar/library-books-to-be-returned/2026-10-25/
END:VEVENT
BEGIN:VEVENT
DTSTART;TZID=America/Moncton:20261026T080000
DTEND;TZID=America/Moncton:20261026T170000
DTSTAMP:20260423T220335
CREATED:20240529T132922Z
LAST-MODIFIED:20240529T132925Z
UID:10001830-1793001600-1793034000@gardencreek.nbed.ca
SUMMARY:Library Books to be returned
DESCRIPTION:
URL:https://gardencreek.nbed.ca/calendar/library-books-to-be-returned/2026-10-26/
END:VEVENT
BEGIN:VEVENT
DTSTART;TZID=America/Moncton:20261027T080000
DTEND;TZID=America/Moncton:20261027T170000
DTSTAMP:20260423T220335
CREATED:20240529T132922Z
LAST-MODIFIED:20240529T132925Z
UID:10001831-1793088000-1793120400@gardencreek.nbed.ca
SUMMARY:Library Books to be returned
DESCRIPTION:
URL:https://gardencreek.nbed.ca/calendar/library-books-to-be-returned/2026-10-27/
END:VEVENT
BEGIN:VEVENT
DTSTART;TZID=America/Moncton:20261028T080000
DTEND;TZID=America/Moncton:20261028T170000
DTSTAMP:20260423T220335
CREATED:20240529T132922Z
LAST-MODIFIED:20240529T132925Z
UID:10001832-1793174400-1793206800@gardencreek.nbed.ca
SUMMARY:Library Books to be returned
DESCRIPTION:
URL:https://gardencreek.nbed.ca/calendar/library-books-to-be-returned/2026-10-28/
END:VEVENT
BEGIN:VEVENT
DTSTART;TZID=America/Moncton:20261029T080000
DTEND;TZID=America/Moncton:20261029T170000
DTSTAMP:20260423T220335
CREATED:20240529T132922Z
LAST-MODIFIED:20240529T132925Z
UID:10001833-1793260800-1793293200@gardencreek.nbed.ca
SUMMARY:Library Books to be returned
DESCRIPTION:
URL:https://gardencreek.nbed.ca/calendar/library-books-to-be-returned/2026-10-29/
END:VEVENT
BEGIN:VEVENT
DTSTART;TZID=America/Moncton:20261030T080000
DTEND;TZID=America/Moncton:20261030T170000
DTSTAMP:20260423T220335
CREATED:20240529T132922Z
LAST-MODIFIED:20240529T132925Z
UID:10001834-1793347200-1793379600@gardencreek.nbed.ca
SUMMARY:Library Books to be returned
DESCRIPTION:
URL:https://gardencreek.nbed.ca/calendar/library-books-to-be-returned/2026-10-30/
END:VEVENT
BEGIN:VEVENT
DTSTART;TZID=America/Moncton:20261031T080000
DTEND;TZID=America/Moncton:20261031T170000
DTSTAMP:20260423T220335
CREATED:20240529T132922Z
LAST-MODIFIED:20240529T132925Z
UID:10001835-1793433600-1793466000@gardencreek.nbed.ca
SUMMARY:Library Books to be returned
DESCRIPTION:
URL:https://gardencreek.nbed.ca/calendar/library-books-to-be-returned/2026-10-31/
END:VEVENT
BEGIN:VEVENT
DTSTART;TZID=America/Moncton:20261101T080000
DTEND;TZID=America/Moncton:20261101T170000
DTSTAMP:20260423T220335
CREATED:20240529T132922Z
LAST-MODIFIED:20240529T132925Z
UID:10001836-1793520000-1793552400@gardencreek.nbed.ca
SUMMARY:Library Books to be returned
DESCRIPTION:
URL:https://gardencreek.nbed.ca/calendar/library-books-to-be-returned/2026-11-01/
END:VEVENT
BEGIN:VEVENT
DTSTART;TZID=America/Moncton:20261102T080000
DTEND;TZID=America/Moncton:20261102T170000
DTSTAMP:20260423T220335
CREATED:20240529T132922Z
LAST-MODIFIED:20240529T132925Z
UID:10001837-1793606400-1793638800@gardencreek.nbed.ca
SUMMARY:Library Books to be returned
DESCRIPTION:
URL:https://gardencreek.nbed.ca/calendar/library-books-to-be-returned/2026-11-02/
END:VEVENT
BEGIN:VEVENT
DTSTART;TZID=America/Moncton:20261103T080000
DTEND;TZID=America/Moncton:20261103T170000
DTSTAMP:20260423T220335
CREATED:20240529T132922Z
LAST-MODIFIED:20240529T132925Z
UID:10001838-1793692800-1793725200@gardencreek.nbed.ca
SUMMARY:Library Books to be returned
DESCRIPTION:
URL:https://gardencreek.nbed.ca/calendar/library-books-to-be-returned/2026-11-03/
END:VEVENT
BEGIN:VEVENT
DTSTART;TZID=America/Moncton:20261104T080000
DTEND;TZID=America/Moncton:20261104T170000
DTSTAMP:20260423T220335
CREATED:20240529T132922Z
LAST-MODIFIED:20240529T132925Z
UID:10001839-1793779200-1793811600@gardencreek.nbed.ca
SUMMARY:Library Books to be returned
DESCRIPTION:
URL:https://gardencreek.nbed.ca/calendar/library-books-to-be-returned/2026-11-04/
END:VEVENT
BEGIN:VEVENT
DTSTART;TZID=America/Moncton:20261105T080000
DTEND;TZID=America/Moncton:20261105T170000
DTSTAMP:20260423T220335
CREATED:20240529T132922Z
LAST-MODIFIED:20240529T132925Z
UID:10001840-1793865600-1793898000@gardencreek.nbed.ca
SUMMARY:Library Books to be returned
DESCRIPTION:
URL:https://gardencreek.nbed.ca/calendar/library-books-to-be-returned/2026-11-05/
END:VEVENT
BEGIN:VEVENT
DTSTART;TZID=America/Moncton:20261106T080000
DTEND;TZID=America/Moncton:20261106T170000
DTSTAMP:20260423T220335
CREATED:20240529T132922Z
LAST-MODIFIED:20240529T132925Z
UID:10001841-1793952000-1793984400@gardencreek.nbed.ca
SUMMARY:Library Books to be returned
DESCRIPTION:
URL:https://gardencreek.nbed.ca/calendar/library-books-to-be-returned/2026-11-06/
END:VEVENT
BEGIN:VEVENT
DTSTART;TZID=America/Moncton:20261107T080000
DTEND;TZID=America/Moncton:20261107T170000
DTSTAMP:20260423T220335
CREATED:20240529T132922Z
LAST-MODIFIED:20240529T132925Z
UID:10001842-1794038400-1794070800@gardencreek.nbed.ca
SUMMARY:Library Books to be returned
DESCRIPTION:
URL:https://gardencreek.nbed.ca/calendar/library-books-to-be-returned/2026-11-07/
END:VEVENT
BEGIN:VEVENT
DTSTART;TZID=America/Moncton:20261108T080000
DTEND;TZID=America/Moncton:20261108T170000
DTSTAMP:20260423T220335
CREATED:20240529T132922Z
LAST-MODIFIED:20240529T132925Z
UID:10001843-1794124800-1794157200@gardencreek.nbed.ca
SUMMARY:Library Books to be returned
DESCRIPTION:
URL:https://gardencreek.nbed.ca/calendar/library-books-to-be-returned/2026-11-08/
END:VEVENT
BEGIN:VEVENT
DTSTART;TZID=America/Moncton:20261109T080000
DTEND;TZID=America/Moncton:20261109T170000
DTSTAMP:20260423T220335
CREATED:20240529T132922Z
LAST-MODIFIED:20240529T132925Z
UID:10001844-1794211200-1794243600@gardencreek.nbed.ca
SUMMARY:Library Books to be returned
DESCRIPTION:
URL:https://gardencreek.nbed.ca/calendar/library-books-to-be-returned/2026-11-09/
END:VEVENT
BEGIN:VEVENT
DTSTART;TZID=America/Moncton:20261110T080000
DTEND;TZID=America/Moncton:20261110T170000
DTSTAMP:20260423T220335
CREATED:20240529T132922Z
LAST-MODIFIED:20240529T132925Z
UID:10001845-1794297600-1794330000@gardencreek.nbed.ca
SUMMARY:Library Books to be returned
DESCRIPTION:
URL:https://gardencreek.nbed.ca/calendar/library-books-to-be-returned/2026-11-10/
END:VEVENT
BEGIN:VEVENT
DTSTART;TZID=America/Moncton:20261111T080000
DTEND;TZID=America/Moncton:20261111T170000
DTSTAMP:20260423T220335
CREATED:20240529T132922Z
LAST-MODIFIED:20240529T132925Z
UID:10001846-1794384000-1794416400@gardencreek.nbed.ca
SUMMARY:Library Books to be returned
DESCRIPTION:
URL:https://gardencreek.nbed.ca/calendar/library-books-to-be-returned/2026-11-11/
END:VEVENT
BEGIN:VEVENT
DTSTART;TZID=America/Moncton:20261112T080000
DTEND;TZID=America/Moncton:20261112T170000
DTSTAMP:20260423T220335
CREATED:20240529T132922Z
LAST-MODIFIED:20240529T132925Z
UID:10001847-1794470400-1794502800@gardencreek.nbed.ca
SUMMARY:Library Books to be returned
DESCRIPTION:
URL:https://gardencreek.nbed.ca/calendar/library-books-to-be-returned/2026-11-12/
END:VEVENT
BEGIN:VEVENT
DTSTART;TZID=America/Moncton:20261113T080000
DTEND;TZID=America/Moncton:20261113T170000
DTSTAMP:20260423T220335
CREATED:20240529T132922Z
LAST-MODIFIED:20240529T132925Z
UID:10001848-1794556800-1794589200@gardencreek.nbed.ca
SUMMARY:Library Books to be returned
DESCRIPTION:
URL:https://gardencreek.nbed.ca/calendar/library-books-to-be-returned/2026-11-13/
END:VEVENT
BEGIN:VEVENT
DTSTART;TZID=America/Moncton:20261114T080000
DTEND;TZID=America/Moncton:20261114T170000
DTSTAMP:20260423T220335
CREATED:20240529T132922Z
LAST-MODIFIED:20240529T132925Z
UID:10001849-1794643200-1794675600@gardencreek.nbed.ca
SUMMARY:Library Books to be returned
DESCRIPTION:
URL:https://gardencreek.nbed.ca/calendar/library-books-to-be-returned/2026-11-14/
END:VEVENT
BEGIN:VEVENT
DTSTART;TZID=America/Moncton:20261115T080000
DTEND;TZID=America/Moncton:20261115T170000
DTSTAMP:20260423T220335
CREATED:20240529T132922Z
LAST-MODIFIED:20240529T132925Z
UID:10001850-1794729600-1794762000@gardencreek.nbed.ca
SUMMARY:Library Books to be returned
DESCRIPTION:
URL:https://gardencreek.nbed.ca/calendar/library-books-to-be-returned/2026-11-15/
END:VEVENT
BEGIN:VEVENT
DTSTART;TZID=America/Moncton:20261116T080000
DTEND;TZID=America/Moncton:20261116T170000
DTSTAMP:20260423T220335
CREATED:20240529T132922Z
LAST-MODIFIED:20240529T132925Z
UID:10001851-1794816000-1794848400@gardencreek.nbed.ca
SUMMARY:Library Books to be returned
DESCRIPTION:
URL:https://gardencreek.nbed.ca/calendar/library-books-to-be-returned/2026-11-16/
END:VEVENT
BEGIN:VEVENT
DTSTART;TZID=America/Moncton:20261117T080000
DTEND;TZID=America/Moncton:20261117T170000
DTSTAMP:20260423T220335
CREATED:20240529T132922Z
LAST-MODIFIED:20240529T132925Z
UID:10001852-1794902400-1794934800@gardencreek.nbed.ca
SUMMARY:Library Books to be returned
DESCRIPTION:
URL:https://gardencreek.nbed.ca/calendar/library-books-to-be-returned/2026-11-17/
END:VEVENT
BEGIN:VEVENT
DTSTART;TZID=America/Moncton:20261118T080000
DTEND;TZID=America/Moncton:20261118T170000
DTSTAMP:20260423T220335
CREATED:20240529T132922Z
LAST-MODIFIED:20240529T132925Z
UID:10001853-1794988800-1795021200@gardencreek.nbed.ca
SUMMARY:Library Books to be returned
DESCRIPTION:
URL:https://gardencreek.nbed.ca/calendar/library-books-to-be-returned/2026-11-18/
END:VEVENT
BEGIN:VEVENT
DTSTART;TZID=America/Moncton:20261119T080000
DTEND;TZID=America/Moncton:20261119T170000
DTSTAMP:20260423T220335
CREATED:20240529T132922Z
LAST-MODIFIED:20240529T132925Z
UID:10001854-1795075200-1795107600@gardencreek.nbed.ca
SUMMARY:Library Books to be returned
DESCRIPTION:
URL:https://gardencreek.nbed.ca/calendar/library-books-to-be-returned/2026-11-19/
END:VEVENT
BEGIN:VEVENT
DTSTART;TZID=America/Moncton:20261120T080000
DTEND;TZID=America/Moncton:20261120T170000
DTSTAMP:20260423T220335
CREATED:20240529T132922Z
LAST-MODIFIED:20240529T132925Z
UID:10001855-1795161600-1795194000@gardencreek.nbed.ca
SUMMARY:Library Books to be returned
DESCRIPTION:
URL:https://gardencreek.nbed.ca/calendar/library-books-to-be-returned/2026-11-20/
END:VEVENT
BEGIN:VEVENT
DTSTART;TZID=America/Moncton:20261121T080000
DTEND;TZID=America/Moncton:20261121T170000
DTSTAMP:20260423T220335
CREATED:20240529T132922Z
LAST-MODIFIED:20240529T132925Z
UID:10001856-1795248000-1795280400@gardencreek.nbed.ca
SUMMARY:Library Books to be returned
DESCRIPTION:
URL:https://gardencreek.nbed.ca/calendar/library-books-to-be-returned/2026-11-21/
END:VEVENT
BEGIN:VEVENT
DTSTART;TZID=America/Moncton:20261122T080000
DTEND;TZID=America/Moncton:20261122T170000
DTSTAMP:20260423T220335
CREATED:20240529T132922Z
LAST-MODIFIED:20240529T132925Z
UID:10001857-1795334400-1795366800@gardencreek.nbed.ca
SUMMARY:Library Books to be returned
DESCRIPTION:
URL:https://gardencreek.nbed.ca/calendar/library-books-to-be-returned/2026-11-22/
END:VEVENT
END:VCALENDAR